BEGIN:VCALENDAR
VERSION:2.0
PRODID:-//Del Ray Artisans - ECPv6.15.20//NONSGML v1.0//EN
CALSCALE:GREGORIAN
METHOD:PUBLISH
X-WR-CALNAME:Del Ray Artisans
X-ORIGINAL-URL:https://delrayartisans.org
X-WR-CALDESC:Events for Del Ray Artisans
REFRESH-INTERVAL;VALUE=DURATION:PT1H
X-Robots-Tag:noindex
X-PUBLISHED-TTL:PT1H
BEGIN:VTIMEZONE
TZID:America/New_York
BEGIN:DAYLIGHT
TZOFFSETFROM:-0500
TZOFFSETTO:-0400
TZNAME:EDT
DTSTART:20220313T070000
END:DAYLIGHT
BEGIN:STANDARD
TZOFFSETFROM:-0400
TZOFFSETTO:-0500
TZNAME:EST
DTSTART:20221106T060000
END:STANDARD
BEGIN:DAYLIGHT
TZOFFSETFROM:-0500
TZOFFSETTO:-0400
TZNAME:EDT
DTSTART:20230312T070000
END:DAYLIGHT
BEGIN:STANDARD
TZOFFSETFROM:-0400
TZOFFSETTO:-0500
TZNAME:EST
DTSTART:20231105T060000
END:STANDARD
BEGIN:DAYLIGHT
TZOFFSETFROM:-0500
TZOFFSETTO:-0400
TZNAME:EDT
DTSTART:20240310T070000
END:DAYLIGHT
BEGIN:STANDARD
TZOFFSETFROM:-0400
TZOFFSETTO:-0500
TZNAME:EST
DTSTART:20241103T060000
END:STANDARD
BEGIN:DAYLIGHT
TZOFFSETFROM:-0500
TZOFFSETTO:-0400
TZNAME:EDT
DTSTART:20250309T070000
END:DAYLIGHT
BEGIN:STANDARD
TZOFFSETFROM:-0400
TZOFFSETTO:-0500
TZNAME:EST
DTSTART:20251102T060000
END:STANDARD
END:VTIMEZONE
BEGIN:VEVENT
DTSTART;VALUE=DATE:20231224
DTEND;VALUE=DATE:20240104
DTSTAMP:20260425T125903
CREATED:20230330T220241Z
LAST-MODIFIED:20230919T183106Z
UID:10000629-1703376000-1704326399@delrayartisans.org
SUMMARY:Gallery Closed for the Holidays
DESCRIPTION:Happy Holidays!\nThe gallery is closed to the public from December 24\, 2023 through January 3\, 2024.
URL:https://delrayartisans.org/event/closed-for-holidays-2023/
LOCATION:Del Ray Artisans Gallery\, 2704 Mount Vernon Avenue\, Alexandria\, VA\, 22301\, United States
CATEGORIES:Administrative
ATTACH;FMTTYPE=image/jpeg:https://delrayartisans.org/wp-content/uploads/2016/05/gallery-exterior-autumn-look.jpg
END:VEVENT
BEGIN:VEVENT
DTSTART;TZID=America/New_York:20240102T170000
DTEND;TZID=America/New_York:20240102T190000
DTSTAMP:20260425T125903
CREATED:20231211T150700Z
LAST-MODIFIED:20231211T150700Z
UID:10001325-1704214800-1704222000@delrayartisans.org
SUMMARY:"Visions of Resilience: Art for Climate Justice" Artwork Drop Off
DESCRIPTION:Time for artists to drop off their accepted artwork entries for the upcoming exhibit\, Visions of Resilience: Art for Climate Justice. \nArtwork must be ready to hang (with screw eyes and wire) or ready for display (with mounting and/or a display stand if necessary). Review the standard artwork presentation guidelines and the Call for Entry for show specific information. Contact the curator with any questions.
URL:https://delrayartisans.org/event/visions-of-resilience-drop-off-2/
LOCATION:Del Ray Artisans Gallery\, 2704 Mount Vernon Avenue\, Alexandria\, VA\, 22301\, United States
CATEGORIES:Administrative
ORGANIZER;CN="Camille Kouyoumdjian":MAILTO:ckouyoumdjianart@gmail.com
END:VEVENT
BEGIN:VEVENT
DTSTART;TZID=America/New_York:20240128T120000
DTEND;TZID=America/New_York:20240128T180000
DTSTAMP:20260425T125903
CREATED:20231109T201047Z
LAST-MODIFIED:20231109T204014Z
UID:10001238-1706443200-1706464800@delrayartisans.org
SUMMARY:Closed to the Public: Artist Appointments Only
DESCRIPTION:The gallery is closed to the public today while the exhibit is taken down. This time is reserved for artists to pick up and drop off artwork. Contact the outgoing or incoming curators with any questions (contact info in the call for entry). \nUnsold Artwork Pick Up\nTime for artists to pick up their unsold artwork from the closing exhibit\, Visions of Resilience: Art for Climate Justice.\n \nAccepted Artwork Drop Off\nTime for artists to drop off their accepted artwork entries for the upcoming exhibit\, Visible Touch: A Look at Texture. Artwork must be ready to hang (with screw eyes and wire) or ready for display (with mounting and/or a display stand if necessary). Review the standard artwork presentation guidelines and the call for entry for show specific information.
URL:https://delrayartisans.org/event/jan-feb-2024-artist-appointments/
LOCATION:Del Ray Artisans Gallery\, 2704 Mount Vernon Avenue\, Alexandria\, VA\, 22301\, United States
CATEGORIES:Administrative
END:VEVENT
BEGIN:VEVENT
DTSTART;TZID=America/New_York:20240131T120000
DTEND;TZID=America/New_York:20240131T170000
DTSTAMP:20260425T125903
CREATED:20240122T163012Z
LAST-MODIFIED:20240122T163012Z
UID:10001344-1706702400-1706720400@delrayartisans.org
SUMMARY:Time Reserved for Facilities Director
DESCRIPTION:The Facilities Director will meet with City staff in the pool area.
URL:https://delrayartisans.org/event/facilities-january-31-2024/
LOCATION:Del Ray Artisans Gallery\, 2704 Mount Vernon Avenue\, Alexandria\, VA\, 22301\, United States
CATEGORIES:Administrative
ORGANIZER;CN="Facilities Director":MAILTO:Facilities@DelRayArtisans.org
END:VEVENT
END:VCALENDAR