BEGIN:VCALENDAR
VERSION:2.0
PRODID:-//Del Ray Artisans - ECPv6.15.20//NONSGML v1.0//EN
CALSCALE:GREGORIAN
METHOD:PUBLISH
X-WR-CALNAME:Del Ray Artisans
X-ORIGINAL-URL:https://delrayartisans.org
X-WR-CALDESC:Events for Del Ray Artisans
REFRESH-INTERVAL;VALUE=DURATION:PT1H
X-Robots-Tag:noindex
X-PUBLISHED-TTL:PT1H
BEGIN:VTIMEZONE
TZID:America/New_York
BEGIN:DAYLIGHT
TZOFFSETFROM:-0500
TZOFFSETTO:-0400
TZNAME:EDT
DTSTART:20220313T070000
END:DAYLIGHT
BEGIN:STANDARD
TZOFFSETFROM:-0400
TZOFFSETTO:-0500
TZNAME:EST
DTSTART:20221106T060000
END:STANDARD
BEGIN:DAYLIGHT
TZOFFSETFROM:-0500
TZOFFSETTO:-0400
TZNAME:EDT
DTSTART:20230312T070000
END:DAYLIGHT
BEGIN:STANDARD
TZOFFSETFROM:-0400
TZOFFSETTO:-0500
TZNAME:EST
DTSTART:20231105T060000
END:STANDARD
BEGIN:DAYLIGHT
TZOFFSETFROM:-0500
TZOFFSETTO:-0400
TZNAME:EDT
DTSTART:20240310T070000
END:DAYLIGHT
BEGIN:STANDARD
TZOFFSETFROM:-0400
TZOFFSETTO:-0500
TZNAME:EST
DTSTART:20241103T060000
END:STANDARD
END:VTIMEZONE
BEGIN:VEVENT
DTSTART;VALUE=DATE:20231123
DTEND;VALUE=DATE:20231124
DTSTAMP:20260425T192046
CREATED:20230330T215207Z
LAST-MODIFIED:20231121T151625Z
UID:10000628-1700697600-1700783999@delrayartisans.org
SUMMARY:Gallery Closed on Thanksgiving
DESCRIPTION:Have a Happy Thanksgiving!\nThe gallery is closed on Thanksgiving Day\, but will be open on Friday from 12-9pm\, Saturday from 12-6pm\, and Sunday from 12-6pm. This is the final weekend of the Housemates art exhibit. \nNext month join us for our 28th Annual Fine Art & Fine Craft Holiday Market. Market hours are Fridays 6-9pm\, Saturdays & Sundays 11am-6pm from December 1-23\, 2023. \n\nArtwork credit: “Kitchen Casualty” by M. Reday Cook
URL:https://delrayartisans.org/event/closed-thanksgiving-2023/
LOCATION:Del Ray Artisans Gallery\, 2704 Mount Vernon Avenue\, Alexandria\, VA\, 22301\, United States
CATEGORIES:Administrative
ATTACH;FMTTYPE=image/jpeg:https://delrayartisans.org/wp-content/uploads/2016/09/Kitchen-Casualty-by-Michele-Reday-Cook.jpg
END:VEVENT
BEGIN:VEVENT
DTSTART;TZID=America/New_York:20231126T180000
DTEND;TZID=America/New_York:20231126T200000
DTSTAMP:20260425T192046
CREATED:20230324T195107Z
LAST-MODIFIED:20230821T011615Z
UID:10000149-1701021600-1701028800@delrayartisans.org
SUMMARY:"Housemates" Artwork Pick Up
DESCRIPTION:Time for artists to pick up their unsold artwork from the closing show\, Housemates.\n \nQuestions? Contact the curator Robyn Seaton McGarry at robynmcgarry15@gmail.com.
URL:https://delrayartisans.org/event/housemates-artwork-pick-up/
LOCATION:Del Ray Artisans Gallery\, 2704 Mount Vernon Avenue\, Alexandria\, VA\, 22301\, United States
CATEGORIES:Administrative
ATTACH;FMTTYPE=image/jpeg:https://delrayartisans.org/wp-content/uploads/1992/12/delrayartisans-gallery-april2021.jpg
ORGANIZER;CN="Robyn Seaton McGarry":MAILTO:robynmcgarry15@gmail.com
END:VEVENT
BEGIN:VEVENT
DTSTART;TZID=America/New_York:20231130T183000
DTEND;TZID=America/New_York:20231201T173000
DTSTAMP:20260425T192046
CREATED:20231113T161639Z
LAST-MODIFIED:20231113T161849Z
UID:10001266-1701369000-1701451800@delrayartisans.org
SUMMARY:Reserved for Holiday Market Artist Installation
DESCRIPTION:This time is reserved for Holiday Market artist installations. Contact the market coordinators to reserve a time slot.
URL:https://delrayartisans.org/event/holiday-market-2023-setup/2023-11-30/
LOCATION:Del Ray Artisans Gallery\, 2704 Mount Vernon Avenue\, Alexandria\, VA\, 22301\, United States
CATEGORIES:Administrative
ORGANIZER;CN="Stephen Lally":MAILTO:slallypottery@gmail.com
END:VEVENT
END:VCALENDAR