BEGIN:VCALENDAR
VERSION:2.0
PRODID:-//Del Ray Artisans - ECPv6.15.20//NONSGML v1.0//EN
CALSCALE:GREGORIAN
METHOD:PUBLISH
X-ORIGINAL-URL:https://delrayartisans.org
X-WR-CALDESC:Events for Del Ray Artisans
REFRESH-INTERVAL;VALUE=DURATION:PT1H
X-Robots-Tag:noindex
X-PUBLISHED-TTL:PT1H
BEGIN:VTIMEZONE
TZID:America/New_York
BEGIN:DAYLIGHT
TZOFFSETFROM:-0500
TZOFFSETTO:-0400
TZNAME:EDT
DTSTART:20250309T070000
END:DAYLIGHT
BEGIN:STANDARD
TZOFFSETFROM:-0400
TZOFFSETTO:-0500
TZNAME:EST
DTSTART:20251102T060000
END:STANDARD
BEGIN:DAYLIGHT
TZOFFSETFROM:-0500
TZOFFSETTO:-0400
TZNAME:EDT
DTSTART:20260308T070000
END:DAYLIGHT
BEGIN:STANDARD
TZOFFSETFROM:-0400
TZOFFSETTO:-0500
TZNAME:EST
DTSTART:20261101T060000
END:STANDARD
BEGIN:DAYLIGHT
TZOFFSETFROM:-0500
TZOFFSETTO:-0400
TZNAME:EDT
DTSTART:20270314T070000
END:DAYLIGHT
BEGIN:STANDARD
TZOFFSETFROM:-0400
TZOFFSETTO:-0500
TZNAME:EST
DTSTART:20271107T060000
END:STANDARD
END:VTIMEZONE
BEGIN:VEVENT
DTSTART;VALUE=DATE:20260905
DTEND;VALUE=DATE:20260906
DTSTAMP:20260423T050751
CREATED:20250722T134411Z
LAST-MODIFIED:20260412T153915Z
UID:10001916-1788566400-1788652799@delrayartisans.org
SUMMARY:Flora\, Fauna\, Fantastica at VCA Alexandria (9/22/2025 – 9/5/2026)
DESCRIPTION:Flora\, Fauna\, Fantastica Art Exhibit at VCA Alexandria Animal Hospital\nSeptember 22\, 2025 – September 5\, 2026\nPhoto Album | Online Store \nThe Flora\, Fauna\, Fantastica exhibit features two-dimensional artwork by Del Ray Artisans members at VCA Alexandria Animal Hospital (2660 Duke Street\, Alexandria\, VA 22314) in a variety of media and styles\, from the traditional to the surreal\, showcasing nature. \nCome see the exhibit September 22\, 2025 through September 5\, 2026. The animal hospital is open Monday-Friday 8am-7pm\, Saturday 8am-6pm. Due to client needs\, some areas may not be available for immediate viewing. Visitors must let the front desk know they are there to view the art exhibit. \nThe exhibit is a Del Ray Artisans’ Gallery Without Walls exhibit in partnership with VCA Alexandria. Del Ray Artisans\, a 501(3)(c) nonprofit organization whose mission is to promote art for the benefit of artists and the community. \nFor more information\, please contact the curators Liz Martinez (GWW@DelRayArtisans.org) and Candace Flanagan (Candace.Flanagan@vca.org). \n“The Usual Trail” by A. Charles Warren\n“Hairy Coo Kiss” by Rod Whyte
URL:https://delrayartisans.org/event/flora-fauna-fantastica/
LOCATION:VCA Alexandria Animal Hospital\, 2660 Duke St\, Alexandria\, VA\, 22314\, United States
CATEGORIES:Art Exhibit,Gallery Without Walls
ATTACH;FMTTYPE=image/jpeg:https://delrayartisans.org/wp-content/uploads/2026/04/The-Usual-Trail-by-A-Charles-Warren.jpg
ORGANIZER;CN="Liz Martinez%2C Gallery Without Walls Curator":MAILTO:GWW@DelRayArtisans.org
END:VEVENT
END:VCALENDAR