BEGIN:VCALENDAR
VERSION:2.0
PRODID:-//Del Ray Artisans - ECPv6.15.20//NONSGML v1.0//EN
CALSCALE:GREGORIAN
METHOD:PUBLISH
X-ORIGINAL-URL:https://delrayartisans.org
X-WR-CALDESC:Events for Del Ray Artisans
REFRESH-INTERVAL;VALUE=DURATION:PT1H
X-Robots-Tag:noindex
X-PUBLISHED-TTL:PT1H
BEGIN:VTIMEZONE
TZID:America/New_York
BEGIN:DAYLIGHT
TZOFFSETFROM:-0500
TZOFFSETTO:-0400
TZNAME:EDT
DTSTART:20250309T070000
END:DAYLIGHT
BEGIN:STANDARD
TZOFFSETFROM:-0400
TZOFFSETTO:-0500
TZNAME:EST
DTSTART:20251102T060000
END:STANDARD
BEGIN:DAYLIGHT
TZOFFSETFROM:-0500
TZOFFSETTO:-0400
TZNAME:EDT
DTSTART:20260308T070000
END:DAYLIGHT
BEGIN:STANDARD
TZOFFSETFROM:-0400
TZOFFSETTO:-0500
TZNAME:EST
DTSTART:20261101T060000
END:STANDARD
BEGIN:DAYLIGHT
TZOFFSETFROM:-0500
TZOFFSETTO:-0400
TZNAME:EDT
DTSTART:20270314T070000
END:DAYLIGHT
BEGIN:STANDARD
TZOFFSETFROM:-0400
TZOFFSETTO:-0500
TZNAME:EST
DTSTART:20271107T060000
END:STANDARD
END:VTIMEZONE
BEGIN:VEVENT
DTSTART;TZID=America/New_York:20260810T140000
DTEND;TZID=America/New_York:20260810T160000
DTSTAMP:20260423T015745
CREATED:20251115T003538Z
LAST-MODIFIED:20260101T182511Z
UID:10002113-1786370400-1786377600@delrayartisans.org
SUMMARY:Partners in Art (RSVP in Advance)
DESCRIPTION:Need support reaching your art related goals? Join this collegial group of artists to share your goals and get feedback on artwork. Monthly meetings include discussions on exhibit opportunities\, the creative process and the local art scene. Artist can bring 1-2 works – complete or in progress – for feedback. All skill levels and media welcome. \nThis program is free\, but donations ($1-3) are greatly appreciated. \nRSVP to Mila Mateu (milaenartes@gmail.com) and Suzanne Tillman (zannet@verizon.net) for details before the day of the meeting. \nView Upcoming Meetings
URL:https://delrayartisans.org/event/partners-in-art-2026/2026-08-10/
LOCATION:Del Ray Artisans Gallery\, 2704 Mount Vernon Avenue\, Alexandria\, VA\, 22301\, United States
CATEGORIES:Partners in Art,Program
ATTACH;FMTTYPE=image/jpeg:https://delrayartisans.org/wp-content/uploads/2018/05/Partners-in-Art.jpg
ORGANIZER;CN="Milagros Mateu":MAILTO:milagros.mateu@gmail.com
END:VEVENT
BEGIN:VEVENT
DTSTART;TZID=America/New_York:20260810T235900
DTEND;TZID=America/New_York:20260810T235900
DTSTAMP:20260423T015745
CREATED:20260123T231131Z
LAST-MODIFIED:20260123T231328Z
UID:10002174-1786406340-1786406340@delrayartisans.org
SUMMARY:"Celebrating Hispanic Heritage: Voices Through Visuals" Call for Entry Deadline
DESCRIPTION:Call for Entry ~ Open to area artists\nCelebrating Hispanic Heritage: Voices Through Visuals\nExhibit Dates: September 4–26\, 2026\nDigital entry deadline: Monday\, August 10\, 2026 by midnight\nIn celebration of Hispanic Heritage Month (September 15–October 15)\, honor the rich culture\, traditions\, resilience\, and artistic contributions of Hispanic and Latino communities through a diverse collection of works by emerging and established artists across various mediums. \nThe exhibit is open to all area artists. Del Ray Artisans members pay a discounted entry fee. \nEntry form coming soon.
URL:https://delrayartisans.org/event/voices-through-visuals-cfe-deadline/
LOCATION:Online
CATEGORIES:Entry Deadline
ORGANIZER;CN="Laura Ramirez-Drain":MAILTO:lauraart2024@gmail.com
END:VEVENT
END:VCALENDAR