BEGIN:VCALENDAR
VERSION:2.0
PRODID:-//Del Ray Artisans - ECPv6.15.20//NONSGML v1.0//EN
CALSCALE:GREGORIAN
METHOD:PUBLISH
X-WR-CALNAME:Del Ray Artisans
X-ORIGINAL-URL:https://delrayartisans.org
X-WR-CALDESC:Events for Del Ray Artisans
REFRESH-INTERVAL;VALUE=DURATION:PT1H
X-Robots-Tag:noindex
X-PUBLISHED-TTL:PT1H
BEGIN:VTIMEZONE
TZID:America/New_York
BEGIN:DAYLIGHT
TZOFFSETFROM:-0500
TZOFFSETTO:-0400
TZNAME:EDT
DTSTART:20250309T070000
END:DAYLIGHT
BEGIN:STANDARD
TZOFFSETFROM:-0400
TZOFFSETTO:-0500
TZNAME:EST
DTSTART:20251102T060000
END:STANDARD
BEGIN:DAYLIGHT
TZOFFSETFROM:-0500
TZOFFSETTO:-0400
TZNAME:EDT
DTSTART:20260308T070000
END:DAYLIGHT
BEGIN:STANDARD
TZOFFSETFROM:-0400
TZOFFSETTO:-0500
TZNAME:EST
DTSTART:20261101T060000
END:STANDARD
BEGIN:DAYLIGHT
TZOFFSETFROM:-0500
TZOFFSETTO:-0400
TZNAME:EDT
DTSTART:20270314T070000
END:DAYLIGHT
BEGIN:STANDARD
TZOFFSETFROM:-0400
TZOFFSETTO:-0500
TZNAME:EST
DTSTART:20271107T060000
END:STANDARD
END:VTIMEZONE
BEGIN:VEVENT
DTSTART;VALUE=DATE:20260501
DTEND;VALUE=DATE:20260524
DTSTAMP:20260422T214934
CREATED:20260123T225416Z
LAST-MODIFIED:20260421T150407Z
UID:10002170-1777593600-1779580799@delrayartisans.org
SUMMARY:Alexandria City High School 2026 Titan Student Art Exhibition at Del Ray Artisans Gallery
DESCRIPTION:Alexandria City High School 2026 Titan Student Art Exhibition\nMay 1–23\, 2026\nOpening Reception: Friday\, May 1 from 7–9pm\nDiscover Alexandria’s next generation of local legends at the Alexandria City High School (ACHS) 2026 Titan Student Art Exhibition. In this showcase\, Del Ray Artisans’ gallery offers you to experience student creativity firsthand. Stop by to support and see the creative direction behind the artists of tomorrow. This annual collaboration\, bridging our school and community through the arts\, runs from May 1 through May 23\, 2026\, reflecting the vibrant spirit and diverse perspectives of our youth and featuring curated works spanning a wide range of media\, including drawing\, painting\, ceramics\, mixed media\, digital media\, and photography. \nThe exhibition kicks off with a celebratory opening reception on Fri.\, May 1\, between 7–9 p.m. The community is invited to meet the curators: Del Ray Artisans’ Youth Programs Facilitator (Viki Walchak)\, ACHS Visual Arts Department teachers (Hannah Brownell\, Tabitha Eller\, Anna Huerta\, Pamela Johnson\, Victoria Krieger\, Lauren Pierson\, and Marisa St. Louis)\, and Career & Technical Education (CTE) teachers (Maria Ivanova and Taki Sidley). Thank you to MCD Mateos McDonald’s for their generous donation for the reception. Mark your calendar or set a reminder through Eventbrite at achs-2026-student-exhibition.eventbrite.com. \nThe evening will be a vibrant celebration of student creativity\, featuring: \n\nMeet the Artists: An opportunity to engage with student creators and some of the ACHS Visual Arts and CTE faculty.\nLive Performances: Chamber music performances led by ACHS Performing Arts teacher\, Kevin Pace.\nFundraising & Fun: The ACHS National Art Honor Society will sell unique student-made items and offer craft activities for all ages to raise funds.  Additionally\, student artists will be on-site offering custom henna tattoos.\nArt Awards: Presentation of the Juror\, ACHS Superintendent Choice\, and Administrator Choice Awards starting at 7:30pm.\n\nThank you to our jurors (Kay Brady\, Courtney Pippin-Mathur\, Ted Reed\, Irby Vinson\, and Diane Waggoner) for their time and dedication to our students. Special shoutout to our Superintendent\, Dr. Melanie Kay-Wyatt\, and Campus Administrators\, Mr. Lance Harrell and Mr. Ashley Carter Sinclair\, for selecting artwork award winners for the ACHS Superintendent and Administrator Choice Awards. We would like to recognize the students\, Rozalia Finkelstein\, for assisting with the press release\, and Joel Montes and Tess Clarke for designing the exhibition showcard and gallery banner. Thank you to the above-mentioned and all who are participating in and contributing to the exhibition’s success\, providing students with the experience and a platform to engage with the Alexandria community. \nSave the dates for our creative programs and register in advance for our workshops in May: \n\nSewing Machine 101 Workshop – May 2: 6–7:30 p.m.\nMindful Acrylic Pour: A Creative Practice in Letting Go – May 3: 10 a.m.–12 p.m.\nDIY Ukulele Workshop – May 3: 6–8 p.m.\nPlaying with Resin Workshop – May 4: 6–9 p.m.\nShrinky Dink Charms Workshop (Ages 14+) – May 6: 6–8 p.m.\nJunk Journaling Workshop – May 10: 10 a.m.–1 p.m.\nApplique for Mending and Decoration – May 17: 10 a.m.–12 p.m.\nNeurographic Art Workshop – Teen Edition! – May 23: 10 a.m.–12 p.m.\n\nPlus don’t miss Del Ray Artisans’ Spring Art Market on Saturday\, May 9\, 9 a.m.–3 p.m. in the Mount Vernon Recreation Center fields adjoining Del Ray Artisans gallery. \nMade possible with support from the City of Alexandria\nThe Alexandria City High School Titan Student Art Exhibition runs May 1-23\, 2026 at Del Ray Artisans gallery in the Colasanto Center\, 2704 Mount Vernon Avenue\, Alexandria\, Virginia 22301. Gallery hours are Thurs. noon–6 p.m. (May 7 noon–9 p.m.)\, Fri. noon–9 p.m.\, Sat. noon–6 p.m.\, and Sun. noon–6 p.m. (closed May 25-June 3). \nThe student exhibition is made possible with support from the City of Alexandria and a generous donation from Genesis Inspiration Foundation. The gallery is free\, open to the public\, and accessible. For more information\, contact the Director of Youth Programs Victoria Walchak at youth@delrayartisans.org and Director of Curating Amy Kitchin Hower at curating@delrayartisans.org. \n\nAlexandria City Public Schools (ACPS) serves more than 16\,300 students who hail from more than 118 countries and speak 127 languages. ACPS has 18 schools\, including two middle schools\, two K-8 schools\, one pre-K school and the internationally recognized Alexandria City High School. ACPS is committed to putting racial equity at the heart of all decisions and ensuring that each and every student succeeds. Visit www.acps.k12.va.us. \nDel Ray Artisans\, founded in 1992\, is a nonprofit organization whose mission is to promote art for the benefit of artists and the community. Del Ray Artisans (DRA) appreciates the continued support from the City of Alexandria\, Alexandria Commission for the Arts\, Virginia Commission for the Arts\, and National Endowment for the Arts. DRA is a 501(c)(3) organization.
URL:https://delrayartisans.org/event/achs-exhibit-2026/
LOCATION:Del Ray Artisans Gallery\, 2704 Mount Vernon Avenue\, Alexandria\, VA\, 22301\, United States
CATEGORIES:Art Exhibit,Del Ray Artisans Gallery
ATTACH;FMTTYPE=image/jpeg:https://delrayartisans.org/wp-content/uploads/ACHS-student-banner-2026-square.jpg
ORGANIZER;CN="Viki Walchak%2C Youth Programs Director":MAILTO:youth@delrayartisans.org
END:VEVENT
BEGIN:VEVENT
DTSTART;TZID=America/New_York:20260517T100000
DTEND;TZID=America/New_York:20260517T120000
DTSTAMP:20260422T214934
CREATED:20260327T185142Z
LAST-MODIFIED:20260401T184512Z
UID:10002221-1779012000-1779019200@delrayartisans.org
SUMMARY:Applique for Mending and Decoration (Register by 5/13)
DESCRIPTION:Instructor: Syd Grossman\nDate/Time: Sunday\, May 17\, 10am to Noon\nCost: $25 per DRA member/$36 per non-member\nClass size: 5-15 participants\n(Register by May 13) \nApplique is the process of applying material to the surface of another material for decoration (or mending!). Learn how to hand-sew patches onto ripped or worn areas\, or to decorate clothes. \nApplique was originally used as a way to strengthen clothing and moved into artistic endeavors with quilting\, banners\, wall hangings and more! This practice transcends cultures and can be found in examples around the world throughout time. \nWe will go through the process of choosing the best fabrics for your item and hand-sew the patches on. The applique patches will be simple\, but examples will be available for how you can create art out of a variety of shapes. \nIdeas for clothing or items to bring are: Shirts with logos you’d like to cover\, pants with wear or rips in the knees\, a jacket you’d like to personalize. \nRegister Now \n\nImage credit: Syd Grossman \n\nSTEAM-tastic @ DRA – Come join us at Del Ray Artisans for interactive classes about Science\, Technology\, Engineering\, Arts and Math (STEAM)\, taught by professionals from each field! Geared toward youth\, each lesson has a short talk or demonstration and a hands-on craft project. Del Ray Artisans’ STEAM-tastic workshops are made possible with support from the City of Alexandria through the FY2026 Annual Arts Program Grant.\n \n\nView other upcoming workshops\, information about the facility\, and policies on the Upcoming Workshops page.
URL:https://delrayartisans.org/event/applique/
LOCATION:Del Ray Artisans Gallery\, 2704 Mount Vernon Avenue\, Alexandria\, VA\, 22301\, United States
CATEGORIES:Program,Workshop
ATTACH;FMTTYPE=image/jpeg:https://delrayartisans.org/wp-content/uploads/2026/03/Syd-Applique.jpg
ORGANIZER;CN="Syd Grossman%2C Radical Sewing Club-ALX":MAILTO:radicalsewingclubalx@pm.me
END:VEVENT
BEGIN:VEVENT
DTSTART;TZID=America/New_York:20260517T140000
DTEND;TZID=America/New_York:20260517T153000
DTSTAMP:20260422T214934
CREATED:20251115T122239Z
LAST-MODIFIED:20251130T212506Z
UID:10002072-1779026400-1779031800@delrayartisans.org
SUMMARY:Live From Your Studio - Connect with fellow DRA artists
DESCRIPTION:Live From Your Studio is a free\, members-only\, virtual gathering where Del Ray Artisans members can connect from their art-making space. This virtual event will take place monthly on the third Sunday of the month (excluding December) over Zoom. Artists are encouraged (but not required) to join from their studios and make art during the session. These events will allow members to paint and create art together\, and forge deeper connections to other members. \nRSVP at least a week before the gathering to help organizers prepare. Zoom connection information will be emailed to you two days before the gathering. If you have any questions\, please contact organizer Laura Flynn Geissel at flynnmail52@proton.me and Membership Director Kara Macek at membership@delrayartisans.org. \nNot a member?  It’s easy to join Del Ray Artisans. Artist ($30-$110) and Patron ($250+) level memberships enjoy exhibition and program privileges. Supporter level memberships ($40/year) do not have exhibition privileges\, but supporters have program privileges and may participate in programs such as this one! \nAlthough this is a free event\, as a nonprofit organization\, donations are always welcome to support our mission of promoting art for the benefit of artists and the community. Donate online or at the gallery. \nRSVP Now
URL:https://delrayartisans.org/event/live-from-your-studio-2026/2026-05-17/
LOCATION:Online
CATEGORIES:Live From Your Studio,Partners in Art,Program
ATTACH;FMTTYPE=image/jpeg:https://delrayartisans.org/wp-content/uploads/2025/10/LiveFromYourStudio.jpg
ORGANIZER;CN="Laura Flynn Geissel":MAILTO:flynnmail52@proton.me
END:VEVENT
END:VCALENDAR