BEGIN:VCALENDAR
VERSION:2.0
PRODID:-//Del Ray Artisans - ECPv6.15.20//NONSGML v1.0//EN
CALSCALE:GREGORIAN
METHOD:PUBLISH
X-WR-CALNAME:Del Ray Artisans
X-ORIGINAL-URL:https://delrayartisans.org
X-WR-CALDESC:Events for Del Ray Artisans
REFRESH-INTERVAL;VALUE=DURATION:PT1H
X-Robots-Tag:noindex
X-PUBLISHED-TTL:PT1H
BEGIN:VTIMEZONE
TZID:America/New_York
BEGIN:DAYLIGHT
TZOFFSETFROM:-0500
TZOFFSETTO:-0400
TZNAME:EDT
DTSTART:20250309T070000
END:DAYLIGHT
BEGIN:STANDARD
TZOFFSETFROM:-0400
TZOFFSETTO:-0500
TZNAME:EST
DTSTART:20251102T060000
END:STANDARD
BEGIN:DAYLIGHT
TZOFFSETFROM:-0500
TZOFFSETTO:-0400
TZNAME:EDT
DTSTART:20260308T070000
END:DAYLIGHT
BEGIN:STANDARD
TZOFFSETFROM:-0400
TZOFFSETTO:-0500
TZNAME:EST
DTSTART:20261101T060000
END:STANDARD
BEGIN:DAYLIGHT
TZOFFSETFROM:-0500
TZOFFSETTO:-0400
TZNAME:EDT
DTSTART:20270314T070000
END:DAYLIGHT
BEGIN:STANDARD
TZOFFSETFROM:-0400
TZOFFSETTO:-0500
TZNAME:EST
DTSTART:20271107T060000
END:STANDARD
END:VTIMEZONE
BEGIN:VEVENT
DTSTART;VALUE=DATE:20260306
DTEND;VALUE=DATE:20260329
DTSTAMP:20260422T231455
CREATED:20251104T194019Z
LAST-MODIFIED:20260305T212525Z
UID:10002030-1772755200-1774742399@delrayartisans.org
SUMMARY:Assembly: Together We Grow at Del Ray Artisans Gallery
DESCRIPTION:Assembly: Together We Grow Art Exhibit\nMarch 6–28\, 2026\nOpening Reception: Friday\, March 6 from 7–9pm\n“Hear the Call” by Haddy Kreie\nFrom council circles of Indigenous nations to agoras of ancient Greece\, and from impromptu storm shelters to reliable weekly spiritual gatherings and intimate family dinners\, gathering has shaped how we live and how we imagine better ways of living together. It is one of the essential tools we have for building trust\, sharing knowledge\, and making meaning across generations. \nThe Assembly: Together We Grow art exhibit at Del Ray Artisans delves into the fundamental human act of gathering and how it helps us grow\, care for one another\, and cultivate belonging. This member artist showcase explores gathering not just as a moment in time\, but as a powerful mechanism through which we sustain and reimagine the world together. \nJoin us for the opening reception on Friday\, March 6 between 7-9pm to meet curator Haddy Kreie and the artists. Mark your calendar now or set a reminder through Eventbrite. Thank you to MCD Mateos McDonald’s for their generous donation for the reception. \nRegister in advance for our workshops and save the dates for our other creative programs in March: \n\nPartnered Paint Party – 3/7\, 7-9pm\nActing is Connection – 3/11\, 7-8:30pm\nRound Robin Paint Party – 3/18\, 7-9pm\nTheatrical Devising and Improv Workshop – 3/25\, 7-9:30pm\n\nThe Assembly: Together We Grow art exhibit runs from March 6–28\, 2026 at Del Ray Artisans gallery in the Colasanto Center\, 2704 Mount Vernon Avenue\, Alexandria\, Virginia 22301. Gallery hours are Thursday 12-6pm\, Friday 12-9pm\, Saturday 12-6pm\, and Sunday 12-6pm (closed March 1 and March 29). \nThe gallery is free\, open to the public\, and accessible. Del Ray Artisans\, a 501(3)(c) nonprofit organization whose mission is to promote art for the benefit of artists and the community. \nFor more information\, contact the Director of Curating\, Amy Kitchin Hower\, at curating@delrayartisans.org.
URL:https://delrayartisans.org/event/assembly/
LOCATION:Del Ray Artisans Gallery\, 2704 Mount Vernon Avenue\, Alexandria\, VA\, 22301\, United States
CATEGORIES:Art Exhibit,Del Ray Artisans Gallery
ATTACH;FMTTYPE=image/jpeg:https://delrayartisans.org/wp-content/uploads/2025/11/Hear-the-Call-by-Haddy-Kreie-square.jpg
ORGANIZER;CN="Haddy Kreie":MAILTO:hkreie@gmail.com
END:VEVENT
BEGIN:VEVENT
DTSTART;TZID=America/New_York:20260319T180000
DTEND;TZID=America/New_York:20260319T193000
DTSTAMP:20260422T231455
CREATED:20260201T164000Z
LAST-MODIFIED:20260318T184037Z
UID:10002196-1773943200-1773948600@delrayartisans.org
SUMMARY:CANCELED: Tortured Poets Workshop (Register by 3/15)
DESCRIPTION:This workshop has been canceled. \nInstructor: Suzanne Fine\, suzanne.fine@gmail.com\nDate/Time: Thursday\, March 19\, 6-7:30pm\nCost: $40 Del Ray Artisans member / $50 Non-member\nClass size: 3-10 participants\n(Register by March 15) \nWe’ll walk through a brief history of ‘tortured poets’ – Sylvia Plath\, Virginia Woolf\, Ernest Hemingway\, L.M. Montgomery\, etc. and link them to the lyricism of pop culture musicians. Then attendees will have time to construct and write\, and maybe even share their own diaristic excerpts. \nParticipants will gain understanding of writing techniques and the importance of journaling consistently. Journals are provided – just bring yourself! \n \n\nView other upcoming workshops\, information about the facility and policies on the Upcoming Workshops page.
URL:https://delrayartisans.org/event/tortured-poets/
LOCATION:Del Ray Artisans Gallery\, 2704 Mount Vernon Avenue\, Alexandria\, VA\, 22301\, United States
CATEGORIES:Program,Workshop
ATTACH;FMTTYPE=image/jpeg:https://delrayartisans.org/wp-content/uploads/2025/12/TorturedPoets-withSuzanneFine-square.jpg
ORGANIZER;CN="Tracy Wilkerson%2C Programs Director":MAILTO:programs@delrayartisans.org
END:VEVENT
BEGIN:VEVENT
DTSTART;TZID=America/New_York:20260319T190000
DTEND;TZID=America/New_York:20260319T210000
DTSTAMP:20260422T231455
CREATED:20260228T233427Z
LAST-MODIFIED:20260317T173333Z
UID:10002187-1773946800-1773954000@delrayartisans.org
SUMMARY:CANCELED: Del Ray Urban Sketchers @ Del Ray Pizzeria
DESCRIPTION:This session has been canceled. Please join us for future Urban Sketchers sessions! \nUrban sketchbooking emphasizes storytelling that conveys a sense of place or a moment in time through drawings completed from direct observations. \nBring your supplies and join us outside at Del Ray Pizzaria (2218 Mt Vernon Ave\, Alexandria VA) on Thursday\, March 19 to produce still life\, figure\, or architecture subjects in your sketchbook. Participants will spend some time putting their skills into practice and then reconvene for a review of finished works. \nDel Ray Urban Sketchers operates on a drop-in basis and meets on the third Sunday of the month (except not in July\, August\, and December) at St. Elmo’s Coffee Pub in Del Ray\, as well as on the third Thursday of most months at a time and location that is varied (view upcoming dates). \nThis program is FREE! Donations appreciated. Contact the organizer\, KC Hodge (email coming soon)\, with any questions. \n View Upcoming Dates \n\nPhoto courtesy of Joan Bickelhaupt
URL:https://delrayartisans.org/event/urban-sketchers-2026-03-19/
LOCATION:Del Ray Pizzeria\, 2218 Mount Vernon Avenue\, Alexandria\, VA\, 22301\, United States
CATEGORIES:Program,Urban Sketchers
ATTACH;FMTTYPE=image/jpeg:https://delrayartisans.org/wp-content/uploads/2024/11/Del-Ray-Urban-Sketchers-2025-square.jpg
END:VEVENT
END:VCALENDAR