BEGIN:VCALENDAR
VERSION:2.0
PRODID:-//Del Ray Artisans - ECPv6.15.20//NONSGML v1.0//EN
CALSCALE:GREGORIAN
METHOD:PUBLISH
X-WR-CALNAME:Del Ray Artisans
X-ORIGINAL-URL:https://delrayartisans.org
X-WR-CALDESC:Events for Del Ray Artisans
REFRESH-INTERVAL;VALUE=DURATION:PT1H
X-Robots-Tag:noindex
X-PUBLISHED-TTL:PT1H
BEGIN:VTIMEZONE
TZID:America/New_York
BEGIN:DAYLIGHT
TZOFFSETFROM:-0500
TZOFFSETTO:-0400
TZNAME:EDT
DTSTART:20250309T070000
END:DAYLIGHT
BEGIN:STANDARD
TZOFFSETFROM:-0400
TZOFFSETTO:-0500
TZNAME:EST
DTSTART:20251102T060000
END:STANDARD
BEGIN:DAYLIGHT
TZOFFSETFROM:-0500
TZOFFSETTO:-0400
TZNAME:EDT
DTSTART:20260308T070000
END:DAYLIGHT
BEGIN:STANDARD
TZOFFSETFROM:-0400
TZOFFSETTO:-0500
TZNAME:EST
DTSTART:20261101T060000
END:STANDARD
BEGIN:DAYLIGHT
TZOFFSETFROM:-0500
TZOFFSETTO:-0400
TZNAME:EDT
DTSTART:20270314T070000
END:DAYLIGHT
BEGIN:STANDARD
TZOFFSETFROM:-0400
TZOFFSETTO:-0500
TZNAME:EST
DTSTART:20271107T060000
END:STANDARD
END:VTIMEZONE
BEGIN:VEVENT
DTSTART;VALUE=DATE:20260306
DTEND;VALUE=DATE:20260329
DTSTAMP:20260422T214922
CREATED:20251104T194019Z
LAST-MODIFIED:20260305T212525Z
UID:10002030-1772755200-1774742399@delrayartisans.org
SUMMARY:Assembly: Together We Grow at Del Ray Artisans Gallery
DESCRIPTION:Assembly: Together We Grow Art Exhibit\nMarch 6–28\, 2026\nOpening Reception: Friday\, March 6 from 7–9pm\n“Hear the Call” by Haddy Kreie\nFrom council circles of Indigenous nations to agoras of ancient Greece\, and from impromptu storm shelters to reliable weekly spiritual gatherings and intimate family dinners\, gathering has shaped how we live and how we imagine better ways of living together. It is one of the essential tools we have for building trust\, sharing knowledge\, and making meaning across generations. \nThe Assembly: Together We Grow art exhibit at Del Ray Artisans delves into the fundamental human act of gathering and how it helps us grow\, care for one another\, and cultivate belonging. This member artist showcase explores gathering not just as a moment in time\, but as a powerful mechanism through which we sustain and reimagine the world together. \nJoin us for the opening reception on Friday\, March 6 between 7-9pm to meet curator Haddy Kreie and the artists. Mark your calendar now or set a reminder through Eventbrite. Thank you to MCD Mateos McDonald’s for their generous donation for the reception. \nRegister in advance for our workshops and save the dates for our other creative programs in March: \n\nPartnered Paint Party – 3/7\, 7-9pm\nActing is Connection – 3/11\, 7-8:30pm\nRound Robin Paint Party – 3/18\, 7-9pm\nTheatrical Devising and Improv Workshop – 3/25\, 7-9:30pm\n\nThe Assembly: Together We Grow art exhibit runs from March 6–28\, 2026 at Del Ray Artisans gallery in the Colasanto Center\, 2704 Mount Vernon Avenue\, Alexandria\, Virginia 22301. Gallery hours are Thursday 12-6pm\, Friday 12-9pm\, Saturday 12-6pm\, and Sunday 12-6pm (closed March 1 and March 29). \nThe gallery is free\, open to the public\, and accessible. Del Ray Artisans\, a 501(3)(c) nonprofit organization whose mission is to promote art for the benefit of artists and the community. \nFor more information\, contact the Director of Curating\, Amy Kitchin Hower\, at curating@delrayartisans.org.
URL:https://delrayartisans.org/event/assembly/
LOCATION:Del Ray Artisans Gallery\, 2704 Mount Vernon Avenue\, Alexandria\, VA\, 22301\, United States
CATEGORIES:Art Exhibit,Del Ray Artisans Gallery
ATTACH;FMTTYPE=image/jpeg:https://delrayartisans.org/wp-content/uploads/2025/11/Hear-the-Call-by-Haddy-Kreie-square.jpg
ORGANIZER;CN="Haddy Kreie":MAILTO:hkreie@gmail.com
END:VEVENT
BEGIN:VEVENT
DTSTART;TZID=America/New_York:20260314T100000
DTEND;TZID=America/New_York:20260314T120000
DTSTAMP:20260422T214922
CREATED:20260106T000440Z
LAST-MODIFIED:20260310T184125Z
UID:10002143-1773482400-1773489600@delrayartisans.org
SUMMARY:CANCELED: Paper Maché Pal (2-day Workshop; Register by 3/10)
DESCRIPTION:This workshop has been canceled. \nInstructor: Courtney Pippin-Mathur\nDate/Time: Saturdays\, March 14 and March 28\, 10am-12pm\nCost: $65 Del Ray Artisans member / $75 Non-member\, plus a $10 supply fee\nClass size: 4-10 participants\n(Register by March 10) \nIn this 2-day (March 14 and March 28 from 10am-12pm) workshop\, learn the basics of paper maché as you create your one-of-a-kind paper maché figure to keep you company\, decorate your house\, or just give you joy. \nAll the supplies for this workshop are included. No experience necessary. \nRegister Now \n\nView other upcoming workshops\, information about the facility and policies on the Upcoming Workshops page.
URL:https://delrayartisans.org/event/paper-mache-pal/
LOCATION:Del Ray Artisans Gallery\, 2704 Mount Vernon Avenue\, Alexandria\, VA\, 22301\, United States
CATEGORIES:Program,Workshop
ATTACH;FMTTYPE=image/jpeg:https://delrayartisans.org/wp-content/uploads/2025/01/3D-FairyTaleCharacter-Courtney-Pippin-Mathur.jpg
ORGANIZER;CN="Tracy Wilkerson%2C Programs Director":MAILTO:programs@delrayartisans.org
END:VEVENT
BEGIN:VEVENT
DTSTART;TZID=America/New_York:20260314T180000
DTEND;TZID=America/New_York:20260314T200000
DTSTAMP:20260422T214922
CREATED:20260310T181521Z
LAST-MODIFIED:20260310T181536Z
UID:10002214-1773511200-1773518400@delrayartisans.org
SUMMARY:POSTPONED: DIY Ukulele Workshop (New date 5/3)
DESCRIPTION:This workshop has been postponed to May 3\, 2026. \nInstructor: Khushi Bhansali\nDate/Time: Saturday\, March 14\, 6-8pm\nCost: $20 Del Ray Artisans member / $30 Non-member; plus $30 supply fee\nClass size: 5-20 participants\n(Register by March 10) \nHand-paint and assemble your own ukulele to keep or give as a unique\, one-of-a-kind handmade gift. \nThe class begins with a quick overview of the ukulele’s parts and then participants will personalize their ukuleles with paint inspired by snowflakes\, spring\, or something of their choice. After the decorating is finished\, the instructor will guide participants on how to put the ukulele together and string the instruments. We’ll end with a beginner lesson on ukulele chords! \nAll materials are provided. \nRegister Now \n\nArtwork credit: Ukuleles by Khushi Bhansali \n\nView other upcoming workshops\, information about the facility\, and policies on the Upcoming Workshops page.
URL:https://delrayartisans.org/event/diy-ukulele-march-2026/
LOCATION:Del Ray Artisans Gallery\, 2704 Mount Vernon Avenue\, Alexandria\, VA\, 22301\, United States
CATEGORIES:Program
ATTACH;FMTTYPE=image/jpeg:https://delrayartisans.org/wp-content/uploads/2025/11/Ukeleles-by-Khushi-Bhansali.jpeg
ORGANIZER;CN="Tracy Wilkerson%2C Programs Director":MAILTO:programs@delrayartisans.org
END:VEVENT
END:VCALENDAR