BEGIN:VCALENDAR
VERSION:2.0
PRODID:-//Del Ray Artisans - ECPv6.15.20//NONSGML v1.0//EN
CALSCALE:GREGORIAN
METHOD:PUBLISH
X-ORIGINAL-URL:https://delrayartisans.org
X-WR-CALDESC:Events for Del Ray Artisans
REFRESH-INTERVAL;VALUE=DURATION:PT1H
X-Robots-Tag:noindex
X-PUBLISHED-TTL:PT1H
BEGIN:VTIMEZONE
TZID:America/New_York
BEGIN:DAYLIGHT
TZOFFSETFROM:-0500
TZOFFSETTO:-0400
TZNAME:EDT
DTSTART:20250309T070000
END:DAYLIGHT
BEGIN:STANDARD
TZOFFSETFROM:-0400
TZOFFSETTO:-0500
TZNAME:EST
DTSTART:20251102T060000
END:STANDARD
BEGIN:DAYLIGHT
TZOFFSETFROM:-0500
TZOFFSETTO:-0400
TZNAME:EDT
DTSTART:20260308T070000
END:DAYLIGHT
BEGIN:STANDARD
TZOFFSETFROM:-0400
TZOFFSETTO:-0500
TZNAME:EST
DTSTART:20261101T060000
END:STANDARD
BEGIN:DAYLIGHT
TZOFFSETFROM:-0500
TZOFFSETTO:-0400
TZNAME:EDT
DTSTART:20270314T070000
END:DAYLIGHT
BEGIN:STANDARD
TZOFFSETFROM:-0400
TZOFFSETTO:-0500
TZNAME:EST
DTSTART:20271107T060000
END:STANDARD
END:VTIMEZONE
BEGIN:VEVENT
DTSTART;VALUE=DATE:20260206
DTEND;VALUE=DATE:20260301
DTSTAMP:20260422T231517
CREATED:20251104T193730Z
LAST-MODIFIED:20260107T212034Z
UID:10002029-1770336000-1772323199@delrayartisans.org
SUMMARY:Lunar New Year: Year of the Horse at Del Ray Artisans Gallery
DESCRIPTION:Lunar New Year: Year of the Horse Art Exhibit\nFebruary 6–28\, 2026\nOpening Reception: Friday\, February 6 from 7–9pm\n“Lunar Fire” by Morgan Parr\nCelebrate the Lunar New Year by exploring its traditions\, stories\, and cultural significance—including the dynamic symbolism of the horse in the zodiac—at Del Ray Artisans’ Lunar New Year: Year of the Horse art exhibit. Representing courage\, vitality\, speed\, and independence\, the horse inspires artworks that capture energy\, movement\, mythology\, and heritage. This exhibition also reflects Del Ray Artisans’ commitment to cultural sensitivity\, showcasing works that honor the origins of the Lunar New Year with respect and authenticity. \nJoin us for the opening reception on Friday\, February 6 between 7-9pm to meet curators Morgan Parr and Annemarie Kuhns and the artists. Mark your calendar now or set a reminder through Eventbrite. \nRegister in advance for our workshops in February: \n\nStretchy Chainmail Bracelet – Monday\, February 9\, 6-8pm\nDime Store Alchemy: Make a Found Object Poetry Box – Wednesday\, February 11\, 6-9pm\nLunar New Year Foam Block Printing (Family-friendly) – Tuesday\, February 17\, 4-6pm\nLaurel Burch Inspired Horses – Sunday\, February 22\, 10am-12pm\n\nPlus drop in to our recurring creative programs: Del Ray Urban Sketchers\, Life Drawing\, Radical Sewing Club-ALX\, and Nature Journaling Club; and RSVP to attend our artist support groups: Partners in Art and Live From Your Studio. View all upcoming programs online at delrayartisans.org/programs. \nThe Lunar New Year: Year of the Horse art exhibit runs from February 6–28\, 2026 at Del Ray Artisans gallery in the Colasanto Center\, 2704 Mount Vernon Avenue\, Alexandria\, Virginia 22301. Gallery hours are Thursday 12-6pm\, Friday 12-9pm\, Saturday 12-6pm\, and Sunday 12-6pm (closed February 1 and March 1). \nThe gallery is free\, open to the public\, and accessible. Del Ray Artisans\, a 501(3)(c) nonprofit organization whose mission is to promote art for the benefit of artists and the community. \nFor more information\, contact the Director of Curating\, Amy Kitchin Hower\, at curating@delrayartisans.org.
URL:https://delrayartisans.org/event/lunar-new-year/
LOCATION:Del Ray Artisans Gallery\, 2704 Mount Vernon Avenue\, Alexandria\, VA\, 22301\, United States
CATEGORIES:Art Exhibit,Del Ray Artisans Gallery
ATTACH;FMTTYPE=image/jpeg:https://delrayartisans.org/wp-content/uploads/2025/12/Lunar-Fire-by-Morgan-Parr-square.jpg
ORGANIZER;CN="Morgan Parr":MAILTO:rmorganparr@gmail.com
END:VEVENT
BEGIN:VEVENT
DTSTART;VALUE=DATE:20260228
DTEND;VALUE=DATE:20260301
DTSTAMP:20260422T231517
CREATED:20260103T002803Z
LAST-MODIFIED:20260103T002803Z
UID:10002141-1772236800-1772323199@delrayartisans.org
SUMMARY:Alcove Gift Shop at Del Ray Artisans (1/2 - 2/28/2026)
DESCRIPTION:The Alcove Gift Shop is open for 10 months of the year (closed in July and December for special events). New items will appear in the gift shop each week\, and all the artwork is fully refreshed every two months. The current display runs January 2 – February 28\, 2026. \nAll work featured in the gift shop is by Del Ray Artisans members. Unframed 2-D work is available in bins alongside jewelry\, fiber art\, wood craft\, ceramics\, and other smaller 3-D items. The gift shop is located in the alcove inside Del Ray Artisans gallery in the Colasanto Center\, 2704 Mount Vernon Avenue\, Alexandria\, Virginia 22301. \nThe gallery is free\, open to the public\, and accessible. Gallery hours are Thursdays 12-6pm\, Fridays 12-9pm\, Saturdays 12-6pm\, and Sundays 12-6pm (closed on February 1 and March 1). \nFor more information\, contact the curators Stephen Lally (slallypottery@gmail.com) and Rita Schooley (rlschooley@gmail.com).
URL:https://delrayartisans.org/event/alcove-jan-feb-2026/
LOCATION:Del Ray Artisans Gallery\, 2704 Mount Vernon Avenue\, Alexandria\, VA\, 22301\, United States
CATEGORIES:Art Exhibit,Del Ray Artisans Gallery
ATTACH;FMTTYPE=image/jpeg:https://delrayartisans.org/wp-content/uploads/2023/03/alcove-march-2023.jpg
ORGANIZER;CN="Stephen Lally":MAILTO:slallypottery@gmail.com
END:VEVENT
BEGIN:VEVENT
DTSTART;TZID=America/New_York:20260228T100000
DTEND;TZID=America/New_York:20260228T120000
DTSTAMP:20260422T231517
CREATED:20251027T192005Z
LAST-MODIFIED:20251027T192125Z
UID:10001956-1772272800-1772280000@delrayartisans.org
SUMMARY:Nature Journaling Club
DESCRIPTION:Practiced by artists and naturalists alike\, nature journaling is a centuries-old exercise in refining our powers of observation\, appreciation for nature\, drawing skills\, and mindful presence. This group is open to all experience levels as we meet to sketch\, connect\, and learn together! \nDel Ray Artisans’ Nature Journaling Club meets at 10am in front of Del Ray Artisans on the final Saturday morning of the month (except not in July\, November\, and December).  \nParticipants will need to bring their own sketchbooks and supplies. We will have plenty of time for sketching in nature before gathering again at 11:30am to share our sketches and observations and discuss tips and tools for nature journaling in the wild. We hope you will join us as we strengthen our art and inquiry practice together! \nSuggested supplies: sketchbook\, pens\, pencils\, colored pencils\, watercolor pencils\, or other portable media\, and a water bottle since we will be outdoors. You may also want to bring something to sit on (folding chair or blanket). \nNOTE: This program is held outdoors and will be canceled if raining. \nThis program is FREE! Donations appreciated. For more information\, contact the coordinators: Stephanie Darlene Greenwald (stephanie@stephaniedarlene.com) and Meredith D’Amore (meredith.w.damore@gmail.com). \nView Upcoming Dates \n\nArtwork credit: Drawing by Meredith D’Amore
URL:https://delrayartisans.org/event/nature-journaling-2/
LOCATION:Del Ray Artisans Gallery\, 2704 Mount Vernon Avenue\, Alexandria\, VA\, 22301\, United States
CATEGORIES:Nature Journaling Club,Program
ATTACH;FMTTYPE=image/jpeg:https://delrayartisans.org/wp-content/uploads/2023/10/Nature-Journaling-Club-square.jpg
ORGANIZER;CN="Meredith D%E2%80%99Amore":MAILTO:meredith.w.damore@gmail.com
END:VEVENT
END:VCALENDAR