BEGIN:VCALENDAR
VERSION:2.0
PRODID:-//Del Ray Artisans - ECPv6.15.20//NONSGML v1.0//EN
CALSCALE:GREGORIAN
METHOD:PUBLISH
X-ORIGINAL-URL:https://delrayartisans.org
X-WR-CALDESC:Events for Del Ray Artisans
REFRESH-INTERVAL;VALUE=DURATION:PT1H
X-Robots-Tag:noindex
X-PUBLISHED-TTL:PT1H
BEGIN:VTIMEZONE
TZID:America/New_York
BEGIN:DAYLIGHT
TZOFFSETFROM:-0500
TZOFFSETTO:-0400
TZNAME:EDT
DTSTART:20250309T070000
END:DAYLIGHT
BEGIN:STANDARD
TZOFFSETFROM:-0400
TZOFFSETTO:-0500
TZNAME:EST
DTSTART:20251102T060000
END:STANDARD
BEGIN:DAYLIGHT
TZOFFSETFROM:-0500
TZOFFSETTO:-0400
TZNAME:EDT
DTSTART:20260308T070000
END:DAYLIGHT
BEGIN:STANDARD
TZOFFSETFROM:-0400
TZOFFSETTO:-0500
TZNAME:EST
DTSTART:20261101T060000
END:STANDARD
BEGIN:DAYLIGHT
TZOFFSETFROM:-0500
TZOFFSETTO:-0400
TZNAME:EDT
DTSTART:20270314T070000
END:DAYLIGHT
BEGIN:STANDARD
TZOFFSETFROM:-0400
TZOFFSETTO:-0500
TZNAME:EST
DTSTART:20271107T060000
END:STANDARD
END:VTIMEZONE
BEGIN:VEVENT
DTSTART;VALUE=DATE:20260206
DTEND;VALUE=DATE:20260301
DTSTAMP:20260423T003143
CREATED:20251104T193730Z
LAST-MODIFIED:20260107T212034Z
UID:10002029-1770336000-1772323199@delrayartisans.org
SUMMARY:Lunar New Year: Year of the Horse at Del Ray Artisans Gallery
DESCRIPTION:Lunar New Year: Year of the Horse Art Exhibit\nFebruary 6–28\, 2026\nOpening Reception: Friday\, February 6 from 7–9pm\n“Lunar Fire” by Morgan Parr\nCelebrate the Lunar New Year by exploring its traditions\, stories\, and cultural significance—including the dynamic symbolism of the horse in the zodiac—at Del Ray Artisans’ Lunar New Year: Year of the Horse art exhibit. Representing courage\, vitality\, speed\, and independence\, the horse inspires artworks that capture energy\, movement\, mythology\, and heritage. This exhibition also reflects Del Ray Artisans’ commitment to cultural sensitivity\, showcasing works that honor the origins of the Lunar New Year with respect and authenticity. \nJoin us for the opening reception on Friday\, February 6 between 7-9pm to meet curators Morgan Parr and Annemarie Kuhns and the artists. Mark your calendar now or set a reminder through Eventbrite. \nRegister in advance for our workshops in February: \n\nStretchy Chainmail Bracelet – Monday\, February 9\, 6-8pm\nDime Store Alchemy: Make a Found Object Poetry Box – Wednesday\, February 11\, 6-9pm\nLunar New Year Foam Block Printing (Family-friendly) – Tuesday\, February 17\, 4-6pm\nLaurel Burch Inspired Horses – Sunday\, February 22\, 10am-12pm\n\nPlus drop in to our recurring creative programs: Del Ray Urban Sketchers\, Life Drawing\, Radical Sewing Club-ALX\, and Nature Journaling Club; and RSVP to attend our artist support groups: Partners in Art and Live From Your Studio. View all upcoming programs online at delrayartisans.org/programs. \nThe Lunar New Year: Year of the Horse art exhibit runs from February 6–28\, 2026 at Del Ray Artisans gallery in the Colasanto Center\, 2704 Mount Vernon Avenue\, Alexandria\, Virginia 22301. Gallery hours are Thursday 12-6pm\, Friday 12-9pm\, Saturday 12-6pm\, and Sunday 12-6pm (closed February 1 and March 1). \nThe gallery is free\, open to the public\, and accessible. Del Ray Artisans\, a 501(3)(c) nonprofit organization whose mission is to promote art for the benefit of artists and the community. \nFor more information\, contact the Director of Curating\, Amy Kitchin Hower\, at curating@delrayartisans.org.
URL:https://delrayartisans.org/event/lunar-new-year/
LOCATION:Del Ray Artisans Gallery\, 2704 Mount Vernon Avenue\, Alexandria\, VA\, 22301\, United States
CATEGORIES:Art Exhibit,Del Ray Artisans Gallery
ATTACH;FMTTYPE=image/jpeg:https://delrayartisans.org/wp-content/uploads/2025/12/Lunar-Fire-by-Morgan-Parr-square.jpg
ORGANIZER;CN="Morgan Parr":MAILTO:rmorganparr@gmail.com
END:VEVENT
BEGIN:VEVENT
DTSTART;TZID=America/New_York:20260221T100000
DTEND;TZID=America/New_York:20260221T120000
DTSTAMP:20260423T003143
CREATED:20251027T205305Z
LAST-MODIFIED:20260101T170325Z
UID:10002007-1771668000-1771675200@delrayartisans.org
SUMMARY:Radical Sewing Club-ALX
DESCRIPTION:Welcome to Radical Sewing Club-ALX! \nStarted in LA by Scout Quiquivix\, the Alexandria chapter is a monthly drop-in style meeting where you can learn clothing repair\, hand and machine sewing\, or bring your own project to work on with the community. \nRadical Sewing Club is about more than sewing–it’s a space to reimagine craft outside of capitalism\, to resist exploitation and oppression\, and to stitch together a world based on care and solidarity. All who share these values are welcome. \nRegistration: Registration is not required\, but you may set a reminder in Eventbrite. \nCost: Recommended donation of $10 or pay what you can. No one turned away for lack of funds! Monetary donations will be split between Del Ray Artisans (our wonderful hosts) and Radical Sewing Club for continued materials. \nHave materials to donate? We welcome fabric (full cuts and scraps alike)\, thread\, needles\, interfacing\, embroidery hoops\, buttons\, pins\, trims\, lace\, and functional zippers. \nContact: radicalsewingclubalx@pm.me or @radicalsewingclub_alx on Instagram \nView All Upcoming Dates
URL:https://delrayartisans.org/event/radical-sewing-club-2026/2026-02-21/
LOCATION:Del Ray Artisans Gallery\, 2704 Mount Vernon Avenue\, Alexandria\, VA\, 22301\, United States
CATEGORIES:Program,Radical Sewing Club
ATTACH;FMTTYPE=image/jpeg:https://delrayartisans.org/wp-content/uploads/2025/06/RSC-ALX.jpg
ORGANIZER;CN="Syd Grossman%2C Radical Sewing Club-ALX":MAILTO:radicalsewingclubalx@pm.me
END:VEVENT
END:VCALENDAR