BEGIN:VCALENDAR
VERSION:2.0
PRODID:-//Del Ray Artisans - ECPv6.15.20//NONSGML v1.0//EN
CALSCALE:GREGORIAN
METHOD:PUBLISH
X-WR-CALNAME:Del Ray Artisans
X-ORIGINAL-URL:https://delrayartisans.org
X-WR-CALDESC:Events for Del Ray Artisans
REFRESH-INTERVAL;VALUE=DURATION:PT1H
X-Robots-Tag:noindex
X-PUBLISHED-TTL:PT1H
BEGIN:VTIMEZONE
TZID:America/New_York
BEGIN:DAYLIGHT
TZOFFSETFROM:-0500
TZOFFSETTO:-0400
TZNAME:EDT
DTSTART:20250309T070000
END:DAYLIGHT
BEGIN:STANDARD
TZOFFSETFROM:-0400
TZOFFSETTO:-0500
TZNAME:EST
DTSTART:20251102T060000
END:STANDARD
BEGIN:DAYLIGHT
TZOFFSETFROM:-0500
TZOFFSETTO:-0400
TZNAME:EDT
DTSTART:20260308T070000
END:DAYLIGHT
BEGIN:STANDARD
TZOFFSETFROM:-0400
TZOFFSETTO:-0500
TZNAME:EST
DTSTART:20261101T060000
END:STANDARD
BEGIN:DAYLIGHT
TZOFFSETFROM:-0500
TZOFFSETTO:-0400
TZNAME:EDT
DTSTART:20270314T070000
END:DAYLIGHT
BEGIN:STANDARD
TZOFFSETFROM:-0400
TZOFFSETTO:-0500
TZNAME:EST
DTSTART:20271107T060000
END:STANDARD
END:VTIMEZONE
BEGIN:VEVENT
DTSTART;VALUE=DATE:20260206
DTEND;VALUE=DATE:20260301
DTSTAMP:20260422T231456
CREATED:20251104T193730Z
LAST-MODIFIED:20260107T212034Z
UID:10002029-1770336000-1772323199@delrayartisans.org
SUMMARY:Lunar New Year: Year of the Horse at Del Ray Artisans Gallery
DESCRIPTION:Lunar New Year: Year of the Horse Art Exhibit\nFebruary 6–28\, 2026\nOpening Reception: Friday\, February 6 from 7–9pm\n“Lunar Fire” by Morgan Parr\nCelebrate the Lunar New Year by exploring its traditions\, stories\, and cultural significance—including the dynamic symbolism of the horse in the zodiac—at Del Ray Artisans’ Lunar New Year: Year of the Horse art exhibit. Representing courage\, vitality\, speed\, and independence\, the horse inspires artworks that capture energy\, movement\, mythology\, and heritage. This exhibition also reflects Del Ray Artisans’ commitment to cultural sensitivity\, showcasing works that honor the origins of the Lunar New Year with respect and authenticity. \nJoin us for the opening reception on Friday\, February 6 between 7-9pm to meet curators Morgan Parr and Annemarie Kuhns and the artists. Mark your calendar now or set a reminder through Eventbrite. \nRegister in advance for our workshops in February: \n\nStretchy Chainmail Bracelet – Monday\, February 9\, 6-8pm\nDime Store Alchemy: Make a Found Object Poetry Box – Wednesday\, February 11\, 6-9pm\nLunar New Year Foam Block Printing (Family-friendly) – Tuesday\, February 17\, 4-6pm\nLaurel Burch Inspired Horses – Sunday\, February 22\, 10am-12pm\n\nPlus drop in to our recurring creative programs: Del Ray Urban Sketchers\, Life Drawing\, Radical Sewing Club-ALX\, and Nature Journaling Club; and RSVP to attend our artist support groups: Partners in Art and Live From Your Studio. View all upcoming programs online at delrayartisans.org/programs. \nThe Lunar New Year: Year of the Horse art exhibit runs from February 6–28\, 2026 at Del Ray Artisans gallery in the Colasanto Center\, 2704 Mount Vernon Avenue\, Alexandria\, Virginia 22301. Gallery hours are Thursday 12-6pm\, Friday 12-9pm\, Saturday 12-6pm\, and Sunday 12-6pm (closed February 1 and March 1). \nThe gallery is free\, open to the public\, and accessible. Del Ray Artisans\, a 501(3)(c) nonprofit organization whose mission is to promote art for the benefit of artists and the community. \nFor more information\, contact the Director of Curating\, Amy Kitchin Hower\, at curating@delrayartisans.org.
URL:https://delrayartisans.org/event/lunar-new-year/
LOCATION:Del Ray Artisans Gallery\, 2704 Mount Vernon Avenue\, Alexandria\, VA\, 22301\, United States
CATEGORIES:Art Exhibit,Del Ray Artisans Gallery
ATTACH;FMTTYPE=image/jpeg:https://delrayartisans.org/wp-content/uploads/2025/12/Lunar-Fire-by-Morgan-Parr-square.jpg
ORGANIZER;CN="Morgan Parr":MAILTO:rmorganparr@gmail.com
END:VEVENT
BEGIN:VEVENT
DTSTART;TZID=America/New_York:20260215T140000
DTEND;TZID=America/New_York:20260215T153000
DTSTAMP:20260422T231456
CREATED:20251115T122239Z
LAST-MODIFIED:20251130T212506Z
UID:10002069-1771164000-1771169400@delrayartisans.org
SUMMARY:Live From Your Studio - Connect with fellow DRA artists
DESCRIPTION:Live From Your Studio is a free\, members-only\, virtual gathering where Del Ray Artisans members can connect from their art-making space. This virtual event will take place monthly on the third Sunday of the month (excluding December) over Zoom. Artists are encouraged (but not required) to join from their studios and make art during the session. These events will allow members to paint and create art together\, and forge deeper connections to other members. \nRSVP at least a week before the gathering to help organizers prepare. Zoom connection information will be emailed to you two days before the gathering. If you have any questions\, please contact organizer Laura Flynn Geissel at flynnmail52@proton.me and Membership Director Kara Macek at membership@delrayartisans.org. \nNot a member?  It’s easy to join Del Ray Artisans. Artist ($30-$110) and Patron ($250+) level memberships enjoy exhibition and program privileges. Supporter level memberships ($40/year) do not have exhibition privileges\, but supporters have program privileges and may participate in programs such as this one! \nAlthough this is a free event\, as a nonprofit organization\, donations are always welcome to support our mission of promoting art for the benefit of artists and the community. Donate online or at the gallery. \nRSVP Now
URL:https://delrayartisans.org/event/live-from-your-studio-2026/2026-02-15/
LOCATION:Online
CATEGORIES:Live From Your Studio,Partners in Art,Program
ATTACH;FMTTYPE=image/jpeg:https://delrayartisans.org/wp-content/uploads/2025/10/LiveFromYourStudio.jpg
ORGANIZER;CN="Laura Flynn Geissel":MAILTO:flynnmail52@proton.me
END:VEVENT
BEGIN:VEVENT
DTSTART;TZID=America/New_York:20260215T180000
DTEND;TZID=America/New_York:20260215T210000
DTSTAMP:20260422T231456
CREATED:20260109T221532Z
LAST-MODIFIED:20260214T025552Z
UID:10002146-1771178400-1771189200@delrayartisans.org
SUMMARY:Creating Monotypes with Gelatin Plates (SOLD OUT)
DESCRIPTION:Instructor: Allie Lundquist\nDate/Time: Sunday\, February 15 from 6-9pm\nCost: $30 Del Ray Artisans member / $40 Non-member\, plus a $20 supply fee\nClass size: 3-8 participants\n(Register in advance) \nThe instructor will guide you through the creation of your own acrylic paint monotypes on cardstock using gel plates of various sizes. \nLearn about the art of “thinking backwards” to achieve the kind of layering you would like to achieve—the first layer of paint you put down on the plate will form the background\, not the foreground. During this workshop you’ll also learn how to see colors on a grayscale. \nAll supplies are included. Explore a wide variety of materials to use on the plate—plastic\, wood\, and metal found objects\, fabric\, leaves\, etc.—and find which results resonate the most for you. \nJoin Waitlist \n\nImage credit: Allie Lundquist \n\nView other upcoming workshops\, information about the facility and policies on the Upcoming Workshops page.
URL:https://delrayartisans.org/event/monotype-gelatin-plates/
LOCATION:Del Ray Artisans Gallery\, 2704 Mount Vernon Avenue\, Alexandria\, VA\, 22301\, United States
CATEGORIES:Program,Workshop
ATTACH;FMTTYPE=image/jpeg:https://delrayartisans.org/wp-content/uploads/2026/01/Monotype-by-Allie-Lundquist.jpg
ORGANIZER;CN="Tracy Wilkerson%2C Programs Director":MAILTO:programs@delrayartisans.org
END:VEVENT
BEGIN:VEVENT
DTSTART;TZID=America/New_York:20260215T235900
DTEND;TZID=America/New_York:20260215T235900
DTSTAMP:20260422T231456
CREATED:20251117T173117Z
LAST-MODIFIED:20260211T201241Z
UID:10002121-1771199940-1771199940@delrayartisans.org
SUMMARY:"Assembly: Together We Grow" Call for Entry Deadline
DESCRIPTION:Call for Entry ~ Open to Del Ray Artisans Members\nAssembly: Together We Grow\nExhibit Dates: March 6–28\, 2026\nDigital entry deadline: Sunday\, February 15\, 2026 by midnight\n“Hear the Call” by Haddy Kreie\nMEMBERS: Submit works that explore the fundamental human act of gathering as a catalyst for growth and belonging\, whether expressed through ritual\, resistance\, celebration\, community\, ecology\, cultural tradition\, or something else entirely. \nThe exhibit is open only to Del Ray Artisans members. \nEntry Details & Form
URL:https://delrayartisans.org/event/assembly-cfe-deadline/
LOCATION:Online
CATEGORIES:Entry Deadline
ORGANIZER;CN="Haddy Kreie":MAILTO:hkreie@gmail.com
END:VEVENT
BEGIN:VEVENT
DTSTART;TZID=America/New_York:20260215T235900
DTEND;TZID=America/New_York:20260215T235900
DTSTAMP:20260422T231456
CREATED:20260126T000435Z
LAST-MODIFIED:20260126T000435Z
UID:10002181-1771199940-1771199940@delrayartisans.org
SUMMARY:Alcove Gift Shop Call for Artists Deadline
DESCRIPTION:Call for Artists ~ Open to Del Ray Artisans Members\nAlcove Gift Shop\nMarch 6 – April 25\, 2026\nApplication deadline: Sunday\, February 15\, 2026 by midnight \nDel Ray Artisans’ Alcove is a gift shop within the gallery\, where members (who apply and are accepted) display and sell their work. Unframed 2-D works are available in bins alongside jewelry\, fiber art\, wood craft\, ceramics\, and other smaller 3-D items. \nThe work will be displayed for two months\, and as pieces are sold they can be replaced with similar work for no additional fee. This opportunity is independent of the monthly exhibits and is only open to Del Ray Artisans members. If you are not a member\, you may join Del Ray Artisans now to enter. \nApplication Details & Form
URL:https://delrayartisans.org/event/alcove-mar-apr-2026-cfa-deadline/
LOCATION:Online
CATEGORIES:Entry Deadline
ORGANIZER;CN="Stephen Lally":MAILTO:slallypottery@gmail.com
END:VEVENT
END:VCALENDAR