BEGIN:VCALENDAR
VERSION:2.0
PRODID:-//Del Ray Artisans - ECPv6.15.20//NONSGML v1.0//EN
CALSCALE:GREGORIAN
METHOD:PUBLISH
X-ORIGINAL-URL:https://delrayartisans.org
X-WR-CALDESC:Events for Del Ray Artisans
REFRESH-INTERVAL;VALUE=DURATION:PT1H
X-Robots-Tag:noindex
X-PUBLISHED-TTL:PT1H
BEGIN:VTIMEZONE
TZID:America/New_York
BEGIN:DAYLIGHT
TZOFFSETFROM:-0500
TZOFFSETTO:-0400
TZNAME:EDT
DTSTART:20240310T070000
END:DAYLIGHT
BEGIN:STANDARD
TZOFFSETFROM:-0400
TZOFFSETTO:-0500
TZNAME:EST
DTSTART:20241103T060000
END:STANDARD
BEGIN:DAYLIGHT
TZOFFSETFROM:-0500
TZOFFSETTO:-0400
TZNAME:EDT
DTSTART:20250309T070000
END:DAYLIGHT
BEGIN:STANDARD
TZOFFSETFROM:-0400
TZOFFSETTO:-0500
TZNAME:EST
DTSTART:20251102T060000
END:STANDARD
BEGIN:DAYLIGHT
TZOFFSETFROM:-0500
TZOFFSETTO:-0400
TZNAME:EDT
DTSTART:20260308T070000
END:DAYLIGHT
BEGIN:STANDARD
TZOFFSETFROM:-0400
TZOFFSETTO:-0500
TZNAME:EST
DTSTART:20261101T060000
END:STANDARD
END:VTIMEZONE
BEGIN:VEVENT
DTSTART;VALUE=DATE:20251205
DTEND;VALUE=DATE:20251222
DTSTAMP:20260423T050759
CREATED:20250118T211941Z
LAST-MODIFIED:20251212T172117Z
UID:10001756-1764892800-1766361599@delrayartisans.org
SUMMARY:Holiday Market 2025 at Del Ray Artisans Gallery
DESCRIPTION:Del Ray Artisans’ 30th Annual Fine Art & Fine Craft Holiday Market\nDecember 5–21\, 2025:\nFridays 6-9pm\, Saturdays 9am-5pm\, Sundays 11am-5pm\nJoin us for the 30th Annual Fine Art & Fine Craft Holiday Market! The holiday market is open for the first three weekends in December (Dec 5-7\, Dec 12-14\, and Dec 19-21). \nThe market offers unique handmade fine arts and fine crafts from local artists presenting a variety of media\, including fiber/textiles\, glass\, jewelry\, mixed media\, polymer clay\, ornaments\, mosaics\, painting\, prints\, paper crafting\, photography\, pottery/ceramics\, sculpture\, watercolor\, wood\, and more. Different artists are featured each weekend! In addition\, 2026 wall calendars featuring art by Del Ray Artisans members will be available for purchase with proceeds supporting our 501(c)(3) nonprofit. \nHoliday market hours are Fridays 6-9pm\, Saturdays 9am-5pm\, and Sundays 11am-5pm. The market is at Del Ray Artisans gallery in the Nicholas A. Colasanto Center\, 2704 Mount Vernon Avenue\, Alexandria\, Virginia 22301. \nThe gallery is free\, open to the public and accessible. For more information\, contact the Holiday Market Coordinators: Steve Lally (slallypottery@gmail.com)\, Rita Schooley (rlschooley@gmail.com)\, and Amy Kitchin Hower (alkitchin.dc@gmail.com).\n. \nWeekend 1 (Dec 5-7)\nArtists include: \n\nVeronica Barker-Barzel\nVictoria Barnes (Victoria Barnes Photography)\nLinda Gaines (Geeky Girl Gaines Crafts)\nDonald Harris Sr. (Exclusively Knott’s Bow Ties)\nAudrey Kremer (Audrey K-Designs)\nLaine (Lainemindinventions)\nGinny Loving (Horrible Darlings by Ginny Loving)\nJanna Marks (Mad Marks Designs)\nVega Overby (Vega Star Ceramics)\nRobin Reid (Moxie & Magic)\nSarah Romer (Cactus & Hedgehog)\nCynthia Schoeppel (Cynthia Schoeppel Arts)\nKathy Stoner\nMarcia Toepfer\nViki Walchak (Blue Hippo Pottery)\nTracy Wilkerson (Recycled Works)\n\n. \nWeekend 2 (Dec 12-14)\nArtists include: \n\nCourtney Arnold (Lola Earnestine)\nLynn Chadwick (Lynn Chadwick Designs)\nMaxine Cholmondeley (Max’s Mixtures Candles & Soaps)\nPatty Moloney Figliola (Aisling Magick Art)\nWalter Gordon\nBrian Grow (Village Yard Studio)\nSherri Hunt\, Colorful Fluid Dynamics Ary by Sherri\nRoz Jacobs (Rozzie Jewelry)\nNancy Kline (Nancy Kline Art)\nHaddy Kreie (Haddy K Art and Design)\nSusan Lefler (Susan Lefler Studios)\nDiana Manchak (designsinclay)\nLiz Martinez\nPatti North (All Fired Up!)\nMary Pike (Recycled Bag Lady)\nAnn Cameron Siegal (The Momentary Pause)\nJennifer Van Pernis (Distinctive Fabrications)\nChristine Vinh (StitchesnQuilts)\n\n. \nWeekend 3 (Dec 19-21)\nArtists include: \n\nJohn T Allen (Permian Designs)\nMarcel Artes Deolazo (thehornypotter.com)\nSheila Bailey (A Basket Case)\nEvelyn Rose Cook\nB A Hlioui (B A Hlioui Art)\nAmy Kitchin Hower (AKH Studio Designs)\nStephen Lally (Stephen Lally Pottery)\nMiyoung Obenschain (Purple Cardinal Arts LLC)\nDiana Papazian (Papazian Design\, LLC)\nSusan Pawlukiewicz (Lucite Carvings)\nMadeline Ramsey (Unique Stained Glass)\nRaven (Crafty Colanah)\nKen and Sue Reed (Green and Burning Tree)\nMary Turpin\nJoyce Wagner (Reinvented Elegance)\nTamara Wilkerson (WiRealm by Tamara)\n\n.
URL:https://delrayartisans.org/event/holiday-market-2025/
LOCATION:Del Ray Artisans Gallery\, 2704 Mount Vernon Avenue\, Alexandria\, VA\, 22301\, United States
CATEGORIES:Art Exhibit,Del Ray Artisans Gallery,Market
ATTACH;FMTTYPE=image/jpeg:https://delrayartisans.org/wp-content/uploads/2025/09/DRA_Holiday-Market-2025-30th-square.jpg
END:VEVENT
BEGIN:VEVENT
DTSTART;TZID=America/New_York:20251214T235900
DTEND;TZID=America/New_York:20251214T235900
DTSTAMP:20260423T050759
CREATED:20250526T191923Z
LAST-MODIFIED:20251103T153238Z
UID:10001871-1765756740-1765756740@delrayartisans.org
SUMMARY:"Toy Stories" Call for Entry Deadline
DESCRIPTION:Call for Entry ~ Open to area artists\nToy Stories\nExhibit Dates: January 2–31\, 2026\nDigital entry deadline: Sunday\, December 14\, 2025 by midnight\n“To The Batcave” by Gordon Thomas Frank\nDive into the cultural\, emotional\, and imaginative realms of toys. Toys are often the first things we fall in love with – and sometimes the first things we break. We’re open to interpretations that highlight the joy of play\, reflect on childhood nostalgia\, or turn toys into surprising artistic expressions. We want all kinds of art that capture the playful\, nostalgic spirit of toys. This could also include more conceptual ideas\, like trees crafted from toy blocks\, classic board games reimagined in a new light\, or collages that showcase a cherished doll or character from your own toy collection.  \nThe exhibit is open to all area artists. Del Ray Artisans members pay a discounted entry fee. \nEntry Details & Form
URL:https://delrayartisans.org/event/toy-stories-cfe-deadline/
LOCATION:Online
CATEGORIES:Entry Deadline
ORGANIZER;CN="Gordon Thomas Frank":MAILTO:gordonfrank666@gmail.com
END:VEVENT
BEGIN:VEVENT
DTSTART;TZID=America/New_York:20251214T235900
DTEND;TZID=America/New_York:20251214T235900
DTSTAMP:20260423T050759
CREATED:20251022T183627Z
LAST-MODIFIED:20251022T183627Z
UID:10001948-1765756740-1765756740@delrayartisans.org
SUMMARY:Alcove Gift Shop Call for Artists Deadline
DESCRIPTION:Call for Artists ~ Open to Del Ray Artisans Members\nAlcove Gift Shop\nJanuary 2 – February 28\, 2026\nApplication deadline: Sunday\, December 14\, 2025 by midnight \nDel Ray Artisans’ Alcove is a gift shop within the gallery\, where members (who apply and are accepted) display and sell their work. Unframed 2-D works are available in bins alongside jewelry\, fiber art\, wood craft\, ceramics\, and other smaller 3-D items. \nThe work will be displayed for two months\, and as pieces are sold they can be replaced with similar work for no additional fee. This opportunity is independent of the monthly exhibits and is only open to Del Ray Artisans members. If you are not a member\, you may join Del Ray Artisans now to enter. \nApplication Details & Form
URL:https://delrayartisans.org/event/alcove-jan-feb-2026-cfa-deadline/
LOCATION:Online
CATEGORIES:Entry Deadline
ORGANIZER;CN="Stephen Lally":MAILTO:slallypottery@gmail.com
END:VEVENT
END:VCALENDAR