BEGIN:VCALENDAR
VERSION:2.0
PRODID:-//Del Ray Artisans - ECPv6.15.20//NONSGML v1.0//EN
CALSCALE:GREGORIAN
METHOD:PUBLISH
X-ORIGINAL-URL:https://delrayartisans.org
X-WR-CALDESC:Events for Del Ray Artisans
REFRESH-INTERVAL;VALUE=DURATION:PT1H
X-Robots-Tag:noindex
X-PUBLISHED-TTL:PT1H
BEGIN:VTIMEZONE
TZID:America/New_York
BEGIN:DAYLIGHT
TZOFFSETFROM:-0500
TZOFFSETTO:-0400
TZNAME:EDT
DTSTART:20240310T070000
END:DAYLIGHT
BEGIN:STANDARD
TZOFFSETFROM:-0400
TZOFFSETTO:-0500
TZNAME:EST
DTSTART:20241103T060000
END:STANDARD
BEGIN:DAYLIGHT
TZOFFSETFROM:-0500
TZOFFSETTO:-0400
TZNAME:EDT
DTSTART:20250309T070000
END:DAYLIGHT
BEGIN:STANDARD
TZOFFSETFROM:-0400
TZOFFSETTO:-0500
TZNAME:EST
DTSTART:20251102T060000
END:STANDARD
BEGIN:DAYLIGHT
TZOFFSETFROM:-0500
TZOFFSETTO:-0400
TZNAME:EDT
DTSTART:20260308T070000
END:DAYLIGHT
BEGIN:STANDARD
TZOFFSETFROM:-0400
TZOFFSETTO:-0500
TZNAME:EST
DTSTART:20261101T060000
END:STANDARD
END:VTIMEZONE
BEGIN:VEVENT
DTSTART;VALUE=DATE:20251107
DTEND;VALUE=DATE:20251201
DTSTAMP:20260423T083048
CREATED:20250118T211311Z
LAST-MODIFIED:20250925T133748Z
UID:10001754-1762473600-1764547199@delrayartisans.org
SUMMARY:The Mini World: Small Works of Art at Del Ray Artisans Gallery
DESCRIPTION:The Mini World: Small Works of Art Exhibit\nNovember 7–30\, 2025\nOpening Reception: Friday\, November 7 from 7–9pm\nDel Ray Artisans presents The Mini World: Small Works of Art\, an art exhibit showcasing tiny art by artist members. Step into this miniature world and discover the joy of life’s little things. We invite you to experience the power of small\, where each piece tells a story and proves that art knows no size limits. \nJoin us for the opening reception on Friday\, November 7 between 7-9pm to meet curators Betsy Jones\, Kellie Sansone\, and Mallory Henig and the artists. Mark your calendar now or set a reminder through Eventbrite. \nRegister in advance for our workshops and save the dates for our other creative programs in November: \n\nSTEAM-tastic: Cardboard Creatures Workshop – Nov. 8: 10am-12pm\nTea & Herbs with Area 2 Farms – Nov 8 and Nov 22: 1-2:30pm\nDel Ray Urban Sketchers (meet at St. Elmo’s Del Ray) – Nov. 9: 1-3pm\nLinocut Block Printing Workshop – Nov. 12: 7-9pm\nFigure Drawing Session – Nov. 13 and Nov. 18\, 7-9pm\nRadical Sewing Club-ALX – Nov. 15: 6-8pm\nPlaying with Resin Workshop – Nov. 17: 6-9pm\nPartners in Art Evening – Nov. 19: 7-9pm\nSTEAM-tastic: Monet-Inspired Bridge Workshop – Nov. 22: 10-11:30am\n\nFor more upcoming events\, visit DelRayArtisans.org/programs. \nThe Mini World: Small Works of Art exhibit runs November 7-30\, 2025 at Del Ray Artisans gallery in the Colasanto Center\, 2704 Mount Vernon Avenue\, Alexandria\, Virginia 22301. Gallery hours are Thursday 12-6pm\, Friday 12-9pm\, Saturday 12-6pm\, and Sunday 12-6pm. The gallery is closed on Thanksgiving Day (Nov. 27)\, but will be open for bonus gallery hours on Wednesday\, Nov. 26\, 12-6pm. \nThe gallery is free\, open to the public\, and accessible. Del Ray Artisans\, a 501(3)(c) nonprofit organization whose mission is to promote art for the benefit of artists and the community. \nFor more information\, contact curators Betsy Jones\, Kellie Sansone\, and Mallory Henig or Director of Curating Amy Kitchin Hower at curating@delrayartisans.org. \n \n\n\nArtwork credit: (Left) “Fairy Shelf” by Mallory Rose Henig; (Center) “Bessie Wondered Where Her Niece Had Gone” by Betsy Jones; (Right) “Fluff” by Kellie Sansone
URL:https://delrayartisans.org/event/mini-world/
LOCATION:Del Ray Artisans Gallery\, 2704 Mount Vernon Avenue\, Alexandria\, VA\, 22301\, United States
CATEGORIES:Art Exhibit,Del Ray Artisans Gallery
ATTACH;FMTTYPE=image/jpeg:https://delrayartisans.org/wp-content/uploads/2025/09/the-mini-world-curators-art.jpg
END:VEVENT
BEGIN:VEVENT
DTSTART;TZID=America/New_York:20251116T140000
DTEND;TZID=America/New_York:20251116T153000
DTSTAMP:20260423T083048
CREATED:20251013T001012Z
LAST-MODIFIED:20251029T141639Z
UID:10001947-1763301600-1763307000@delrayartisans.org
SUMMARY:Live From Your Studio - Connect with fellow DRA artists
DESCRIPTION:Live From Your Studio is a free\, members-only\, virtual gathering where Del Ray Artisans members can connect from their art-making space. This virtual event will take place monthly on the third Sunday of the month (excluding December) over Zoom. Artists are encouraged (but not required) to join from their studios and make art during the session. These events will allow members to paint and create art together\, and forge deeper connections to other members. \nRSVP at least a week before the gathering to help organizers prepare. Zoom connection information will be emailed to you two days before the gathering. If you have any questions\, please contact organizer Laura Flynn Geissel at flynnmail52@proton.me and Membership Director Kara Macek at membership@delrayartisans.org. \nNot a member?  It’s easy to join Del Ray Artisans. Artist ($30-$110) and Patron ($250+) level memberships enjoy exhibition and program privileges. Supporter level memberships ($40/year) do not have exhibition privileges\, but supporters have program privileges and may participate in programs such as this one! \nAlthough this is a free event\, as a nonprofit organization\, donations are always welcome to support our mission of promoting art for the benefit of artists and the community. Donate online or at the gallery. \nRSVP Now
URL:https://delrayartisans.org/event/live-from-your-studio-nov-2025/
LOCATION:Online
CATEGORIES:Partners in Art,Program
ATTACH;FMTTYPE=image/jpeg:https://delrayartisans.org/wp-content/uploads/2025/10/LiveFromYourStudio.jpg
ORGANIZER;CN="Laura Flynn Geissel":MAILTO:flynnmail52@proton.me
END:VEVENT
BEGIN:VEVENT
DTSTART;TZID=America/New_York:20251116T160000
DTEND;TZID=America/New_York:20251116T190000
DTSTAMP:20260423T083048
CREATED:20250814T204141Z
LAST-MODIFIED:20251101T201838Z
UID:10001921-1763308800-1763319600@delrayartisans.org
SUMMARY:Creative Partnership – Serenity Gallery/Del Ray Artisans Fundraiser (11/16/2025)
DESCRIPTION:Color Strips\, photo by Steven Halperson\nSerenity Gallery\, the in-home gallery of mosaic artist-photographer Nina Tisara\, will host an Open House on Sunday\, November 16\, 2025 from 4-7pm in a creative partnership with Del Ray Artisans. Twenty percent of all sales (in person and online) will be donated to Del Ray Artisans nonprofit. \nThe art may be viewed in person at Serenity Gallery\, 6408 Hayfield Place\, Alexandria\, VA or online. Please RSVP to ninat@ninatisara.com to attend the Open House. \nSerenity Gallery features Nina’s widely collected mosaics and the stunning art photography of Steven Halperson. Nina first became known to Alexandrians as a photojournalist with the Gazette Packet for her sensitive and artistic portrayal of city residents\, historic places and special events. She is the founder of Living Legends of Alexandria. \nArtist-photographer Steven Halperson owns and manages Tisara Photography. Bringing over 30 years of experience and his artistic talent to his work\, he specializes in family and business portraits and events. His portraits of Alexandria’s current Living Legends are on display in the Market Square Lobby of Alexandria City Hall. The Tisara Photography studio is located on South Washington Street in Old Town Alexandria. \nDel Ray Artisans is a 501(c)(3) nonprofit organization whose mission is to promote art for the benefit of artists and the community. Nina Tisara is a member of Del Ray Artisans. \n\nArtwork (top) Caption: Dancing Vines\, mosaic by Nina Tisara
URL:https://delrayartisans.org/event/serenity-place/
LOCATION:Serenity Gallery\, 6408 Hayfield Place\, Alexandria\, 22310\, United States
CATEGORIES:Art Exhibit,Fundraising,Gallery Without Walls
ATTACH;FMTTYPE=image/jpeg:https://delrayartisans.org/wp-content/uploads/2025/10/Dancing-Vines-by-Nina-Tisara.jpg
ORGANIZER;CN="Kelly MacConomy%2C Outreach Director":MAILTO:outreach@delrayartisans.org
END:VEVENT
END:VCALENDAR