BEGIN:VCALENDAR
VERSION:2.0
PRODID:-//Del Ray Artisans - ECPv6.15.20//NONSGML v1.0//EN
CALSCALE:GREGORIAN
METHOD:PUBLISH
X-ORIGINAL-URL:https://delrayartisans.org
X-WR-CALDESC:Events for Del Ray Artisans
REFRESH-INTERVAL;VALUE=DURATION:PT1H
X-Robots-Tag:noindex
X-PUBLISHED-TTL:PT1H
BEGIN:VTIMEZONE
TZID:America/New_York
BEGIN:DAYLIGHT
TZOFFSETFROM:-0500
TZOFFSETTO:-0400
TZNAME:EDT
DTSTART:20240310T070000
END:DAYLIGHT
BEGIN:STANDARD
TZOFFSETFROM:-0400
TZOFFSETTO:-0500
TZNAME:EST
DTSTART:20241103T060000
END:STANDARD
BEGIN:DAYLIGHT
TZOFFSETFROM:-0500
TZOFFSETTO:-0400
TZNAME:EDT
DTSTART:20250309T070000
END:DAYLIGHT
BEGIN:STANDARD
TZOFFSETFROM:-0400
TZOFFSETTO:-0500
TZNAME:EST
DTSTART:20251102T060000
END:STANDARD
BEGIN:DAYLIGHT
TZOFFSETFROM:-0500
TZOFFSETTO:-0400
TZNAME:EDT
DTSTART:20260308T070000
END:DAYLIGHT
BEGIN:STANDARD
TZOFFSETFROM:-0400
TZOFFSETTO:-0500
TZNAME:EST
DTSTART:20261101T060000
END:STANDARD
END:VTIMEZONE
BEGIN:VEVENT
DTSTART;VALUE=DATE:20251107
DTEND;VALUE=DATE:20251201
DTSTAMP:20260423T083047
CREATED:20250118T211311Z
LAST-MODIFIED:20250925T133748Z
UID:10001754-1762473600-1764547199@delrayartisans.org
SUMMARY:The Mini World: Small Works of Art at Del Ray Artisans Gallery
DESCRIPTION:The Mini World: Small Works of Art Exhibit\nNovember 7–30\, 2025\nOpening Reception: Friday\, November 7 from 7–9pm\nDel Ray Artisans presents The Mini World: Small Works of Art\, an art exhibit showcasing tiny art by artist members. Step into this miniature world and discover the joy of life’s little things. We invite you to experience the power of small\, where each piece tells a story and proves that art knows no size limits. \nJoin us for the opening reception on Friday\, November 7 between 7-9pm to meet curators Betsy Jones\, Kellie Sansone\, and Mallory Henig and the artists. Mark your calendar now or set a reminder through Eventbrite. \nRegister in advance for our workshops and save the dates for our other creative programs in November: \n\nSTEAM-tastic: Cardboard Creatures Workshop – Nov. 8: 10am-12pm\nTea & Herbs with Area 2 Farms – Nov 8 and Nov 22: 1-2:30pm\nDel Ray Urban Sketchers (meet at St. Elmo’s Del Ray) – Nov. 9: 1-3pm\nLinocut Block Printing Workshop – Nov. 12: 7-9pm\nFigure Drawing Session – Nov. 13 and Nov. 18\, 7-9pm\nRadical Sewing Club-ALX – Nov. 15: 6-8pm\nPlaying with Resin Workshop – Nov. 17: 6-9pm\nPartners in Art Evening – Nov. 19: 7-9pm\nSTEAM-tastic: Monet-Inspired Bridge Workshop – Nov. 22: 10-11:30am\n\nFor more upcoming events\, visit DelRayArtisans.org/programs. \nThe Mini World: Small Works of Art exhibit runs November 7-30\, 2025 at Del Ray Artisans gallery in the Colasanto Center\, 2704 Mount Vernon Avenue\, Alexandria\, Virginia 22301. Gallery hours are Thursday 12-6pm\, Friday 12-9pm\, Saturday 12-6pm\, and Sunday 12-6pm. The gallery is closed on Thanksgiving Day (Nov. 27)\, but will be open for bonus gallery hours on Wednesday\, Nov. 26\, 12-6pm. \nThe gallery is free\, open to the public\, and accessible. Del Ray Artisans\, a 501(3)(c) nonprofit organization whose mission is to promote art for the benefit of artists and the community. \nFor more information\, contact curators Betsy Jones\, Kellie Sansone\, and Mallory Henig or Director of Curating Amy Kitchin Hower at curating@delrayartisans.org. \n \n\n\nArtwork credit: (Left) “Fairy Shelf” by Mallory Rose Henig; (Center) “Bessie Wondered Where Her Niece Had Gone” by Betsy Jones; (Right) “Fluff” by Kellie Sansone
URL:https://delrayartisans.org/event/mini-world/
LOCATION:Del Ray Artisans Gallery\, 2704 Mount Vernon Avenue\, Alexandria\, VA\, 22301\, United States
CATEGORIES:Art Exhibit,Del Ray Artisans Gallery
ATTACH;FMTTYPE=image/jpeg:https://delrayartisans.org/wp-content/uploads/2025/09/the-mini-world-curators-art.jpg
END:VEVENT
BEGIN:VEVENT
DTSTART;TZID=America/New_York:20251112T190000
DTEND;TZID=America/New_York:20251112T210000
DTSTAMP:20260423T083047
CREATED:20250910T130909Z
LAST-MODIFIED:20251107T204341Z
UID:10001929-1762974000-1762981200@delrayartisans.org
SUMMARY:Linocut Block Printing Workshop (Register ASAP)
DESCRIPTION:Instructor: Mallory Henig\, malloryroseart@gmail.com\nDate/Time: Wednesday\, November 12\, 7-9pm\nCost: $40 Del Ray Artisans member / $50 Non-member; Plus a $20 Supplies Fee\nClass size: 6-15 participants\n(Register in advance to guarantee a spot; walk-ins welcome if space permits.) \nEmpower yourself to make unique and personalized greeting cards and prints. Learn the technique of linocut to create rubber stamps for block printing. Mallory will teach you how to carve and print the stamp. You will take home your unique stamp to be reused again and again\, as well as five greeting cards and envelopes. \nAll supplies are included in the supplies fee. \nRegister Now \n\nView other upcoming workshops\, information about the facility\, and policies on the Upcoming Workshops page.
URL:https://delrayartisans.org/event/block-printing/
LOCATION:Del Ray Artisans Gallery\, 2704 Mount Vernon Avenue\, Alexandria\, VA\, 22301\, United States
CATEGORIES:Program,Workshop
ATTACH;FMTTYPE=image/jpeg:https://delrayartisans.org/wp-content/uploads/2025/09/Linocut-Workshop-Mallory-Henig.jpg
ORGANIZER;CN="Tracy Wilkerson%2C Programs Director":MAILTO:programs@delrayartisans.org
END:VEVENT
END:VCALENDAR