BEGIN:VCALENDAR
VERSION:2.0
PRODID:-//Del Ray Artisans - ECPv6.15.20//NONSGML v1.0//EN
CALSCALE:GREGORIAN
METHOD:PUBLISH
X-ORIGINAL-URL:https://delrayartisans.org
X-WR-CALDESC:Events for Del Ray Artisans
REFRESH-INTERVAL;VALUE=DURATION:PT1H
X-Robots-Tag:noindex
X-PUBLISHED-TTL:PT1H
BEGIN:VTIMEZONE
TZID:America/New_York
BEGIN:DAYLIGHT
TZOFFSETFROM:-0500
TZOFFSETTO:-0400
TZNAME:EDT
DTSTART:20240310T070000
END:DAYLIGHT
BEGIN:STANDARD
TZOFFSETFROM:-0400
TZOFFSETTO:-0500
TZNAME:EST
DTSTART:20241103T060000
END:STANDARD
BEGIN:DAYLIGHT
TZOFFSETFROM:-0500
TZOFFSETTO:-0400
TZNAME:EDT
DTSTART:20250309T070000
END:DAYLIGHT
BEGIN:STANDARD
TZOFFSETFROM:-0400
TZOFFSETTO:-0500
TZNAME:EST
DTSTART:20251102T060000
END:STANDARD
BEGIN:DAYLIGHT
TZOFFSETFROM:-0500
TZOFFSETTO:-0400
TZNAME:EDT
DTSTART:20260308T070000
END:DAYLIGHT
BEGIN:STANDARD
TZOFFSETFROM:-0400
TZOFFSETTO:-0500
TZNAME:EST
DTSTART:20261101T060000
END:STANDARD
END:VTIMEZONE
BEGIN:VEVENT
DTSTART;VALUE=DATE:20251003
DTEND;VALUE=DATE:20251102
DTSTAMP:20260423T120227
CREATED:20250118T210410Z
LAST-MODIFIED:20250815T150349Z
UID:10001752-1759449600-1762041599@delrayartisans.org
SUMMARY:Bump in the Night at Del Ray Artisans Gallery
DESCRIPTION:Bump in the Night Art Exhibit\nOctober 3 – November 1\, 2025\nOpening Reception: Friday\, October 3 from 7–9pm\n“Synergy” by Morgan Parr\nDrawing inspiration from Spike Milligan’s poem “Bump” and the old Cornish Litany about ghoulies and ghosties and long-leggedy beasties\, the Bump in the Night art exhibit reveals the source of frightening\, unexplainable noises heard at night and the experiences behind “things that go bump in the night.” \nJoin us for the opening reception on Friday\, October 3 between 7-9pm to meet curator Morgan Parr and the artists. Mark your calendar now or set a reminder through Eventbrite. \nAlso join us during Art on the Avenue\, the annual arts festival along Mount Vernon Avenue\, on Saturday\, October 4. Del Ray Artisans will be open from 10am-6pm during the festival and will host one of the Kids Art Corner activities in the Mount Vernon Recreation Center fields from 10am-3pm. \nRegister in advance for our workshops and save the dates for our other creative programs in October: \n\nGaudi Mosaic Lizard Workshop – Sunday\, October 5\, 10am-12pm\nFull Hunter’s Moon Sound Bath & Meditation – Sunday\, October 5\, 6:30-8pm\nFigure Drawing (gesture & short poses) – October 7\, 21\, 28 from 7-9pm\nFigure Drawing (costumed) – October 9\, 16\, 23\, 30 from 7-9pm\nCreative Book Club – Saturday\, October 11\, 10am-12pm\nHaunted Mansion Workshop – Saturday\, October 18\, 10am-12pm\nGirl Scout “Art & Design” Brownie Badge Workshop – Sunday\, October 19\, 10am-1pm\nNeurographic Art Workshop – Wednesday\, October 22\, 6-8pm\n\nThe Bump in the Night art exhibit runs from October 3 – November 1\, 2025 at Del Ray Artisans gallery in the Colasanto Center\, 2704 Mount Vernon Avenue\, Alexandria\, Virginia 22301. Gallery hours are Thursday 12-6pm\, Friday 12-9pm\, Saturday 12-6pm\, and Sunday 12-6pm (closed November 2). \nThe gallery is free\, open to the public\, and accessible. Del Ray Artisans\, a 501(3)(c) nonprofit organization whose mission is to promote art for the benefit of artists and the community. \nFor more information\, contact curator Morgan Parr at rmorganparr@gmail.com or Director of Curating Amy Kitchin Hower at curating@delrayartisans.org.
URL:https://delrayartisans.org/event/bump-in-the-night/
LOCATION:Del Ray Artisans Gallery\, 2704 Mount Vernon Avenue\, Alexandria\, VA\, 22301\, United States
CATEGORIES:Art Exhibit,Del Ray Artisans Gallery
ATTACH;FMTTYPE=image/jpeg:https://delrayartisans.org/wp-content/uploads/2025/06/Synergy-by-Morgan-Parr-square.jpg
ORGANIZER;CN="Morgan Parr":MAILTO:rmorganparr@gmail.com
END:VEVENT
BEGIN:VEVENT
DTSTART;TZID=America/New_York:20251008T183000
DTEND;TZID=America/New_York:20251008T203000
DTSTAMP:20260423T120227
CREATED:20250829T205949Z
LAST-MODIFIED:20251006T114953Z
UID:10001923-1759948200-1759955400@delrayartisans.org
SUMMARY:Create an Artwork Sales Website with Square (Register ASAP)
DESCRIPTION:Instructor: Tracy Wilkerson\nDate/Time: Wednesday\, October 8\, 6:30-8:30pm\nCost: $35 Del Ray Artisans member / $45 Non-member\nClass size: 4-20 participants\n(Register in advance) \nInterested in having an online presence with your artwork but not sure where to start? Set up a simple website using Square (SquareUp.com)! The instructor will show you the basic tools\, and then walk you through adding a few artworks to your ‘item library’ and posting them on your Square website. \nNo experience necessary\, but before attending this workshop you must create a Square account (either by downloading the SquareUp app onto your phone or through the create your account process on a computer). \nDuring the workshop\, you will: \n\nAdd a few items (one for each art piece) to your item library – this will include uploading a description\, size\, and price\, as well as a picture.\nLearn about managing inventory and variations\nCreate a simple website using Square and learn how to manage it\n\nNote: Having a comprehensive item library will help you with sales during art markets; and having a website will allow you to process online sales and share your artwork with a wider audience. Please note that items for sale in your online store will be set to “pick up”; we will not cover setting up shipping in this workshop. \nBring to the workshop: \n\nYour smartphone with the Square app or a laptop\nYour log-in info for SquareUp.com\nInformation for a few of your artworks (title\, description\, dimensions\, price\, picture). The pictures must be on the same device you are using to access Square (either your smartphone or laptop).\nNotebook for taking notes\n\nRegister Now \n\nView other upcoming workshops\, information about the facility\, and policies on the Upcoming Workshops page.
URL:https://delrayartisans.org/event/square-website/
LOCATION:Del Ray Artisans Gallery\, 2704 Mount Vernon Avenue\, Alexandria\, VA\, 22301\, United States
CATEGORIES:Program,Workshop
ATTACH;FMTTYPE=image/jpeg:https://delrayartisans.org/wp-content/uploads/2025/09/recycled-works-square-site.jpg
ORGANIZER;CN="Tracy Wilkerson":MAILTO:recycledworks@yahoo.com
END:VEVENT
END:VCALENDAR