BEGIN:VCALENDAR
VERSION:2.0
PRODID:-//Del Ray Artisans - ECPv6.15.20//NONSGML v1.0//EN
CALSCALE:GREGORIAN
METHOD:PUBLISH
X-ORIGINAL-URL:https://delrayartisans.org
X-WR-CALDESC:Events for Del Ray Artisans
REFRESH-INTERVAL;VALUE=DURATION:PT1H
X-Robots-Tag:noindex
X-PUBLISHED-TTL:PT1H
BEGIN:VTIMEZONE
TZID:America/New_York
BEGIN:DAYLIGHT
TZOFFSETFROM:-0500
TZOFFSETTO:-0400
TZNAME:EDT
DTSTART:20240310T070000
END:DAYLIGHT
BEGIN:STANDARD
TZOFFSETFROM:-0400
TZOFFSETTO:-0500
TZNAME:EST
DTSTART:20241103T060000
END:STANDARD
BEGIN:DAYLIGHT
TZOFFSETFROM:-0500
TZOFFSETTO:-0400
TZNAME:EDT
DTSTART:20250309T070000
END:DAYLIGHT
BEGIN:STANDARD
TZOFFSETFROM:-0400
TZOFFSETTO:-0500
TZNAME:EST
DTSTART:20251102T060000
END:STANDARD
BEGIN:DAYLIGHT
TZOFFSETFROM:-0500
TZOFFSETTO:-0400
TZNAME:EDT
DTSTART:20260308T070000
END:DAYLIGHT
BEGIN:STANDARD
TZOFFSETFROM:-0400
TZOFFSETTO:-0500
TZNAME:EST
DTSTART:20261101T060000
END:STANDARD
END:VTIMEZONE
BEGIN:VEVENT
DTSTART;VALUE=DATE:20250905
DTEND;VALUE=DATE:20250928
DTSTAMP:20260423T114111
CREATED:20250118T205738Z
LAST-MODIFIED:20250713T141532Z
UID:10001750-1757030400-1759017599@delrayartisans.org
SUMMARY:Second Time Around at Del Ray Artisans Gallery
DESCRIPTION:Second Time Around Art Exhibit\nSeptember 5–27\, 2025\nOpening Reception: Friday\, September 5 from 7–9pm\n“Amoeba Series: Party!” by Tracy Wilkerson\nMany physical items we choose to remove from our lives can be sold/given/donated to others rather than going into our world’s overburdened landfills. It takes a conscious choice to acquire items from others rather than purchasing new items at a retail store. It also takes a little effort to offer something no longer needed to others rather than just tossing it in the trash or recycle bin. The Second Time Around art exhibit at Del Ray Artisans gallery focuses on this thought-change concept of sustainable creativity and enhancing the artistic environmental ethos\, from the featured artwork utilizing recycled materials to the special workshops and events held during the exhibit. \nJoin us for the opening reception on Friday\, September 5 between 7-9pm to meet curator Tracy Wilkerson and the artists. Mark your calendar now or set a reminder through Eventbrite. \nSave the dates for these creative events: \n\nCardboard Creatures workshop – September 6\, 10am-noon\nAcrylic Paint Pour workshop – September 8\, 6:30-8:30pm\nEco-Chic Jewelry workshop – September 10\, 6:30-8pm\nDime Store Alchemy workshop\, September 13\, 6-8:30pm\nJewelry Fix-It Nite – September 18\, 6:30-8:30pm\nPlaying with Resin workshop – September 22\, 6-9pm\n80s Sing-Along & Dance Party – September 26\, 8-11pm\nMovie Nite – September 27\, starting at 7:30pm\n\nRegister in advance for workshops at delrayartisans.org/workshops. Also\, join us for our outdoor HalloWEIRD Art Market on Saturday\, September 20\, 10am-4pm. \nThe Second Time Around art exhibit runs from September 5–27\, 2025 at Del Ray Artisans gallery in the Colasanto Center\, 2704 Mount Vernon Avenue\, Alexandria\, Virginia 22301. Gallery hours are Thursday 12-6pm\, Friday 12-9pm\, Saturday 12-6pm\, and Sunday 12-6pm (closed September 28). \nThe gallery is free\, open to the public\, and accessible. Del Ray Artisans\, a 501(3)(c) nonprofit organization whose mission is to promote art for the benefit of artists and the community. \nFor more information\, contact curator Tracy Wilkerson at recycledworks@yahoo.com or Director of Curating Amy Kitchin Hower at curating@delrayartisans.org.
URL:https://delrayartisans.org/event/second-time/
LOCATION:Del Ray Artisans Gallery\, 2704 Mount Vernon Avenue\, Alexandria\, VA\, 22301\, United States
CATEGORIES:Art Exhibit,Del Ray Artisans Gallery
ATTACH;FMTTYPE=image/jpeg:https://delrayartisans.org/wp-content/uploads/2025/05/Amoeba-Series-Party-by-Tracy-Wilkerson-square.jpeg
ORGANIZER;CN="Tracy Wilkerson":MAILTO:recycledworks@yahoo.com
END:VEVENT
BEGIN:VEVENT
DTSTART;TZID=America/New_York:20250922T180000
DTEND;TZID=America/New_York:20250922T210000
DTSTAMP:20260423T114111
CREATED:20250514T202320Z
LAST-MODIFIED:20250904T142616Z
UID:10001859-1758564000-1758574800@delrayartisans.org
SUMMARY:Playing with Resin Workshop (SOLD OUT)
DESCRIPTION:Instructor: Tracy Wilkerson\, recycledworks@yahoo.com\nDate/Time: Monday\, September 22\, 6-9pm\nCost: $40 Del Ray Artisans member / $50 Non-member; plus a $10 Supply Fee\nClass size: 6-12 participants\n(Register by September 18 before midnight) \nLearn the ins and outs of prepping for and mixing resin\, and how to use it as an adhesive\, a covering\, or the main medium. There’s lots of creative time during this 3-hour workshop… No need to rush\, which is one of the first lessons in using resin! All supplies are provided\, but feel free to bring personal embellishments for your piece(s). \nThis workshop does not get into using dyes with resin or building big molds to create one-of-a-kind resined tables (as seen on YouTube)\, but this workshop will provide you with a good understanding of how resin works so you can be bold enough to take the next steps in your creative interests. \nAlthough the class is listed for 3 hours\, you can leave once you have finished your creations. Some students finish very quickly while others take the whole 3 hours to create – there is plenty of time for each person to enjoy the creative process while not feeling rushed. You’ll leave your finished masterpiece(s) to set at the gallery at the end of the workshop\, and pick them up during gallery hours later in the week. \nThe workshop is designed for adults. Children ages 16-17 may participate with parental permission. Children ages 12-15 may participate only with a co-participating adult guardian (guardian must contact instructor in advance). \nRegister Now \n\nView other upcoming workshops\, information about the facility and policies on the Upcoming Workshops page.
URL:https://delrayartisans.org/event/resin-09-2025/
LOCATION:Del Ray Artisans Gallery\, 2704 Mount Vernon Avenue\, Alexandria\, VA\, 22301\, United States
CATEGORIES:Program,Workshop
ATTACH;FMTTYPE=image/jpeg:https://delrayartisans.org/wp-content/uploads/1992/12/playing-with-resin-vMKzOK.tmp.jpg
ORGANIZER;CN="Tracy Wilkerson":MAILTO:recycledworks@yahoo.com
END:VEVENT
END:VCALENDAR