BEGIN:VCALENDAR
VERSION:2.0
PRODID:-//Del Ray Artisans - ECPv6.15.20//NONSGML v1.0//EN
CALSCALE:GREGORIAN
METHOD:PUBLISH
X-ORIGINAL-URL:https://delrayartisans.org
X-WR-CALDESC:Events for Del Ray Artisans
REFRESH-INTERVAL;VALUE=DURATION:PT1H
X-Robots-Tag:noindex
X-PUBLISHED-TTL:PT1H
BEGIN:VTIMEZONE
TZID:America/New_York
BEGIN:DAYLIGHT
TZOFFSETFROM:-0500
TZOFFSETTO:-0400
TZNAME:EDT
DTSTART:20240310T070000
END:DAYLIGHT
BEGIN:STANDARD
TZOFFSETFROM:-0400
TZOFFSETTO:-0500
TZNAME:EST
DTSTART:20241103T060000
END:STANDARD
BEGIN:DAYLIGHT
TZOFFSETFROM:-0500
TZOFFSETTO:-0400
TZNAME:EDT
DTSTART:20250309T070000
END:DAYLIGHT
BEGIN:STANDARD
TZOFFSETFROM:-0400
TZOFFSETTO:-0500
TZNAME:EST
DTSTART:20251102T060000
END:STANDARD
BEGIN:DAYLIGHT
TZOFFSETFROM:-0500
TZOFFSETTO:-0400
TZNAME:EDT
DTSTART:20260308T070000
END:DAYLIGHT
BEGIN:STANDARD
TZOFFSETFROM:-0400
TZOFFSETTO:-0500
TZNAME:EST
DTSTART:20261101T060000
END:STANDARD
END:VTIMEZONE
BEGIN:VEVENT
DTSTART;VALUE=DATE:20250801
DTEND;VALUE=DATE:20250831
DTSTAMP:20260423T131251
CREATED:20250118T204534Z
LAST-MODIFIED:20250622T172345Z
UID:10001748-1754006400-1756598399@delrayartisans.org
SUMMARY:Lovely As A Tree at Del Ray Artisans Gallery
DESCRIPTION:Lovely As A Tree Art Exhibit\nAugust 1–30\, 2025\nOpening Reception: Friday\, August 1 from 7–9pm\n“Backyard Beauty” by Robyn Seaton McGarry\nLovely As A Tree is an art exhibit exploring the ways in which trees impact our lives and this earth. Humans and animals benefit from the shade\, shelter\, food provided\, the beauty of and the environmental impact of trees. The talented members of Del Ray Artisans will bring aspects of this natural phenomenon to artistic life through painting\, photography\, ceramics\, items created from wood and other mediums that flow from their prolific imaginations. This art exhibit is a showcase for the creative members of Del Ray Artisans. \nJoin us for the opening reception on Friday\, August 1 between 7-9pm to meet curator Robyn Seaton McGarry and the artists. Mark your calendar now or set a reminder through Eventbrite. \nAlso check out Del Ray Artisans’ Creative Summer Programs this month. In this series of workshops exploring the arts\, you will learn techniques in collage\, drawing\, mixed media\, photography\, bead embroidery\, and more from local artists. Delve into creative exploration solo or with friends. For children and/or adults\, free and paid programs are offered. Details at DelRayArtisans.org/creative-summer. \nThe Lovely As A Tree art exhibit runs from August 1–30\, 2025 at Del Ray Artisans gallery in the Colasanto Center\, 2704 Mount Vernon Avenue\, Alexandria\, Virginia 22301. Gallery hours are Thursday 12-6pm\, Friday 12-9pm\, Saturday 12-6pm\, and Sunday 12-6pm (closed on August 31\, 2025). \nThe gallery is free\, open to the public\, and accessible. Del Ray Artisans\, a 501(3)(c) nonprofit organization whose mission is to promote art for the benefit of artists and the community. \nFor more information\, contact curator Robyn Seaton McGarry at robynmcgarry15@gmail.com or Director of Curating Amy Kitchin Hower at curating@delrayartisans.org.
URL:https://delrayartisans.org/event/lovely-as-a-tree/
LOCATION:Del Ray Artisans Gallery\, 2704 Mount Vernon Avenue\, Alexandria\, VA\, 22301\, United States
CATEGORIES:Art Exhibit,Del Ray Artisans Gallery
ATTACH;FMTTYPE=image/jpeg:https://delrayartisans.org/wp-content/uploads/2025/06/Backyard-Beauty-by-Robyn-Seaton-McGarry-square.jpg
ORGANIZER;CN="Robyn Seaton McGarry":MAILTO:robynmcgarry15@gmail.com
END:VEVENT
BEGIN:VEVENT
DTSTART;TZID=America/New_York:20250816T080000
DTEND;TZID=America/New_York:20250816T100000
DTSTAMP:20260423T131251
CREATED:20250422T160617Z
LAST-MODIFIED:20250422T163000Z
UID:10001824-1755331200-1755338400@delrayartisans.org
SUMMARY:Volunteer in the Gardens
DESCRIPTION:Give some TLC to Del Ray Artisans’ gardens! Join the Gardens Committee to spruce up the landscaping around the gallery. \nBring gloves\, knee pads (if desired)\, and laughter. Even if you don’t know what a weed is\, we can teach you. Volunteer for 1 hour or the whole 2.5 hours. If you have any questions\, please email Kurt at Gardens@DelRayArtisans.org. \nMEMBERS: This task counts towards your annual membership volunteer hours (record your hours). \nNON-MEMBERS: You are welcome to come help and learn too. \nSave the Dates: During the season (March-October)\, the committee typically meets the third Saturday of the month from 9am-11am. In June\, July\, and August\, we’ll meet an hour earlier (8am-10am) to avoid the heat. The June session will be a week earlier on Saturday\, June 14th; and the September session has been rescheduled to Sunday\, September 21st to avoid conflict with the HalloWEIRD art market. Thank you for your volunteer time! \n\nNOTE: All plantings and transplantings must be approved by the Garden Committee. The Garden Committee approval is important to make sure the plants that get chosen are great for nature\, located properly for the right amount of sun or shade\, don’t conflict with other plants or facility needs\, and fit into the overall garden plan with maintenance in mind.
URL:https://delrayartisans.org/event/garden-volunteers-2025/2025-08-16/
LOCATION:Del Ray Artisans Gallery\, 2704 Mount Vernon Avenue\, Alexandria\, VA\, 22301\, United States
CATEGORIES:Volunteer
ORGANIZER;CN="Gardens Committee":MAILTO:gardens@delrayartisans.org
END:VEVENT
BEGIN:VEVENT
DTSTART;TZID=America/New_York:20250816T180000
DTEND;TZID=America/New_York:20250816T200000
DTSTAMP:20260423T131251
CREATED:20250616T213406Z
LAST-MODIFIED:20251027T205441Z
UID:10001893-1755367200-1755374400@delrayartisans.org
SUMMARY:Radical Sewing Club-ALX 2025
DESCRIPTION:Welcome to Radical Sewing Club-ALX! \nStarted in LA by Scout Quiquivix\, the Alexandria chapter is a monthly drop-in style meeting where you can learn clothing repair\, hand and machine sewing\, or bring your own project to work on with the community. \nRadical Sewing Club is about more than sewing–it’s a space to reimagine craft outside of capitalism\, to resist exploitation and oppression\, and to stitch together a world based on care and solidarity. All who share these values are welcome. \nRegistration: Registration is not required\, but you may set a reminder in Eventbrite. \nCost: Recommended donation of $10 or pay what you can. No one turned away for lack of funds! Monetary donations will be split between Del Ray Artisans (our wonderful hosts) and Radical Sewing Club for continued materials. \nHave materials to donate? We welcome fabric (full cuts and scraps alike)\, thread\, needles\, interfacing\, embroidery hoops\, buttons\, pins\, trims\, lace\, and functional zippers. \nContact: radicalsewingclubalx@pm.me or @radicalsewingclub_alx on Instagram \nView All Upcoming Dates
URL:https://delrayartisans.org/event/radical-sewing-club-2025-08/
LOCATION:Del Ray Artisans Gallery\, 2704 Mount Vernon Avenue\, Alexandria\, VA\, 22301\, United States
CATEGORIES:Creative Summer Programs,Program,Radical Sewing Club
ATTACH;FMTTYPE=image/jpeg:https://delrayartisans.org/wp-content/uploads/2025/06/RSC-ALX.jpg
ORGANIZER;CN="Syd Grossman%2C Radical Sewing Club-ALX":MAILTO:radicalsewingclubalx@pm.me
END:VEVENT
END:VCALENDAR