BEGIN:VCALENDAR
VERSION:2.0
PRODID:-//Del Ray Artisans - ECPv6.15.20//NONSGML v1.0//EN
CALSCALE:GREGORIAN
METHOD:PUBLISH
X-ORIGINAL-URL:https://delrayartisans.org
X-WR-CALDESC:Events for Del Ray Artisans
REFRESH-INTERVAL;VALUE=DURATION:PT1H
X-Robots-Tag:noindex
X-PUBLISHED-TTL:PT1H
BEGIN:VTIMEZONE
TZID:America/New_York
BEGIN:DAYLIGHT
TZOFFSETFROM:-0500
TZOFFSETTO:-0400
TZNAME:EDT
DTSTART:20240310T070000
END:DAYLIGHT
BEGIN:STANDARD
TZOFFSETFROM:-0400
TZOFFSETTO:-0500
TZNAME:EST
DTSTART:20241103T060000
END:STANDARD
BEGIN:DAYLIGHT
TZOFFSETFROM:-0500
TZOFFSETTO:-0400
TZNAME:EDT
DTSTART:20250309T070000
END:DAYLIGHT
BEGIN:STANDARD
TZOFFSETFROM:-0400
TZOFFSETTO:-0500
TZNAME:EST
DTSTART:20251102T060000
END:STANDARD
BEGIN:DAYLIGHT
TZOFFSETFROM:-0500
TZOFFSETTO:-0400
TZNAME:EDT
DTSTART:20260308T070000
END:DAYLIGHT
BEGIN:STANDARD
TZOFFSETFROM:-0400
TZOFFSETTO:-0500
TZNAME:EST
DTSTART:20261101T060000
END:STANDARD
END:VTIMEZONE
BEGIN:VEVENT
DTSTART;VALUE=DATE:20250801
DTEND;VALUE=DATE:20250831
DTSTAMP:20260423T131203
CREATED:20250118T204534Z
LAST-MODIFIED:20250622T172345Z
UID:10001748-1754006400-1756598399@delrayartisans.org
SUMMARY:Lovely As A Tree at Del Ray Artisans Gallery
DESCRIPTION:Lovely As A Tree Art Exhibit\nAugust 1–30\, 2025\nOpening Reception: Friday\, August 1 from 7–9pm\n“Backyard Beauty” by Robyn Seaton McGarry\nLovely As A Tree is an art exhibit exploring the ways in which trees impact our lives and this earth. Humans and animals benefit from the shade\, shelter\, food provided\, the beauty of and the environmental impact of trees. The talented members of Del Ray Artisans will bring aspects of this natural phenomenon to artistic life through painting\, photography\, ceramics\, items created from wood and other mediums that flow from their prolific imaginations. This art exhibit is a showcase for the creative members of Del Ray Artisans. \nJoin us for the opening reception on Friday\, August 1 between 7-9pm to meet curator Robyn Seaton McGarry and the artists. Mark your calendar now or set a reminder through Eventbrite. \nAlso check out Del Ray Artisans’ Creative Summer Programs this month. In this series of workshops exploring the arts\, you will learn techniques in collage\, drawing\, mixed media\, photography\, bead embroidery\, and more from local artists. Delve into creative exploration solo or with friends. For children and/or adults\, free and paid programs are offered. Details at DelRayArtisans.org/creative-summer. \nThe Lovely As A Tree art exhibit runs from August 1–30\, 2025 at Del Ray Artisans gallery in the Colasanto Center\, 2704 Mount Vernon Avenue\, Alexandria\, Virginia 22301. Gallery hours are Thursday 12-6pm\, Friday 12-9pm\, Saturday 12-6pm\, and Sunday 12-6pm (closed on August 31\, 2025). \nThe gallery is free\, open to the public\, and accessible. Del Ray Artisans\, a 501(3)(c) nonprofit organization whose mission is to promote art for the benefit of artists and the community. \nFor more information\, contact curator Robyn Seaton McGarry at robynmcgarry15@gmail.com or Director of Curating Amy Kitchin Hower at curating@delrayartisans.org.
URL:https://delrayartisans.org/event/lovely-as-a-tree/
LOCATION:Del Ray Artisans Gallery\, 2704 Mount Vernon Avenue\, Alexandria\, VA\, 22301\, United States
CATEGORIES:Art Exhibit,Del Ray Artisans Gallery
ATTACH;FMTTYPE=image/jpeg:https://delrayartisans.org/wp-content/uploads/2025/06/Backyard-Beauty-by-Robyn-Seaton-McGarry-square.jpg
ORGANIZER;CN="Robyn Seaton McGarry":MAILTO:robynmcgarry15@gmail.com
END:VEVENT
BEGIN:VEVENT
DTSTART;TZID=America/New_York:20250810T100000
DTEND;TZID=America/New_York:20250810T120000
DTSTAMP:20260423T131203
CREATED:20250619T212734Z
LAST-MODIFIED:20250925T000157Z
UID:10001900-1754820000-1754827200@delrayartisans.org
SUMMARY:CANCELED: STEAM-tastic: A Trail of Trouble (Ages 6-12)
DESCRIPTION:This workshops has been canceled. \nInstructor: Danielle Simone\nDate/Time: Sunday\, August 10\, 10am to Noon\nCost: $25/child\nClass size: 8-16 participants\n(Register in advance) \nDanielle Simone is a Virginia author and will share some activities from her book\, A Trail of Trouble. Participants will work through 4 stations: create signs for Leave No Trace camping\, engage in an outdoor natural items scavenger hunt\, explore natural first aid remedies\, and design a suspension bridge. While students are engaged in these activities\, they will learn about global warming and the importance of protecting our environment. \nAll participants will also receive a copy of Danielle’s book\, A Trail of Trouble. To learn more about Danielle Simone and her book\, visit daniellesimoneauthor.com. \nAll supplies are included. The hands-on activity is for participants’ ages 6-12. Family members are welcome to attend\, listen\, and learn. \n \n  \n\nSTEAM-tastic @ DRA – Come join us at Del Ray Artisans for interactive classes about Science\, Technology\, Engineering\, Arts and Math (STEAM)\, taught by professionals from each field! Geared toward youth\, each lesson has a short talk or demonstration and a hands-on craft project. Del Ray Artisans’ STEAM-tastic workshops are made possible with support from the City of Alexandria through the FY2026 Annual Arts Program Grant.\n \n\nView other upcoming workshops\, information about the facility\, and policies on the Upcoming Workshops page.
URL:https://delrayartisans.org/event/steam-tastic-trail-of-trouble/
LOCATION:Del Ray Artisans Gallery\, 2704 Mount Vernon Avenue\, Alexandria\, VA\, 22301\, United States
CATEGORIES:Creative Summer Programs,Program,Workshop,Youth
ATTACH;FMTTYPE=image/webp:https://delrayartisans.org/wp-content/uploads/2025/06/STEAM-Trail-of-Trouble-by-Danielle-Simone.webp
END:VEVENT
BEGIN:VEVENT
DTSTART;TZID=America/New_York:20250810T180000
DTEND;TZID=America/New_York:20250810T210000
DTSTAMP:20260423T131203
CREATED:20250506T214209Z
LAST-MODIFIED:20250806T215601Z
UID:10001851-1754848800-1754859600@delrayartisans.org
SUMMARY:Playing with Resin Workshop (Register ASAP)
DESCRIPTION:Instructor: Tracy Wilkerson\, recycledworks@yahoo.com\nDate/Time: Sunday\, August 10\, 6-9pm\nCost: $40 Del Ray Artisans member / $50 Non-member; plus a $10 Supply Fee\nClass size: 6-12 participants\n(Register in advance to guarantee a spot; walk-ins welcome\, space permitting.) \nLearn the ins and outs of prepping for and mixing resin\, and how to use it as an adhesive\, a covering\, or the main medium. There’s lots of creative time during this 3-hour workshop… No need to rush\, which is one of the first lessons in using resin! All supplies are provided\, but feel free to bring personal embellishments for your piece(s). \nThis workshop does not get into using dyes with resin or building big molds to create one-of-a-kind resined tables (as seen on YouTube)\, but this workshop will provide you with a good understanding of how resin works so you can be bold enough to take the next steps in your creative interests. \nAlthough the class is listed for 3 hours\, you can leave once you have finished your creations. Some students finish very quickly while others take the whole 3 hours to create – there is plenty of time for each person to enjoy the creative process while not feeling rushed. You’ll leave your finished masterpiece(s) to set at the gallery at the end of the workshop\, and pick them up during gallery hours later in the week. \nThe workshop is designed for adults. Children ages 16-17 may participate with parental permission. Children ages 12-15 may participate only with a co-participating adult guardian (guardian must contact instructor in advance). \nRegister Now \n\nView other upcoming workshops\, information about the facility and policies on the Upcoming Workshops page.
URL:https://delrayartisans.org/event/resin-august-2025/
LOCATION:Del Ray Artisans Gallery\, 2704 Mount Vernon Avenue\, Alexandria\, VA\, 22301\, United States
CATEGORIES:Creative Summer Programs,Program,Workshop
ATTACH;FMTTYPE=image/jpeg:https://delrayartisans.org/wp-content/uploads/1992/12/playing-with-resin-vMKzOK.tmp.jpg
ORGANIZER;CN="Tracy Wilkerson":MAILTO:recycledworks@yahoo.com
END:VEVENT
BEGIN:VEVENT
DTSTART;TZID=America/New_York:20250810T235900
DTEND;TZID=America/New_York:20250810T235900
DTSTAMP:20260423T131203
CREATED:20250209T192328Z
LAST-MODIFIED:20250522T231151Z
UID:10001770-1754870340-1754870340@delrayartisans.org
SUMMARY:“Second Time Around” Call for Entry Deadline
DESCRIPTION:Call for Entry ~ Open to area artists\nSecond Time Around\nExhibit Dates: September 5–27\, 2025\nDigital entry deadline: Sunday\, August 10\, 2025 by midnight\n“Amoeba Series: Party!” by Tracy Wilkerson\nSeeking art that focuses on sustainable creativity and enhancing the artistic environmental ethos. Artists are encouraged to use recycled materials\, found objects\, old canvases or panels and more to repurpose them into a new piece of art. This call for entry requires that your submitted art pieces utilize at least 50% recycled materials. \nThe exhibit is open to all area artists. Del Ray Artisans members pay a discounted entry fee. \nEntry Details & Form
URL:https://delrayartisans.org/event/second-time-deadline/
LOCATION:Online
CATEGORIES:Entry Deadline
ORGANIZER;CN="Tracy Wilkerson":MAILTO:recycledworks@yahoo.com
END:VEVENT
END:VCALENDAR