BEGIN:VCALENDAR
VERSION:2.0
PRODID:-//Del Ray Artisans - ECPv6.15.20//NONSGML v1.0//EN
CALSCALE:GREGORIAN
METHOD:PUBLISH
X-WR-CALNAME:Del Ray Artisans
X-ORIGINAL-URL:https://delrayartisans.org
X-WR-CALDESC:Events for Del Ray Artisans
REFRESH-INTERVAL;VALUE=DURATION:PT1H
X-Robots-Tag:noindex
X-PUBLISHED-TTL:PT1H
BEGIN:VTIMEZONE
TZID:America/New_York
BEGIN:DAYLIGHT
TZOFFSETFROM:-0500
TZOFFSETTO:-0400
TZNAME:EDT
DTSTART:20240310T070000
END:DAYLIGHT
BEGIN:STANDARD
TZOFFSETFROM:-0400
TZOFFSETTO:-0500
TZNAME:EST
DTSTART:20241103T060000
END:STANDARD
BEGIN:DAYLIGHT
TZOFFSETFROM:-0500
TZOFFSETTO:-0400
TZNAME:EDT
DTSTART:20250309T070000
END:DAYLIGHT
BEGIN:STANDARD
TZOFFSETFROM:-0400
TZOFFSETTO:-0500
TZNAME:EST
DTSTART:20251102T060000
END:STANDARD
BEGIN:DAYLIGHT
TZOFFSETFROM:-0500
TZOFFSETTO:-0400
TZNAME:EDT
DTSTART:20260308T070000
END:DAYLIGHT
BEGIN:STANDARD
TZOFFSETFROM:-0400
TZOFFSETTO:-0500
TZNAME:EST
DTSTART:20261101T060000
END:STANDARD
END:VTIMEZONE
BEGIN:VEVENT
DTSTART;VALUE=DATE:20250712
DTEND;VALUE=DATE:20250714
DTSTAMP:20260423T151848
CREATED:20250312T184617Z
LAST-MODIFIED:20250711T140116Z
UID:10001796-1752278400-1752451199@delrayartisans.org
SUMMARY:Summer Art Market 2025 at Del Ray Artisans Gallery
DESCRIPTION:Join us for Del Ray Artisans’ 4th annual Summer Art Market! This two-day\, indoor market gives you the chance to purchase original handmade artwork from talented local artists. Each day is a different group of local artists with original work in a wide range of media including ceramics\, fiber\, glass\, jewelry\, mixed media\, paper\, photography\, and more. Perfect for gifts or treat yourself! \nThe 2025 Summer Art Market is on Saturday and Sunday\, July 12 and 13\, from 10am–4pm inside Del Ray Artisans gallery at 2704 Mount Vernon Avenue\, Alexandria\, VA. Mark your calendar now or set a reminder through Eventbrite. The Summer Art Market is open to the public and free to browse. \nDifferent artists are featured each day\, so treat yourself and plan to visit the gallery on both days! Lost Boy Cider will also be participating in the event and will have a selection of their beverages. The artists featured in the 2025 Summer Art Market are: \nSaturday\, July 12\, 10am–4pm\n\n\n\nJohn T Allen (Permian Designs)\nDenise Bentley (BFabricArt)\nRita Cohen\, Blueweave\nGretchen D’Amore (Gdamore.com)\nDonald Harris (Exclusively Knott’s Bow Ties)\nRoz Jacobs (Rozzie Jewelry)\nAmy Kitchin Hower (AKH Studio Designs)\nAudrey Kremer (AudreyK-Designs)\nGinny Loving (Horrible Darlings by Ginny Loving)\nDiana Manchak (designsinclay)\nLiz Martinez\nHeather McMordie\nCynthia Schoeppel (Cynthia Schoeppel Art)\nAnn Cameron Siegal (The Momentary Pause)\nKathy Stoner\nTamara Wilkerson (WiRealm by Tamara)\n\n \nSunday\, July 13\, 10am–4pm\n\nJordana Adelman (Curious by Nature)\nCourtney Arnold (Lola Earnestine)\nVictoria Barnes (Victoria Barnes Photography)\nCarolyn Barone (Must Haves…Designs by Carolyn)\nNorma J. Brooks (njb Basket of Jewels)\nMaxine Cholmondeley (Max’s Mixtures Candles & Soaps)\nLiz Cotter\nFin Jullien (FinFurFeathers)\nLaine (Lainemindinventions)\nStephen Lally (Stephen Lally Pottery)\nSusan Lefler (Susan Lefler Studios)\nMike Long (Mike’s Wood Whirld)\nMiyoung Obenschain (Purple Cardinal Arts LLC)\nKen Reed (Green and Burning Tree)\nRainbow-Wolf Sabin (Rainbow-Wolf Photos)\nTracy Wilkerson (Recycled Works)\n\n 
URL:https://delrayartisans.org/event/summer-art-market-2025/
LOCATION:Del Ray Artisans Gallery\, 2704 Mount Vernon Avenue\, Alexandria\, VA\, 22301\, United States
CATEGORIES:Art Exhibit,Market
ATTACH;FMTTYPE=image/jpeg:https://delrayartisans.org/wp-content/uploads/2025/03/Summer-Art-Market-no-date.jpg
ORGANIZER;CN="Stephen Lally":MAILTO:slallypottery@gmail.com
END:VEVENT
BEGIN:VEVENT
DTSTART;TZID=America/New_York:20250713T235900
DTEND;TZID=America/New_York:20250713T235900
DTSTAMP:20260423T151848
CREATED:20250626T152344Z
LAST-MODIFIED:20250626T152344Z
UID:10001906-1752451140-1752451140@delrayartisans.org
SUMMARY:Alcove Gift Shop Call for Artists Deadline
DESCRIPTION:Call for Artists ~ Open to Del Ray Artisans Members\nAlcove Gift Shop\nAugust 1 – September 27\, 2025\nApplication deadline: Sunday\, July 13\, 2025 by midnight \nDel Ray Artisans’ Alcove is a gift shop within the gallery\, where members (who apply and are accepted) display and sell their work. Unframed 2-D works are available in bins alongside jewelry\, fiber art\, wood craft\, ceramics\, and other smaller 3-D items. \nThe work will be displayed for two months\, and as pieces are sold they can be replaced with similar work for no additional fee. This opportunity is independent of the monthly exhibits and is only open to Del Ray Artisans members. If you are not a member\, you may join Del Ray Artisans now to enter. \nApplication Details & Form
URL:https://delrayartisans.org/event/alcove-aug-sept-2025-cfa-deadline/
LOCATION:Online
CATEGORIES:Entry Deadline
ORGANIZER;CN="Stephen Lally":MAILTO:slallypottery@gmail.com
END:VEVENT
END:VCALENDAR