BEGIN:VCALENDAR
VERSION:2.0
PRODID:-//Del Ray Artisans - ECPv6.15.20//NONSGML v1.0//EN
CALSCALE:GREGORIAN
METHOD:PUBLISH
X-WR-CALNAME:Del Ray Artisans
X-ORIGINAL-URL:https://delrayartisans.org
X-WR-CALDESC:Events for Del Ray Artisans
REFRESH-INTERVAL;VALUE=DURATION:PT1H
X-Robots-Tag:noindex
X-PUBLISHED-TTL:PT1H
BEGIN:VTIMEZONE
TZID:America/New_York
BEGIN:DAYLIGHT
TZOFFSETFROM:-0500
TZOFFSETTO:-0400
TZNAME:EDT
DTSTART:20240310T070000
END:DAYLIGHT
BEGIN:STANDARD
TZOFFSETFROM:-0400
TZOFFSETTO:-0500
TZNAME:EST
DTSTART:20241103T060000
END:STANDARD
BEGIN:DAYLIGHT
TZOFFSETFROM:-0500
TZOFFSETTO:-0400
TZNAME:EDT
DTSTART:20250309T070000
END:DAYLIGHT
BEGIN:STANDARD
TZOFFSETFROM:-0400
TZOFFSETTO:-0500
TZNAME:EST
DTSTART:20251102T060000
END:STANDARD
BEGIN:DAYLIGHT
TZOFFSETFROM:-0500
TZOFFSETTO:-0400
TZNAME:EDT
DTSTART:20260308T070000
END:DAYLIGHT
BEGIN:STANDARD
TZOFFSETFROM:-0400
TZOFFSETTO:-0500
TZNAME:EST
DTSTART:20261101T060000
END:STANDARD
END:VTIMEZONE
BEGIN:VEVENT
DTSTART;VALUE=DATE:20250707
DTEND;VALUE=DATE:20250712
DTSTAMP:20260423T151848
CREATED:20250512T222029Z
LAST-MODIFIED:20250612T152928Z
UID:10001855-1751846400-1752278399@delrayartisans.org
SUMMARY:Figure Drawing Bootcamp (6pm–10pm/day)
DESCRIPTION:Monday\, July 7 – Friday\, July 11\n6pm–10pm each day\nRegister Now \nDel Ray Artisans is offering an instructional 5-day Figure Drawing Bootcamp. Each evening we will be honing our skills in composition\, anatomy\, mark making\, and portraiture by studying the body through dynamic and long pose life drawing and activities. Each evening features a new model and new lessons\, ensuring an engaging experience for artists at any stage of their journey. Can’t attend every evening? Get a one-day pass! \n$200/week – Del Ray Artisans member\n$250/week – Non-member\n$55/day – Del Ray Artisans member\n$65/day – Non-member \nImmerse yourself in a creative environment\, fostering both artistic expression and community. Whether you are drawing with traditional media or digitally\, our bootcamp will have plenty to challenge you! \nGeneral Overview of Daily Instruction: \n\nDay 1: Tools\, starting your drawing\, and composition\nDay 2: Backgrounds\, mark making\, structure\nDay 3: Intro to perspective and getting unstuck while drawing\nDay 4: Why anatomy matters + advanced shadow/light and mark making\nDay 5: Contrast\, how to make final marks + portrait lessons\n\nSupplies: Bring your own supplies or purchase our $30 supply kit (optional). The kit will provide you with a basic set of tools to get started including newsprint\, charcoal\, fine art paper\, and pastels. \nIf you’d like to bring your own supplies\, we recommend: \n\n1 pad of Newsprint (preferably 14″ x 16″ or 18″ x 24″)\nCharcoal (a variety of vine\, compressed\, pencils\, and/or sticks)\nGrey and/or Tan Toned Drawing Paper (for longer poses)\nRags/Blending stumps/Paper towels\nKneaded & Solid Erasers\nOr anything you currently feel comfortable drawing with\nClipboards/Easels are welcome! (We will provide small tv trays for participants.)\nNote: No oil paint during these sessions due to fumes. Dry media\, acrylic paints\, and watercolor are allowed.\n\nQuestions? Contact Figure Drawing Coordinator\, Brando Gould at lifedrawing@delrayartisans.org. View scenes from last year’s bootcamp: Figure Drawing Bootcamp 2024. \nRegister Now
URL:https://delrayartisans.org/event/figure-drawing-bootcamp/
LOCATION:Del Ray Artisans Gallery\, 2704 Mount Vernon Avenue\, Alexandria\, VA\, 22301\, United States
CATEGORIES:Creative Summer Programs,Life Drawing,Program,Workshop
ATTACH;FMTTYPE=image/jpeg:https://delrayartisans.org/wp-content/uploads/2025/06/figure-drawing-bootcamp-2025.jpg
ORGANIZER;CN="Brando Gould%2C Figure Drawing Coordinator":MAILTO:lifedrawing@delrayartisans.org
END:VEVENT
END:VCALENDAR