BEGIN:VCALENDAR
VERSION:2.0
PRODID:-//Del Ray Artisans - ECPv6.15.20//NONSGML v1.0//EN
CALSCALE:GREGORIAN
METHOD:PUBLISH
X-WR-CALNAME:Del Ray Artisans
X-ORIGINAL-URL:https://delrayartisans.org
X-WR-CALDESC:Events for Del Ray Artisans
REFRESH-INTERVAL;VALUE=DURATION:PT1H
X-Robots-Tag:noindex
X-PUBLISHED-TTL:PT1H
BEGIN:VTIMEZONE
TZID:America/New_York
BEGIN:DAYLIGHT
TZOFFSETFROM:-0500
TZOFFSETTO:-0400
TZNAME:EDT
DTSTART:20240310T070000
END:DAYLIGHT
BEGIN:STANDARD
TZOFFSETFROM:-0400
TZOFFSETTO:-0500
TZNAME:EST
DTSTART:20241103T060000
END:STANDARD
BEGIN:DAYLIGHT
TZOFFSETFROM:-0500
TZOFFSETTO:-0400
TZNAME:EDT
DTSTART:20250309T070000
END:DAYLIGHT
BEGIN:STANDARD
TZOFFSETFROM:-0400
TZOFFSETTO:-0500
TZNAME:EST
DTSTART:20251102T060000
END:STANDARD
BEGIN:DAYLIGHT
TZOFFSETFROM:-0500
TZOFFSETTO:-0400
TZNAME:EDT
DTSTART:20260308T070000
END:DAYLIGHT
BEGIN:STANDARD
TZOFFSETFROM:-0400
TZOFFSETTO:-0500
TZNAME:EST
DTSTART:20261101T060000
END:STANDARD
END:VTIMEZONE
BEGIN:VEVENT
DTSTART;VALUE=DATE:20250530
DTEND;VALUE=DATE:20250630
DTSTAMP:20260423T185545
CREATED:20241030T214329Z
LAST-MODIFIED:20250622T151816Z
UID:10001698-1748563200-1751241599@delrayartisans.org
SUMMARY:Sing Me a Sea Shanty at Del Ray Artisans Gallery
DESCRIPTION:Sing Me a Sea Shanty Art Exhibit\nMay 30 – June 29\, 2025\nReception: Friday\, June 6 from 7–9pm\n“Boats & Ropes – Old Port\, Portland Maine” by Tiara Safic-Martin\nPhoto Album \nCome explore a treasure trove of artwork capturing the beauty of the ocean\, the maritime mind-set\, and the ever-lasting nautical spirit during the Sing Me a Sea Shanty art exhibit at Del Ray Artisans gallery. From lighthouses and stormy seas\, to portside pubs and fishing lures\, get lost in a pirate’s plunder of creativity. Who knows\, you might even come upon a sea monster or two! \nJoin us for the exhibit reception on Friday\, June 6 between 7-9pm to meet curators Tiara Safic-Martin and TJ Feeley and the artists. Mark your calendar now or set a reminder through Eventbrite. \nThe Sing Me a Sea Shanty art exhibit runs from May 30 – June 29\, 2025 at Del Ray Artisans gallery in the Colasanto Center\, 2704 Mount Vernon Avenue\, Alexandria\, Virginia 22301. Gallery hours are Thursday 12-6pm\, Friday 12-9pm\, Saturday 12-6pm\, and Sunday 12-6pm (hours differ in July). \nThe gallery is free\, open to the public\, and accessible. Del Ray Artisans\, a 501(3)(c) nonprofit organization whose mission is to promote art for the benefit of artists and the community. \nFor more information\, contact curators Tiara Safic-Martin at tsmartin27@outlook.com and TJ Feeley at tjfeeley@gmail.com or Director of Curating Amy Kitchin Hower at curating@delrayartisans.org.
URL:https://delrayartisans.org/event/sea-shanty/
LOCATION:Del Ray Artisans Gallery\, 2704 Mount Vernon Avenue\, Alexandria\, VA\, 22301\, United States
CATEGORIES:Art Exhibit,Del Ray Artisans Gallery
ATTACH;FMTTYPE=image/jpeg:https://delrayartisans.org/wp-content/uploads/2025/04/BoatsAndRopes-OldPort-PortlandMaine-byTiaraSafic-Martin-square.jpg
ORGANIZER;CN="TJ Feeley":MAILTO:tjfeeley@gmail.com
END:VEVENT
BEGIN:VEVENT
DTSTART;TZID=America/New_York:20250624T190000
DTEND;TZID=America/New_York:20250624T210000
DTSTAMP:20260423T185545
CREATED:20241030T204925Z
LAST-MODIFIED:20250526T201830Z
UID:10001651-1750791600-1750798800@delrayartisans.org
SUMMARY:Figure Drawing – Gesture and Short Poses Session
DESCRIPTION:Drop-in and practice figure drawing on two select Tuesday* evenings each month. Bring your supplies and join us at the gallery to draw or paint our nude model.\n*Most sessions are on Tuesday evenings\, but in 2025 there will be a session on Thursday\, November 13 and a few costumed sessions on Thursday evenings in October. \nTraditional drawing media (such as pencils\, pens\, and charcoal) are welcome; and pastels\, watercolor and ink are permissible. Please do not bring acrylics or oil paints. We don’t supply easels – only plenty of chairs – but you are welcome to bring your own easel if you want to use one. All skill levels are welcome. \nThe first part of this session will be focused on gesture poses (dynamic 1-5 minute poses) to loosen up and participate in a fun\, fast-paced drawing experience. The second hour will be a few short poses for more detailed drawings leading up to up to two 20-minute poses. \nFee for each session is $10 for Del Ray Artisans members and $15 for non-members.  If you have any questions or would like to participate as a model for our sessions\, please contact Brando Gould at LifeDrawing@DelRayArtisans.org. \nView artwork from past DRA Figure Drawing Sessions on Instagram! Tag #dralifedraw or @dralifedraw for your work to be featured. \nRegister Now  |  View Upcoming Sessions \n\nArtwork credit: Detail of “To The Beat” by Katherine Rand
URL:https://delrayartisans.org/event/figure-drawing-csp-2025/2025-06-24/
LOCATION:Del Ray Artisans Gallery\, 2704 Mount Vernon Avenue\, Alexandria\, VA\, 22301\, United States
CATEGORIES:Creative Summer Programs,Life Drawing,Program
ATTACH;FMTTYPE=image/jpeg:https://delrayartisans.org/wp-content/uploads/2019/01/To-The-Beat-detail-by-Katherine-Rand.jpg
ORGANIZER;CN="Brando Gould%2C Figure Drawing Coordinator":MAILTO:lifedrawing@delrayartisans.org
END:VEVENT
END:VCALENDAR