BEGIN:VCALENDAR
VERSION:2.0
PRODID:-//Del Ray Artisans - ECPv6.15.20//NONSGML v1.0//EN
CALSCALE:GREGORIAN
METHOD:PUBLISH
X-WR-CALNAME:Del Ray Artisans
X-ORIGINAL-URL:https://delrayartisans.org
X-WR-CALDESC:Events for Del Ray Artisans
REFRESH-INTERVAL;VALUE=DURATION:PT1H
X-Robots-Tag:noindex
X-PUBLISHED-TTL:PT1H
BEGIN:VTIMEZONE
TZID:America/New_York
BEGIN:DAYLIGHT
TZOFFSETFROM:-0500
TZOFFSETTO:-0400
TZNAME:EDT
DTSTART:20240310T070000
END:DAYLIGHT
BEGIN:STANDARD
TZOFFSETFROM:-0400
TZOFFSETTO:-0500
TZNAME:EST
DTSTART:20241103T060000
END:STANDARD
BEGIN:DAYLIGHT
TZOFFSETFROM:-0500
TZOFFSETTO:-0400
TZNAME:EDT
DTSTART:20250309T070000
END:DAYLIGHT
BEGIN:STANDARD
TZOFFSETFROM:-0400
TZOFFSETTO:-0500
TZNAME:EST
DTSTART:20251102T060000
END:STANDARD
BEGIN:DAYLIGHT
TZOFFSETFROM:-0500
TZOFFSETTO:-0400
TZNAME:EDT
DTSTART:20260308T070000
END:DAYLIGHT
BEGIN:STANDARD
TZOFFSETFROM:-0400
TZOFFSETTO:-0500
TZNAME:EST
DTSTART:20261101T060000
END:STANDARD
END:VTIMEZONE
BEGIN:VEVENT
DTSTART;VALUE=DATE:20250530
DTEND;VALUE=DATE:20250630
DTSTAMP:20260423T221905
CREATED:20241030T214329Z
LAST-MODIFIED:20250622T151816Z
UID:10001698-1748563200-1751241599@delrayartisans.org
SUMMARY:Sing Me a Sea Shanty at Del Ray Artisans Gallery
DESCRIPTION:Sing Me a Sea Shanty Art Exhibit\nMay 30 – June 29\, 2025\nReception: Friday\, June 6 from 7–9pm\n“Boats & Ropes – Old Port\, Portland Maine” by Tiara Safic-Martin\nPhoto Album \nCome explore a treasure trove of artwork capturing the beauty of the ocean\, the maritime mind-set\, and the ever-lasting nautical spirit during the Sing Me a Sea Shanty art exhibit at Del Ray Artisans gallery. From lighthouses and stormy seas\, to portside pubs and fishing lures\, get lost in a pirate’s plunder of creativity. Who knows\, you might even come upon a sea monster or two! \nJoin us for the exhibit reception on Friday\, June 6 between 7-9pm to meet curators Tiara Safic-Martin and TJ Feeley and the artists. Mark your calendar now or set a reminder through Eventbrite. \nThe Sing Me a Sea Shanty art exhibit runs from May 30 – June 29\, 2025 at Del Ray Artisans gallery in the Colasanto Center\, 2704 Mount Vernon Avenue\, Alexandria\, Virginia 22301. Gallery hours are Thursday 12-6pm\, Friday 12-9pm\, Saturday 12-6pm\, and Sunday 12-6pm (hours differ in July). \nThe gallery is free\, open to the public\, and accessible. Del Ray Artisans\, a 501(3)(c) nonprofit organization whose mission is to promote art for the benefit of artists and the community. \nFor more information\, contact curators Tiara Safic-Martin at tsmartin27@outlook.com and TJ Feeley at tjfeeley@gmail.com or Director of Curating Amy Kitchin Hower at curating@delrayartisans.org.
URL:https://delrayartisans.org/event/sea-shanty/
LOCATION:Del Ray Artisans Gallery\, 2704 Mount Vernon Avenue\, Alexandria\, VA\, 22301\, United States
CATEGORIES:Art Exhibit,Del Ray Artisans Gallery
ATTACH;FMTTYPE=image/jpeg:https://delrayartisans.org/wp-content/uploads/2025/04/BoatsAndRopes-OldPort-PortlandMaine-byTiaraSafic-Martin-square.jpg
ORGANIZER;CN="TJ Feeley":MAILTO:tjfeeley@gmail.com
END:VEVENT
BEGIN:VEVENT
DTSTART;TZID=America/New_York:20250614T080000
DTEND;TZID=America/New_York:20250614T220000
DTSTAMP:20260423T221905
CREATED:20250422T160617Z
LAST-MODIFIED:20250422T163000Z
UID:10001827-1749888000-1749938400@delrayartisans.org
SUMMARY:Volunteer in the Gardens
DESCRIPTION:Give some TLC to Del Ray Artisans’ gardens! Join the Gardens Committee to spruce up the landscaping around the gallery. \nBring gloves\, knee pads (if desired)\, and laughter. Even if you don’t know what a weed is\, we can teach you. Volunteer for 1 hour or the whole 2.5 hours. If you have any questions\, please email Kurt at Gardens@DelRayArtisans.org. \nMEMBERS: This task counts towards your annual membership volunteer hours (record your hours). \nNON-MEMBERS: You are welcome to come help and learn too. \nSave the Dates: During the season (March-October)\, the committee typically meets the third Saturday of the month from 9am-11am. In June\, July\, and August\, we’ll meet an hour earlier (8am-10am) to avoid the heat. The June session will be a week earlier on Saturday\, June 14th; and the September session has been rescheduled to Sunday\, September 21st to avoid conflict with the HalloWEIRD art market. Thank you for your volunteer time! \n\nNOTE: All plantings and transplantings must be approved by the Garden Committee. The Garden Committee approval is important to make sure the plants that get chosen are great for nature\, located properly for the right amount of sun or shade\, don’t conflict with other plants or facility needs\, and fit into the overall garden plan with maintenance in mind.
URL:https://delrayartisans.org/event/garden-volunteers-2025/2025-06-14/
LOCATION:Del Ray Artisans Gallery\, 2704 Mount Vernon Avenue\, Alexandria\, VA\, 22301\, United States
CATEGORIES:Volunteer
ORGANIZER;CN="Gardens Committee":MAILTO:gardens@delrayartisans.org
END:VEVENT
BEGIN:VEVENT
DTSTART;TZID=America/New_York:20250614T235900
DTEND;TZID=America/New_York:20250614T235900
DTSTAMP:20260423T221905
CREATED:20250522T151021Z
LAST-MODIFIED:20250522T151021Z
UID:10001866-1749945540-1749945540@delrayartisans.org
SUMMARY:Summer Art Market Applications Due
DESCRIPTION:Call for Artists\nDel Ray Artisans’ Summer Art Market\nApplication deadline: Saturday\, June 14\, 2025 by midnight\nApply now for our 4th annual indoor Summer Art Market! Different artists will be selected for each market day (Saturday\, July 12 and Sunday\, July 13 from 10am-4pm). Seeking a range of media including ceramics\, fiber\, jewelry\, mixed media\, painting\, photography\, and more. \nDetails and Application
URL:https://delrayartisans.org/event/summer-art-market-2025-deadline/
LOCATION:Online
CATEGORIES:Entry Deadline
ORGANIZER;CN="Stephen Lally":MAILTO:slallypottery@gmail.com
END:VEVENT
END:VCALENDAR