BEGIN:VCALENDAR
VERSION:2.0
PRODID:-//Del Ray Artisans - ECPv6.15.20//NONSGML v1.0//EN
CALSCALE:GREGORIAN
METHOD:PUBLISH
X-ORIGINAL-URL:https://delrayartisans.org
X-WR-CALDESC:Events for Del Ray Artisans
REFRESH-INTERVAL;VALUE=DURATION:PT1H
X-Robots-Tag:noindex
X-PUBLISHED-TTL:PT1H
BEGIN:VTIMEZONE
TZID:America/New_York
BEGIN:DAYLIGHT
TZOFFSETFROM:-0500
TZOFFSETTO:-0400
TZNAME:EDT
DTSTART:20240310T070000
END:DAYLIGHT
BEGIN:STANDARD
TZOFFSETFROM:-0400
TZOFFSETTO:-0500
TZNAME:EST
DTSTART:20241103T060000
END:STANDARD
BEGIN:DAYLIGHT
TZOFFSETFROM:-0500
TZOFFSETTO:-0400
TZNAME:EDT
DTSTART:20250309T070000
END:DAYLIGHT
BEGIN:STANDARD
TZOFFSETFROM:-0400
TZOFFSETTO:-0500
TZNAME:EST
DTSTART:20251102T060000
END:STANDARD
BEGIN:DAYLIGHT
TZOFFSETFROM:-0500
TZOFFSETTO:-0400
TZNAME:EDT
DTSTART:20260308T070000
END:DAYLIGHT
BEGIN:STANDARD
TZOFFSETFROM:-0400
TZOFFSETTO:-0500
TZNAME:EST
DTSTART:20261101T060000
END:STANDARD
END:VTIMEZONE
BEGIN:VEVENT
DTSTART;VALUE=DATE:20250502
DTEND;VALUE=DATE:20250525
DTSTAMP:20260423T221948
CREATED:20241030T213847Z
LAST-MODIFIED:20250521T073320Z
UID:10001697-1746144000-1748131199@delrayartisans.org
SUMMARY:Alexandria City High School 2025 Titan Student Art Exhibition at Del Ray Artisans Gallery
DESCRIPTION:Alexandria City High School 2025 Titan Student Art Exhibition\nMay 2–24\, 2025\nOpening Reception: Friday\, May 2 from 7–9pm\nPhoto Album \nEver wished you’d seen Picasso before he became famous? Or was the one to discover Renoir? The trick is to check out the artistry all around you. The Alexandria City High School (ACHS) Titan Student Art Exhibition at Del Ray Artisans gallery shines a spotlight on our city’s flourishing young artists. Stop by to support Alexandria City High School’s best of the best. \nJoin us for the opening reception on Fri.\, May 2\, 2025 between 7-9 p.m. to meet the curators: Del Ray Artisans’ Youth Programs Director (Sandra Alami)\, ACHS Visual Art Department teachers (Hannah Brownell\, Tabitha Eller\, Anna Huerta\, Pamela Johnson\, Victoria Krieger\, Lauren Pierson\, and Marisa St. Louis)\, and Career & Technical Education (CTE) teachers (Maria Ivanova and Taylor Welch)\, as well as some of the artists. Mark your calendar or set a reminder through Eventbrite at achs-2025-titan-art.eventbrite.com. \nThe reception will feature chamber music performances led by ACHS Performing Arts teacher Kevin Pace\, including a string quartet\, jazz trio\, and vocal quartet. The ACHS National Art Honor Society will sell handmade items to fundraise for the ACHS Visual Art Department\, and we will have student artists available for henna tattoos. Refreshments will be provided by Del Ray Artisans and McD Mateos McDonald’s. \nThank you to professional artists Bridget Anthony-Hlioui\, Haven Ashley\, Tara Barr\, and Ted Reed for jurying the artwork award winners\, who will be announced at the reception. Special shoutout to the Executive Principal of ACHS\, Alexander Duncan\, III\, and Campus Administrator Ashley Carter Sinclair for selecting artwork award winners for the ACHS Administrator Choice Awards\, who will also be announced at the reception. We would like to recognize the students Rozalia Finkelstein for assisting with the press release and Nyasha Stork and Redeate Gashaw for designing the exhibition showcard. Thank you to all of the above-mentioned and everyone who participated and contributed to the exhibition’s success featuring the work of our city’s talented students. \nDon’t miss Del Ray Artisans’ creative programs during the exhibition: \n\nFirst Thursday family-friendly activity and exhibit sneak peek – Thurs.\, May 1\, 6:30-8:30 p.m. (drop-in)\nSpring Art Market – Sat.\, May 10\, 10 a.m.-4 p.m. (drop-in\, outdoors)\nDel Ray Urban Sketchers at St Elmo’s in Del Ray – Sun.\, May 11\, 1-3pm (drop-in)\nIntroduction to Intuitive Collage Workshop – Sat.\, May 17\, 10 a.m.-noon (register in advance)\nSTEAM-tastic: Have a Voice – Poster for the Planet – Sun.\, May 18\, 9-10:30 a.m. (participants ages 6-10 years old) and 11 a.m.-12:30 p.m. (participants ages 11-17 years old)\nPartners in Art Evening – Wed.\, May 21\, 7-9 p.m. (RSVP)\n\nMade possible with support from the City of Alexandria\nThe Alexandria City High School 2025 Titan Student Art Exhibition runs May 2-24\, 2025 at Del Ray Artisans gallery in the Colasanto Center\, 2704 Mount Vernon Avenue\, Alexandria\, Virginia 22301. Gallery hours are First Thursday (April-Sept.) noon-9 p.m.\, Thurs. noon-6 p.m.\, Fri. noon-9 p.m.\, Sat. noon-6 p.m.\, and Sun. noon-6 p.m. (closed on May 25). \nThe student exhibition is made possible with support from the City of Alexandria through the FY25 Arts Program Grant and a generous donation from Genesis Inspiration Foundation. The gallery is free\, open to the public\, and accessible. For more information\, contact the Director of Youth Programs Sandra Alami at youth@delrayartisans.org and Director of Curating Amy Kitchin Hower at curating@delrayartisans.org. \n\nAlexandria City Public Schools (ACPS) serves more than 16\,300 students who hail from more than 118 countries and speak 127 languages. ACPS has 18 schools\, including two middle schools\, two K-8 schools\, one pre-K school and the internationally recognized Alexandria City High School. ACPS is committed to putting racial equity at the heart of all decisions and ensuring that each and every student succeeds. Visit www.acps.k12.va.us. \nDel Ray Artisans\, founded in 1992\, is a nonprofit organization whose mission is to promote art for the benefit of artists and the community. Del Ray Artisans (DRA) appreciates the continued support from the City of Alexandria\, Alexandria Commission for the Arts\, Virginia Commission for the Arts\, and National Endowment for the Arts. DRA is a 501(c)(3) organization.
URL:https://delrayartisans.org/event/achs-exhibit-2025/
LOCATION:Del Ray Artisans Gallery\, 2704 Mount Vernon Avenue\, Alexandria\, VA\, 22301\, United States
CATEGORIES:Art Exhibit,Del Ray Artisans Gallery
ATTACH;FMTTYPE=image/jpeg:https://delrayartisans.org/wp-content/uploads/2024/10/ACHS-2025-Student-Exhibit-square.jpg
ORGANIZER;CN="Sandra Alami%2C Director of Youth Programs":MAILTO:Youth@DelRayArtisans.org
END:VEVENT
BEGIN:VEVENT
DTSTART;TZID=America/New_York:20250511T130000
DTEND;TZID=America/New_York:20250511T150000
DTSTAMP:20260423T221948
CREATED:20241030T210027Z
LAST-MODIFIED:20251027T193223Z
UID:10001667-1746968400-1746975600@delrayartisans.org
SUMMARY:Del Ray Urban Sketchers 2025
DESCRIPTION:Del Ray Urban Sketchers operates on a drop-in basis and meets the second Sunday of most months at St. Elmo’s Coffee Pub in Del Ray. (Del Ray Urban Sketchers does not meet in July\, August\, and December.)  \nUrban sketchbooking emphasizes storytelling that conveys a sense of place or a moment in time through drawings completed from direct observations. \nBring your supplies and join us outside at the cafe to produce still life\, figure\, or architecture subjects in your sketchbook. Participants will spend some time putting their skills into practice and then reconvene for a review of finished works. \nThis program is FREE! Donations appreciated. Meet outside at St. Elmo’s Coffee Pub (2300 Mount Vernon Avenue\, Alexandria\, VA 22301). Contact the organizer\, Joan Bickelhaupt (joanbickelhaupt@gmail.com)\, with any questions. \nRSVP via Eventbrite | View Upcoming Dates \n\nPhoto courtesy of Joan Bickelhaupt
URL:https://delrayartisans.org/event/urban-sketchers-2025/2025-05-11/
LOCATION:St. Elmo’s Coffee Pub\, 2300 Mount Vernon Avenue\, Alexandria\, VA\, 22301\, United States
CATEGORIES:Program,Urban Sketchers
ATTACH;FMTTYPE=image/jpeg:https://delrayartisans.org/wp-content/uploads/2024/11/Del-Ray-Urban-Sketchers-2025-square.jpg
ORGANIZER;CN="Joan Bickelhaupt":MAILTO:joanbickelhaupt@gmail.com
END:VEVENT
BEGIN:VEVENT
DTSTART;TZID=America/New_York:20250511T180000
DTEND;TZID=America/New_York:20250511T210000
DTSTAMP:20260423T221948
CREATED:20250416T232403Z
LAST-MODIFIED:20250511T213256Z
UID:10001812-1746986400-1746997200@delrayartisans.org
SUMMARY:RESCHEDULED: Playing with Resin Workshop
DESCRIPTION:This workshop has been rescheduled to Sunday\, August 10th. \nInstructor: Tracy Wilkerson\, recycledworks@yahoo.com\nDate/Time: Sunday\, May 11\, 6-9pm\nCost: $40 Del Ray Artisans member / $50 Non-member; plus a $10 Supply Fee\nClass size: 6-12 participants\n(Register by May 8) \nLearn the ins and outs of prepping for and mixing resin\, and how to use it as an adhesive\, a covering\, or the main medium. There’s lots of creative time during this 3-hour workshop… No need to rush\, which is one of the first lessons in using resin! All supplies are provided\, but feel free to bring personal embellishments for your piece(s). \nThis workshop does not get into using dyes with resin or building big molds to create one-of-a-kind resined tables (as seen on YouTube)\, but this workshop will provide you with a good understanding of how resin works so you can be bold enough to take the next steps in your creative interests. \nAlthough the class is listed for 3 hours\, you can leave once you have finished your creations. Some students finish very quickly while others take the whole 3 hours to create – there is plenty of time for each person to enjoy the creative process while not feeling rushed. You’ll leave your finished masterpiece(s) to set at the gallery at the end of the workshop\, and pick them up during gallery hours later in the week. \nThe workshop is designed for adults. Children ages 16-17 may participate with parental permission. Children ages 12-15 may participate only with a co-participating adult guardian (guardian must contact instructor in advance). \n \n\nView other upcoming workshops\, information about the facility and policies on the Upcoming Workshops page.
URL:https://delrayartisans.org/event/resin-may-2025/
LOCATION:Del Ray Artisans Gallery\, 2704 Mount Vernon Avenue\, Alexandria\, VA\, 22301\, United States
CATEGORIES:Program,Workshop
ATTACH;FMTTYPE=image/jpeg:https://delrayartisans.org/wp-content/uploads/1992/12/playing-with-resin-vMKzOK.tmp.jpg
ORGANIZER;CN="Tracy Wilkerson":MAILTO:recycledworks@yahoo.com
END:VEVENT
BEGIN:VEVENT
DTSTART;TZID=America/New_York:20250511T235900
DTEND;TZID=America/New_York:20250511T235900
DTSTAMP:20260423T221948
CREATED:20250209T191940Z
LAST-MODIFIED:20250416T214255Z
UID:10001769-1747007940-1747007940@delrayartisans.org
SUMMARY:“Sing Me a Sea Shanty” Call for Entry Deadline
DESCRIPTION:Call for Entry ~ Open to area artists\nSing Me a Sea Shanty\nExhibit Dates: May 30 – June 29\, 2025\nDigital entry deadline: Sunday\, May 11\, 2025 by midnight\n“Boats & Ropes – Old Port\, Portland Maine” by Tiara Safic-Martin\nThe sea is awe-inspiring and man’s relationship with it has been tumultuous. For centuries the sea has inspired stories\, lore\, myth\, legends\, and songs. Explore all things nautical. \nThe exhibit is open to all area artists. Del Ray Artisans members pay a discounted entry fee. \nEntry Details & Form
URL:https://delrayartisans.org/event/sea-shanty-deadline/
LOCATION:Online
CATEGORIES:Entry Deadline
ORGANIZER;CN="Tiara Safic-Martin":MAILTO:tsmartin27@outlook.com
END:VEVENT
END:VCALENDAR