BEGIN:VCALENDAR
VERSION:2.0
PRODID:-//Del Ray Artisans - ECPv6.15.20//NONSGML v1.0//EN
CALSCALE:GREGORIAN
METHOD:PUBLISH
X-WR-CALNAME:Del Ray Artisans
X-ORIGINAL-URL:https://delrayartisans.org
X-WR-CALDESC:Events for Del Ray Artisans
REFRESH-INTERVAL;VALUE=DURATION:PT1H
X-Robots-Tag:noindex
X-PUBLISHED-TTL:PT1H
BEGIN:VTIMEZONE
TZID:America/New_York
BEGIN:DAYLIGHT
TZOFFSETFROM:-0500
TZOFFSETTO:-0400
TZNAME:EDT
DTSTART:20240310T070000
END:DAYLIGHT
BEGIN:STANDARD
TZOFFSETFROM:-0400
TZOFFSETTO:-0500
TZNAME:EST
DTSTART:20241103T060000
END:STANDARD
BEGIN:DAYLIGHT
TZOFFSETFROM:-0500
TZOFFSETTO:-0400
TZNAME:EDT
DTSTART:20250309T070000
END:DAYLIGHT
BEGIN:STANDARD
TZOFFSETFROM:-0400
TZOFFSETTO:-0500
TZNAME:EST
DTSTART:20251102T060000
END:STANDARD
BEGIN:DAYLIGHT
TZOFFSETFROM:-0500
TZOFFSETTO:-0400
TZNAME:EDT
DTSTART:20260308T070000
END:DAYLIGHT
BEGIN:STANDARD
TZOFFSETFROM:-0400
TZOFFSETTO:-0500
TZNAME:EST
DTSTART:20261101T060000
END:STANDARD
END:VTIMEZONE
BEGIN:VEVENT
DTSTART;VALUE=DATE:20250404
DTEND;VALUE=DATE:20250427
DTSTAMP:20260423T221907
CREATED:20241030T213248Z
LAST-MODIFIED:20250131T154723Z
UID:10001696-1743724800-1745711999@delrayartisans.org
SUMMARY:Synchronous at Del Ray Artisans Gallery
DESCRIPTION:Synchronous Art Exhibit\nApril 4–26\, 2025\nOpening Reception: Friday\, April 4 from 7–9pm\n“Synchronous Humanity” by Morgan Parr\nThe Synchronous art exhibit features creative work by Del Ray Artisans’ top 100 volunteers. These members help make Del Ray Artisans a thriving organization that fosters community and acceptance\, promotes authentic expression\, and encourages artistic creations. Come celebrate the dedication of our volunteers and enjoy their artwork. \nJoin us for the opening reception on Friday\, April 4 between 7-9pm to meet curator and Volunteers Director Morgan Parr and the artists. Mark your calendar or set a reminder through Eventbrite. \nDel Ray Artisans members who donated the most volunteer hours from January 2023 through December 2024 were invited to enter pieces. A big thank you to the exceptional volunteers (alphabetized by first name) who qualified for the exhibit: Aaron Fletchersmith\, Alexandra Schmeling\, Alyssa Pease\, Amanda Fletchersmith\, Amy Castine\, Amy Kitchin Hower\, Ann Cameron Siegal\, Annemarie Kuhns\, Ariane D’Souza\, Barbara Cooper\, Barbara Smith\, Betsy Lederer\, Bhavani Arabandi\, Bill Cabrera\, Brando Gould\, Bridget Anthony-Hlioui\, Brooke Johnson\, Camille Kouyoumdjian\, Christian Melgar\, Chuck Dervarics\, Courtney Pippin-Mathur\, Cynthia Schoeppel\, Dale Spivey\, Dan Witmeyer\, Danielle Chan\, Dawn Wyse Hurto\, Diana Papazian\, Dina Wise\, Ditas Katague\, Donna Gallo\, Ellen Kozicki\, Ellen Rosenthal\, Erica Hughes\, Gale Goldfarb\, Gordon Thomas Frank\, Guy Jones\, Jana Bertucci\, Jenny Nicholson\, Joan Bickelhaupt\, Joshua Oliveira-Martin\, Joyce Wagner\, Karen Feeley\, Karen Schmitz\, Kate Gibney\, Katherine Rand\, Kathryn Brown\, Kazuko Fuller\, KC Hodge\, Kellie Sansone\, Kelly M. MacConomy\, Kelly Postula\, Kelly Snyder\, Kevin Sherlock\, Kitty Russell\, Kurt Peterson\, Lesley Hall\, Linda Elliff\, Liz Martinez\, Liz Vance\, Lori Fredricks\, Lori Welch Brown\, Lynn Chadwick\, Margaret Slipek\, Maria Hart\, Marshall Carolus\, Mary Pike\, Maxine Cholmondeley\, Meredith D’Amore\, Michele Reday Cook\, Mila Mateu\, Morgan Parr\, Nancy Flores\, Nancy Galib\, Nicole Mahoney\, Pamela Day\, Peter Michaels\, Pinar Artuk-Boegel\, Rita Cohen\, Rita Schooley\, Robin Hunter Reid\, Robin Ludt\, Robyn Seaton McGarry\, Rod Whyte\, Ron Reel\, Rusty Lynn\, Sandra Alami\, Scott MacConomy\, Sean Crumley\, Stephanie Darlene Greenwald\, Stephen Lally\, Sue Shumate\, Sue Stone-Walls\, Susan Fitter Harris\, Suzan Ok Shumate\, Suzanne Tillman\, Thom Lowther\, Tiara Safic-Martin\, TJ Feeley\, and Tracy Wilkerson. \nThe Synchronous art exhibit runs from April 4–26\, 2025 at Del Ray Artisans gallery in the Colasanto Center\, 2704 Mount Vernon Avenue\, Alexandria\, Virginia 22301. Gallery hours are Thursday 12-6pm\, Friday 12-9pm\, Saturday 12-6pm\, and Sunday 12-6pm (closed April 27). \nThe gallery is free\, open to the public\, and accessible. Del Ray Artisans\, a 501(3)(c) nonprofit organization whose mission is to promote art for the benefit of artists and the community. \nFor more information\, contact curator Morgan Parr at volunteers@delrayartisans.org or Director of Curating Amy Kitchin Hower at curating@delrayartisans.org.
URL:https://delrayartisans.org/event/synchronous/
LOCATION:Del Ray Artisans Gallery\, 2704 Mount Vernon Avenue\, Alexandria\, VA\, 22301\, United States
CATEGORIES:Art Exhibit,Del Ray Artisans Gallery
ATTACH;FMTTYPE=image/jpeg:https://delrayartisans.org/wp-content/uploads/2025/01/Synchronous-Humanity-by-Morgan-Parr-square.jpg
ORGANIZER;CN="Morgan Parr%2C Director of Volunteers":MAILTO:volunteers@delrayartisans.org
END:VEVENT
BEGIN:VEVENT
DTSTART;VALUE=DATE:20250426
DTEND;VALUE=DATE:20250427
DTSTAMP:20260423T221907
CREATED:20241227T193925Z
LAST-MODIFIED:20250313T230753Z
UID:10001727-1745625600-1745711999@delrayartisans.org
SUMMARY:Alcove Gift Shop at Del Ray Artisans (3/7 - 4/26/2025)
DESCRIPTION:Photo Album \nThe Alcove Gift Shop is open for 10 months of the year (closed in July and December for special events). New items will appear in the gift shop each week\, and all the artwork is fully refreshed every two months. The current display runs March 7 – April 26\, 2025. \nAll work featured in the gift shop is by Del Ray Artisans members. Unframed 2-D work is available in bins alongside jewelry\, fiber art\, wood craft\, ceramics\, and other smaller 3-D items. The gift shop is located in the alcove inside Del Ray Artisans gallery in the Colasanto Center\, 2704 Mount Vernon Avenue\, Alexandria\, Virginia 22301. \nThe gallery is free\, open to the public\, and accessible. Gallery hours are Thursdays 12-6pm\, Fridays 12-9pm\, Saturdays 12-6pm\, and Sundays 12-6pm (closed on March 2\, March 30 and April 27). \nFor more information\, contact the curators Stephen Lally (slallypottery@gmail.com) and Rita Schooley (rlschooley@gmail.com).
URL:https://delrayartisans.org/event/alcove-mar-apr-2025/
LOCATION:Del Ray Artisans Gallery\, 2704 Mount Vernon Avenue\, Alexandria\, VA\, 22301\, United States
CATEGORIES:Art Exhibit,Del Ray Artisans Gallery
ATTACH;FMTTYPE=image/jpeg:https://delrayartisans.org/wp-content/uploads/2023/03/alcove-march-2023.jpg
ORGANIZER;CN="Stephen Lally":MAILTO:slallypottery@gmail.com
END:VEVENT
BEGIN:VEVENT
DTSTART;TZID=America/New_York:20250426T100000
DTEND;TZID=America/New_York:20250426T120000
DTSTAMP:20260423T221907
CREATED:20241030T200149Z
LAST-MODIFIED:20251027T191634Z
UID:10001564-1745661600-1745668800@delrayartisans.org
SUMMARY:Nature Journaling Club 2025
DESCRIPTION:Practiced by artists and naturalists alike\, nature journaling is a centuries-old exercise in refining our powers of observation\, appreciation for nature\, drawing skills\, and mindful presence. This group is open to all experience levels as we meet to sketch\, connect\, and learn together! \nDel Ray Artisans’ Nature Journaling Club meets at 10am in front of Del Ray Artisans on the final Saturday morning of the month (except not in July\, November\, and December).  \nParticipants will need to bring their own sketchbooks and supplies. We will have plenty of time for sketching in nature before gathering again at 11:30am to share our sketches and observations and discuss tips and tools for nature journaling in the wild. We hope you will join us as we strengthen our art and inquiry practice together! \nSuggested supplies: sketchbook\, pens\, pencils\, colored pencils\, watercolor pencils\, or other portable media\, and a water bottle since we will be outdoors. You may also want to bring something to sit on (folding chair or blanket). \nNOTE: This program is held outdoors and will be canceled if raining. \nThis program is FREE! Donations appreciated. For more information\, contact the coordinators: Stephanie Darlene Greenwald (stephanie@stephaniedarlene.com) and Meredith D’Amore (meredith.w.damore@gmail.com). \nView Upcoming Dates \n\nArtwork credit: Drawing by Meredith D’Amore
URL:https://delrayartisans.org/event/nature-journaling-2025/2025-04-26/
LOCATION:Del Ray Artisans Gallery\, 2704 Mount Vernon Avenue\, Alexandria\, VA\, 22301\, United States
CATEGORIES:Nature Journaling Club,Program
ATTACH;FMTTYPE=image/jpeg:https://delrayartisans.org/wp-content/uploads/2023/10/Nature-Journaling-Club-square.jpg
ORGANIZER;CN="Meredith D%E2%80%99Amore":MAILTO:meredith.w.damore@gmail.com
END:VEVENT
BEGIN:VEVENT
DTSTART;TZID=America/New_York:20250426T100000
DTEND;TZID=America/New_York:20250426T120000
DTSTAMP:20260423T221907
CREATED:20250121T215820Z
LAST-MODIFIED:20250423T000637Z
UID:10001761-1745661600-1745668800@delrayartisans.org
SUMMARY:Neurographic Art Workshop (Register ASAP)
DESCRIPTION:Instructor: Morgan Parr\nDate/Time: Saturday\, April 26\, 10am-noon\nCost: $20 Del Ray Artisans member / $30 Non-member; plus $5 Supply Fee\nClass size: 4-25 participants\n(Register in advance; Walk-ins welcome if space permits) \nYou don’t have to be an artist to make art with Neurographic Art. A neuron is a cell that carries messages between the brain and other parts of our body and that is the basic unit of our central nervous system. Graphic is the artistic use of pictures\, shapes and words. This activity helps you to connect with the art making process and allows your mind to relax. \nSupplies are provided but please feel free to bring markers\, pens or watercolors to add color to your project. \nRegister Now \n\nImage credit: Neurographic art by Morgan Parr \n\nView other upcoming workshops\, information about the facility\, and policies on the Upcoming Workshops page.
URL:https://delrayartisans.org/event/neurographic-art-workshop-2025-04/
LOCATION:Del Ray Artisans Gallery\, 2704 Mount Vernon Avenue\, Alexandria\, VA\, 22301\, United States
CATEGORIES:Program,Workshop
ATTACH;FMTTYPE=image/jpeg:https://delrayartisans.org/wp-content/uploads/2024/09/Neurographic-art-by-Morgan-Parr-square.jpg
ORGANIZER;CN="Morgan Parr":MAILTO:rmorganparr@gmail.com
END:VEVENT
BEGIN:VEVENT
DTSTART;TZID=America/New_York:20250426T190000
DTEND;TZID=America/New_York:20250426T210000
DTSTAMP:20260423T221907
CREATED:20241009T152743Z
LAST-MODIFIED:20250426T154544Z
UID:10001526-1745694000-1745701200@delrayartisans.org
SUMMARY:Courtney LeBlanc\, Book Launch
DESCRIPTION:Join Courtney LeBlanc\, Arlington Poet Laureate\, for the launch party celebrating her new book\, Her Dark Everything\, on Saturday\, April 26 from 7-9pm. This event is for adults only.
URL:https://delrayartisans.org/event/courtney-leblanc-book-launch-2025/
LOCATION:Del Ray Artisans Gallery\, 2704 Mount Vernon Avenue\, Alexandria\, VA\, 22301\, United States
CATEGORIES:Book Club,Program
ATTACH;FMTTYPE=image/jpeg:https://delrayartisans.org/wp-content/uploads/2024/10/CourtneyLeblanc-BookLaunch-April2025.jpg
END:VEVENT
END:VCALENDAR