BEGIN:VCALENDAR
VERSION:2.0
PRODID:-//Del Ray Artisans - ECPv6.15.20//NONSGML v1.0//EN
CALSCALE:GREGORIAN
METHOD:PUBLISH
X-ORIGINAL-URL:https://delrayartisans.org
X-WR-CALDESC:Events for Del Ray Artisans
REFRESH-INTERVAL;VALUE=DURATION:PT1H
X-Robots-Tag:noindex
X-PUBLISHED-TTL:PT1H
BEGIN:VTIMEZONE
TZID:America/New_York
BEGIN:DAYLIGHT
TZOFFSETFROM:-0500
TZOFFSETTO:-0400
TZNAME:EDT
DTSTART:20240310T070000
END:DAYLIGHT
BEGIN:STANDARD
TZOFFSETFROM:-0400
TZOFFSETTO:-0500
TZNAME:EST
DTSTART:20241103T060000
END:STANDARD
BEGIN:DAYLIGHT
TZOFFSETFROM:-0500
TZOFFSETTO:-0400
TZNAME:EDT
DTSTART:20250309T070000
END:DAYLIGHT
BEGIN:STANDARD
TZOFFSETFROM:-0400
TZOFFSETTO:-0500
TZNAME:EST
DTSTART:20251102T060000
END:STANDARD
BEGIN:DAYLIGHT
TZOFFSETFROM:-0500
TZOFFSETTO:-0400
TZNAME:EDT
DTSTART:20260308T070000
END:DAYLIGHT
BEGIN:STANDARD
TZOFFSETFROM:-0400
TZOFFSETTO:-0500
TZNAME:EST
DTSTART:20261101T060000
END:STANDARD
END:VTIMEZONE
BEGIN:VEVENT
DTSTART;VALUE=DATE:20250326
DTEND;VALUE=DATE:20250410
DTSTAMP:20260424T075710
CREATED:20250209T195701Z
LAST-MODIFIED:20250209T195701Z
UID:10001774-1742947200-1744243199@delrayartisans.org
SUMMARY:Spring2ACTion 2025
DESCRIPTION:Donate March 26–April 9 \nStarting Wednesday\, March 26 through Wednesday\, April 9\, 2025 (Giving Day) our community comes together to support the amazing work of Alexandria nonprofits through Spring2ACTion\, hosted by ACT for Alexandria. Please remember Del Ray Artisans is one of those worthy causes! \nDel Ray Artisans has been promoting art for the benefit of local artists and the community since 1992. Del Ray Artisans supports the development of artists at all levels and serves as a center for thriving artistic activity in Alexandria\, Virginia. \nDuring Spring2ACTion\, please show your support for Del Ray Artisans’ exhibits\, programs\, youth and outreach activities which help members of our community grow as individuals and as artists. \nIf you are in a position to do so\, please donate to Del Ray Artisans nonprofit today. Other ways to support: \n\nBuy artwork from local artists during our exhibits or from members’ websites.\nShare our Spring2ACTion fundraising page with your network. Crowdsourcing adds up\, and we absolutely appreciate every single donation and shout-out.\nRegister for a Creative Workshop or attend an upcoming Creative Program. Learn something new and have fun!\n\nPlease consider a tax-deductible donation and spread the word to friends and family. Every donation is appreciated. Thank you for supporting the arts! \nDonate March 26–April 9
URL:https://delrayartisans.org/event/spring2action-2025/
LOCATION:Online
CATEGORIES:Community Event,Fundraising,Program
ATTACH;FMTTYPE=image/jpeg:https://delrayartisans.org/wp-content/uploads/2022/04/S2A-JoinYourCommunity.jpg
ORGANIZER;CN="Dawn Wyse Hurto%2C President":MAILTO:president@delrayartisans.org
END:VEVENT
BEGIN:VEVENT
DTSTART;VALUE=DATE:20250330
DTEND;VALUE=DATE:20250403
DTSTAMP:20260424T075710
CREATED:20250220T193023Z
LAST-MODIFIED:20250220T193023Z
UID:10001785-1743292800-1743638399@delrayartisans.org
SUMMARY:Closed to the Public
DESCRIPTION:This time is reserved for the curator to arrange the upcoming exhibit.
URL:https://delrayartisans.org/event/closed-2025-march-30-april-2/
LOCATION:Del Ray Artisans Gallery\, 2704 Mount Vernon Avenue\, Alexandria\, VA\, 22301\, United States
CATEGORIES:Administrative
END:VEVENT
BEGIN:VEVENT
DTSTART;TZID=America/New_York:20250330T120000
DTEND;TZID=America/New_York:20250330T180000
DTSTAMP:20260424T075710
CREATED:20241025T135932Z
LAST-MODIFIED:20250220T193010Z
UID:10001536-1743336000-1743357600@delrayartisans.org
SUMMARY:Artist Appointments
DESCRIPTION:The gallery is closed to the public today while the exhibit is taken down. This time is reserved for artists to pick up and drop off artwork. Contact the outgoing or incoming curators with any questions (contact info in the call for entry). \nUnsold Artwork Pick Up\nTime for artists to pick up their unsold artwork from the closing exhibit\, Fairy Tales Around the World. \n\nAccepted Artwork Drop Off\nTime for artists to drop off their accepted artwork entries for the upcoming exhibit\, Synchronous. Artwork must be ready to hang (with screw eyes and wire) or ready for display (with mounting and/or a display stand if necessary). Review the standard artwork presentation guidelines and the call for entry for show specific information. \n\nVolunteer\nAll artists participating in the exhibit are required to volunteer a minimum of 3 hours towards managing the show. Those hours can be filled by gallery hosting during the month of exhibit\, assisting with show hanging or take down\, and volunteering to help with other show-specific activities as needed by the curators. Any hours in excess of 3 hours will count towards the membership requirement. DRA members are reminded to report their volunteer hours monthly.
URL:https://delrayartisans.org/event/mar-apr-2025-artist-appointments/
LOCATION:Del Ray Artisans Gallery\, 2704 Mount Vernon Avenue\, Alexandria\, VA\, 22301\, United States
CATEGORIES:Administrative,Volunteer
END:VEVENT
END:VCALENDAR