BEGIN:VCALENDAR
VERSION:2.0
PRODID:-//Del Ray Artisans - ECPv6.15.20//NONSGML v1.0//EN
CALSCALE:GREGORIAN
METHOD:PUBLISH
X-ORIGINAL-URL:https://delrayartisans.org
X-WR-CALDESC:Events for Del Ray Artisans
REFRESH-INTERVAL;VALUE=DURATION:PT1H
X-Robots-Tag:noindex
X-PUBLISHED-TTL:PT1H
BEGIN:VTIMEZONE
TZID:America/New_York
BEGIN:DAYLIGHT
TZOFFSETFROM:-0500
TZOFFSETTO:-0400
TZNAME:EDT
DTSTART:20240310T070000
END:DAYLIGHT
BEGIN:STANDARD
TZOFFSETFROM:-0400
TZOFFSETTO:-0500
TZNAME:EST
DTSTART:20241103T060000
END:STANDARD
BEGIN:DAYLIGHT
TZOFFSETFROM:-0500
TZOFFSETTO:-0400
TZNAME:EDT
DTSTART:20250309T070000
END:DAYLIGHT
BEGIN:STANDARD
TZOFFSETFROM:-0400
TZOFFSETTO:-0500
TZNAME:EST
DTSTART:20251102T060000
END:STANDARD
BEGIN:DAYLIGHT
TZOFFSETFROM:-0500
TZOFFSETTO:-0400
TZNAME:EDT
DTSTART:20260308T070000
END:DAYLIGHT
BEGIN:STANDARD
TZOFFSETFROM:-0400
TZOFFSETTO:-0500
TZNAME:EST
DTSTART:20261101T060000
END:STANDARD
END:VTIMEZONE
BEGIN:VEVENT
DTSTART;VALUE=DATE:20250207
DTEND;VALUE=DATE:20250302
DTSTAMP:20260424T111643
CREATED:20241025T141624Z
LAST-MODIFIED:20250124T201249Z
UID:10001539-1738886400-1740873599@delrayartisans.org
SUMMARY:MeWOW: Fabulous Felines at Del Ray Artisans Gallery
DESCRIPTION:MeWOW: Fabulous Felines Art Exhibit\nFebruary 7 – March 1\, 2025\nOpening Reception: Friday\, February 7 from 7–9pm\n“Birthday Happys” by Guy Jones\n“Lions and Tigers and Tabbies! Oh Meow!” \nLocal artists let their creative cat out of the bag in a diverse array of mediums for the purr-fectly paw-some MeWOW: Fabulous Felines exhibit at Del Ray Artisans gallery. Come see the exhibit to marvel at the power and fascination of cat imagery in art. These furry\, mysterious\, independent\, beautiful felines have inundated history\, mythology\, literature\, advertising\, cinema\, pop culture and pet owners for centuries. \nCome see artwork celebrating the slinky beauty and mysterious world of cats. Join us for the opening reception on Friday\, February 7 between 7-9pm to meet the curators Karen Schmitz and Dan Witmeyer. Mark your calendar now or set a reminder through Eventbrite at mewow.eventbrite.com. \nTo add to the MeWOW experience\, browse the clowder of handmade kitty greeting cards at the gallery with affordable prices that benefit Del Ray Artisans nonprofit. Plus pounce on these creative workshops and programs during the exhibit: \n\nPop Art Cats for Kids Workshop on Saturday\, February 8\, 10am-12pm (register in advance)\nDel Ray Urban Sketchers at St. Elmo’s Coffee Pub in Del Ray on Sunday\, February 9\, 1-3pm\nPlaying with Resin Workshop on Monday\, February 10\, 6-9pm (register in advance)\nSTEAM-tastic: Mandalas and Meows on Sunday\, February 16\, 9-10:30am (Ages 6-10) and 10:30am-noon (Ages 10-15)\nFigure Drawing Sessions on Tuesdays\, February 18 and 25\, 7-9pm\nPartners in Art Evening on Wednesday\, February 19\, 7-9pm (RSVP in advance)\nNature Journaling Club on Saturday\, February 22\, 10am-12pm\nIntro to Mindful Photography Workshop on Saturday\, February 22\, 1-5pm (register in advance)\nVisit delrayartisans.org/programs for additions and updates\n\nThe MeWOW: Fabulous Felines art exhibit runs from February 7 – March 1\, 2025 at Del Ray Artisans gallery in the Colasanto Center\, 2704 Mount Vernon Avenue\, Alexandria\, Virginia 22301. Gallery hours are Thursday 12-6pm\, Friday 12-9pm\, Saturday 12-6pm\, and Sunday 12-6pm (closed March 2\, 2025). \nThe gallery is free\, open to the public\, and accessible. Del Ray Artisans\, a 501(3)(c) nonprofit organization whose mission is to promote art for the benefit of artists and the community. \nFor more information\, contact curators Karen Schmitz at kschmitzart@gmail.com and Dan Witmeyer at dan@witmeyer.com or Director of Curating Amy Kitchin Hower at curating@delrayartisans.org.
URL:https://delrayartisans.org/event/mewow/
LOCATION:Del Ray Artisans Gallery\, 2704 Mount Vernon Avenue\, Alexandria\, VA\, 22301\, United States
CATEGORIES:Art Exhibit,Del Ray Artisans Gallery
ATTACH;FMTTYPE=image/jpeg:https://delrayartisans.org/wp-content/uploads/2024/11/Birthday-Happys-by-Guy-Jones-square.jpg
ORGANIZER;CN="Karen Schmitz":MAILTO:kschmitzart@gmail.com
END:VEVENT
BEGIN:VEVENT
DTSTART;TZID=America/New_York:20250209T090000
DTEND;TZID=America/New_York:20250209T120000
DTSTAMP:20260424T111643
CREATED:20250121T195620Z
LAST-MODIFIED:20250121T201519Z
UID:10001759-1739091600-1739102400@delrayartisans.org
SUMMARY:Internal Board Retreat and Orientation
DESCRIPTION:This time is reserved for a meeting of the members of Del Ray Artisans 2025 Board of Directors. \nPlease contact Lesley Hall\, Vice President at vp@delrayartisans.org with any questions.
URL:https://delrayartisans.org/event/internal-board-retreat-and-orientation/
LOCATION:Del Ray Artisans Gallery\, 2704 Mount Vernon Avenue\, Alexandria\, VA\, 22301\, United States
CATEGORIES:Meeting
ORGANIZER;CN="Lesley Hall%2C Vice President":MAILTO:vp@delrayartisans.org
END:VEVENT
BEGIN:VEVENT
DTSTART;TZID=America/New_York:20250209T130000
DTEND;TZID=America/New_York:20250209T150000
DTSTAMP:20260424T111643
CREATED:20241030T210027Z
LAST-MODIFIED:20251027T193223Z
UID:10001664-1739106000-1739113200@delrayartisans.org
SUMMARY:Del Ray Urban Sketchers 2025
DESCRIPTION:Del Ray Urban Sketchers operates on a drop-in basis and meets the second Sunday of most months at St. Elmo’s Coffee Pub in Del Ray. (Del Ray Urban Sketchers does not meet in July\, August\, and December.)  \nUrban sketchbooking emphasizes storytelling that conveys a sense of place or a moment in time through drawings completed from direct observations. \nBring your supplies and join us outside at the cafe to produce still life\, figure\, or architecture subjects in your sketchbook. Participants will spend some time putting their skills into practice and then reconvene for a review of finished works. \nThis program is FREE! Donations appreciated. Meet outside at St. Elmo’s Coffee Pub (2300 Mount Vernon Avenue\, Alexandria\, VA 22301). Contact the organizer\, Joan Bickelhaupt (joanbickelhaupt@gmail.com)\, with any questions. \nRSVP via Eventbrite | View Upcoming Dates \n\nPhoto courtesy of Joan Bickelhaupt
URL:https://delrayartisans.org/event/urban-sketchers-2025/2025-02-09/
LOCATION:St. Elmo’s Coffee Pub\, 2300 Mount Vernon Avenue\, Alexandria\, VA\, 22301\, United States
CATEGORIES:Program,Urban Sketchers
ATTACH;FMTTYPE=image/jpeg:https://delrayartisans.org/wp-content/uploads/2024/11/Del-Ray-Urban-Sketchers-2025-square.jpg
ORGANIZER;CN="Joan Bickelhaupt":MAILTO:joanbickelhaupt@gmail.com
END:VEVENT
END:VCALENDAR