BEGIN:VCALENDAR
VERSION:2.0
PRODID:-//Del Ray Artisans - ECPv6.15.20//NONSGML v1.0//EN
CALSCALE:GREGORIAN
METHOD:PUBLISH
X-ORIGINAL-URL:https://delrayartisans.org
X-WR-CALDESC:Events for Del Ray Artisans
REFRESH-INTERVAL;VALUE=DURATION:PT1H
X-Robots-Tag:noindex
X-PUBLISHED-TTL:PT1H
BEGIN:VTIMEZONE
TZID:America/New_York
BEGIN:DAYLIGHT
TZOFFSETFROM:-0500
TZOFFSETTO:-0400
TZNAME:EDT
DTSTART:20240310T070000
END:DAYLIGHT
BEGIN:STANDARD
TZOFFSETFROM:-0400
TZOFFSETTO:-0500
TZNAME:EST
DTSTART:20241103T060000
END:STANDARD
BEGIN:DAYLIGHT
TZOFFSETFROM:-0500
TZOFFSETTO:-0400
TZNAME:EDT
DTSTART:20250309T070000
END:DAYLIGHT
BEGIN:STANDARD
TZOFFSETFROM:-0400
TZOFFSETTO:-0500
TZNAME:EST
DTSTART:20251102T060000
END:STANDARD
BEGIN:DAYLIGHT
TZOFFSETFROM:-0500
TZOFFSETTO:-0400
TZNAME:EDT
DTSTART:20260308T070000
END:DAYLIGHT
BEGIN:STANDARD
TZOFFSETFROM:-0400
TZOFFSETTO:-0500
TZNAME:EST
DTSTART:20261101T060000
END:STANDARD
END:VTIMEZONE
BEGIN:VEVENT
DTSTART;VALUE=DATE:20250103
DTEND;VALUE=DATE:20250202
DTSTAMP:20260424T123715
CREATED:20241025T141206Z
LAST-MODIFIED:20241230T193155Z
UID:10001538-1735862400-1738454399@delrayartisans.org
SUMMARY:Visual Humor at Del Ray Artisans Gallery
DESCRIPTION:Visual Humor Art Exhibit\nJanuary 3 – February 1\, 2025\nOpening Reception: Friday\, January 3 from 7–9pm\nHumor is aesthetic to the extent that it arouses the viewers’ imagination\, provides them with insights about human existence\, and provokes them to think more critically and creatively. -M. Gordon 2012 \nThe joy found in comedy delights all. Visual Humor\, a lighthearted exhibit at Del Ray Artisans gallery\, offered artists the opportunity to provoke their own creativity in search of a chuckle. Visual Humor explores not only how ideas or objects are comical\, but also what properties of a joke give it wings. \nJoin us for the opening reception on Friday\, January 3 between 7-9pm to meet curator Dr. Erica Hughes and the artists. Mark your calendar now or set a reminder through Eventbrite. \nPlus save the date for our Open Mic: Amateur Stand-Up Comedy Night on Friday\, January 10\, 8-10pm. Come on your own or with friends to this entertaining drop-in event. Interested in performing? Overcome stage fright and get feedback on your worst puns! To participate\, sign up for a two-minute slot\, unleash your comedy\, and present your best material to a supportive audience. \nRegister now for creative workshops held in conjunction with this exhibit: \n\nKnit Amigurumi Workshop on Mondays\, January 13 and 20\, 6:30-8:30pm\nCrochet Amigurumi Workshop on Wednesdays\, January 15 and 22\, 6:30-8:30pm\nSilly Suds: Humorous Soapmaking Workshop on Saturday\, January 18\, 9am-12pm\nBeaded Flying Pig Class on Sunday\, January 19\, 6-9pm\n\nFor details on all upcoming creative programs\, visit DelRayArtisans.org/programs. \nThe Visual Humor art exhibit runs from January 3 – February 1\, 2025 at Del Ray Artisans gallery in the Colasanto Center\, 2704 Mount Vernon Avenue\, Alexandria\, Virginia 22301. Gallery hours are Thursday 12-6pm\, Friday 12-9pm\, Saturday 12-6pm\, and Sunday 12-6pm (closed February 2). \nThe gallery is free\, open to the public\, and accessible. Del Ray Artisans\, a 501(3)(c) nonprofit organization whose mission is to promote art for the benefit of artists and the community. \nFor more information\, contact curator Dr. Erica Hughes at zarathustraspeaks@msn.com or Director of Curating Amy Kitchin Hower at curating@delrayartisans.org. \n \n\nImage credit: Art by Brando\, Postcard Design by Gordon Frank
URL:https://delrayartisans.org/event/visual-humor/
LOCATION:Del Ray Artisans Gallery\, 2704 Mount Vernon Avenue\, Alexandria\, VA\, 22301\, United States
CATEGORIES:Art Exhibit,Del Ray Artisans Gallery
ATTACH;FMTTYPE=image/jpeg:https://delrayartisans.org/wp-content/uploads/2024/10/Brando-art-square.jpg
ORGANIZER;CN="Erica Hughes":MAILTO:zarathustraspeaks@msn.com
END:VEVENT
BEGIN:VEVENT
DTSTART;TZID=America/New_York:20250115T183000
DTEND;TZID=America/New_York:20250115T203000
DTSTAMP:20260424T123715
CREATED:20241030T222531Z
LAST-MODIFIED:20250109T193721Z
UID:10001701-1736965800-1736973000@delrayartisans.org
SUMMARY:Crochet Amigurumi Workshop (Two 2-hour classes)
DESCRIPTION:Instructor: Dawn Zurell\, dmzurell@gmail.com\nDate/Time: Wednesdays\, January 15 and 22\, 6:30-8:30pm\nCost: $70 Del Ray Artisans member / $80 Non-member; plus students must bring supplies\nClass size: 2-6 participants\n(Register in advance.) \nThis advanced beginner class is great for those who are relatively new to crochet and want to try amigurumi techniques. It is spread out over two weeks (two 2-hour classes)\, so you will have time to practice the techniques learned in-between sessions. This format will set you up for success and give you the skills needed to continue with future amigurumi projects. You will also complete an adorable clownfish stuffed toy! This class is for anyone aged 13+ years. \nSkills needed for this class: \n\nFoundation chain//chain stitches\nSingle crochet\nSlip stitches\nCrochet into back side of the chain\n\nThe specific skills taught in this class are: \n\nMagic ring\nIncreasing and decreasing\nBasic sewing skills\nBasic embroidery skills\n\nMaterials you will need to bring to your first class: \n\nCrochet hook\, size G (6) / 4.0mm\nYarn type: DK weight cotton or cotton/acrylic yarn (see suggested yarns below)\nWhite yarn (143yd/130m)\nOrange yarn (310yd/290m)\nBlack yarn (22yd/20m)\nDark orange yarn (11yd/10m)\nTapestry needle\nLocking stitch markers\nPurchased pattern at www.ravelry.com/patterns/library/clown-fish-amigurumi-2\n(Fiberfill for stuffing will be provided)\n\nNo other preparation is needed. \nSuggestions for yarn: \n\nKnitPicks Animation DK Weight Cotton\nFriends Cotton 8/8 Light Worsted/DK\nHobbii Rainbow Cotton 8/8 Light Worsted/DK\nLionBrand 24/7 DK 273yds Light Weight Cotton Yarn\nCascadeUltra Pima\nSchachenmayr Catania Sport 100% Mercerized Cotton\nPaintbox Yarns Simply DK\nPremier Basix DK\n\nThis workshop is held in conjunction with the Visual Humor art exhibit. \nRegister Now \n\nArtwork credit: Clown Fish Amigurumi by Joyce Overheul; Purchase Pattern \n\nView other upcoming workshops\, information about the facility and policies on the Upcoming Workshops page.
URL:https://delrayartisans.org/event/crochet-amigurumi/
LOCATION:Del Ray Artisans Gallery\, 2704 Mount Vernon Avenue\, Alexandria\, VA\, 22301\, United States
CATEGORIES:Program,Workshop
ATTACH;FMTTYPE=image/jpeg:https://delrayartisans.org/wp-content/uploads/2024/12/Amigurumi-crochet-Dawn-Zurell.jpg
ORGANIZER;CN="Dawn Zurell":MAILTO:dmzurell@gmail.com
END:VEVENT
END:VCALENDAR