BEGIN:VCALENDAR
VERSION:2.0
PRODID:-//Del Ray Artisans - ECPv6.15.20//NONSGML v1.0//EN
CALSCALE:GREGORIAN
METHOD:PUBLISH
X-ORIGINAL-URL:https://delrayartisans.org
X-WR-CALDESC:Events for Del Ray Artisans
REFRESH-INTERVAL;VALUE=DURATION:PT1H
X-Robots-Tag:noindex
X-PUBLISHED-TTL:PT1H
BEGIN:VTIMEZONE
TZID:America/New_York
BEGIN:DAYLIGHT
TZOFFSETFROM:-0500
TZOFFSETTO:-0400
TZNAME:EDT
DTSTART:20230312T070000
END:DAYLIGHT
BEGIN:STANDARD
TZOFFSETFROM:-0400
TZOFFSETTO:-0500
TZNAME:EST
DTSTART:20231105T060000
END:STANDARD
BEGIN:DAYLIGHT
TZOFFSETFROM:-0500
TZOFFSETTO:-0400
TZNAME:EDT
DTSTART:20240310T070000
END:DAYLIGHT
BEGIN:STANDARD
TZOFFSETFROM:-0400
TZOFFSETTO:-0500
TZNAME:EST
DTSTART:20241103T060000
END:STANDARD
BEGIN:DAYLIGHT
TZOFFSETFROM:-0500
TZOFFSETTO:-0400
TZNAME:EDT
DTSTART:20250309T070000
END:DAYLIGHT
BEGIN:STANDARD
TZOFFSETFROM:-0400
TZOFFSETTO:-0500
TZNAME:EST
DTSTART:20251102T060000
END:STANDARD
END:VTIMEZONE
BEGIN:VEVENT
DTSTART;VALUE=DATE:20241004
DTEND;VALUE=DATE:20241027
DTSTAMP:20260424T205232
CREATED:20231127T214329Z
LAST-MODIFIED:20240922T223201Z
UID:10001306-1728000000-1729987199@delrayartisans.org
SUMMARY:Artificial or Intelligence? at Del Ray Artisans Gallery
DESCRIPTION:Artificial or Intelligence? Art Exhibit\nOctober 4–26\, 2024\nOpening Reception: Friday\, October 4 from 7–9pm\n“Sum of its parts?” by Nicole Mahoney\n \nTalk about artificial intelligence\, or AI\, abounds. When humans work with AI\, is the outcome less than\, equal to\, or greater than the sum of its parts? Come see the Artificial or Intelligence? art exhibit at Del Ray Artisans gallery as we explore this and other questions. Join us for the opening reception on Friday\, October 4 between 7-9pm to meet curators Nicole Mahoney and Nancy Galib and the artists. Mark your calendar now or set a reminder through Eventbrite. \nPeople have very different perspectives on AI’s possibilities and perils. This exhibit explores what the future might look like with AI. Consider what we may gain and lose\, and how AI impacts artists’ creative practice and day-to-day lives. Participate in our conversation and decide for yourself whether machine learning feels artificial or intelligent at the present moment. All artwork is available for sale. \nAlso mark your calendar for the following special program held in conjunction with the exhibit: \nAI & Artists: A Discussion On What Artists Should Know\nSaturday\, October 19\, 6:30-8pm @ Torpedo Factory Art Center\, Grand Hall (105 N. Union St\, Alexandria VA 22314) \nAI (Artificial Intelligence) is changing the landscape of all industries\, including the arts. Should artists embrace\, feel comfortable with\, or reject AI?  Is AI a tool for good\, or a threat to creative ownership?  Hear from three leading experts in the field of arts and technology\, patents\, and copyright\, moderated by Phyllis Serbes of Pantheon AI\, a non-profit organization dedicated to protecting human creativity and fostering relationships with generative AI. \nThis discussion shall be immediately followed by a performance by Laptop Orchestra in Waterfront Park as part of the City’s Site See public art program. \nThis program is presented in partnership with the City of Alexandria’s Office of the Arts and Del Ray Artisans\, with collaborative support from the Institute for Creativity\, Arts and Technology at Virginia Tech (ICAT)\, the United States Patent and Trademark Office\, Pantheon AI\, and the Washington Area Lawyers for the Arts (WALA). \nThe Artificial or Intelligence? art exhibit runs from October 4–26\, 2024 at Del Ray Artisans gallery in the Colasanto Center\, 2704 Mount Vernon Avenue\, Alexandria\, Virginia 22301. Gallery hours are Thursday 12-6pm\, Friday 12-9pm\, Saturday 12-6pm\, and Sunday 12-6pm (closed October 27\, 2024). \nThe gallery is free\, open to the public\, and accessible. Del Ray Artisans\, a 501(3)(c) nonprofit organization whose mission is to promote art for the benefit of artists and the community. \nFor more information\, contact curators Nicole Mahoney at nicole.m.mahoney@gmail.com and Nancy Galib at ngalib@verizon.net or Director of Curating Amy Kitchin Hower at curating@delrayartisans.org.
URL:https://delrayartisans.org/event/artificial-or-intelligence/
LOCATION:Del Ray Artisans Gallery\, 2704 Mount Vernon Avenue\, Alexandria\, VA\, 22301\, United States
CATEGORIES:Art Exhibit,Del Ray Artisans Gallery
ATTACH;FMTTYPE=image/jpeg:https://delrayartisans.org/wp-content/uploads/2024/06/artificial-or-intelligence-square.jpg
ORGANIZER;CN="Nicole Mahoney":MAILTO:nicole.m.mahoney@gmail.com
END:VEVENT
BEGIN:VEVENT
DTSTART;TZID=America/New_York:20241026T100000
DTEND;TZID=America/New_York:20241026T120000
DTSTAMP:20260424T205232
CREATED:20231017T220108Z
LAST-MODIFIED:20231017T220108Z
UID:10001153-1729936800-1729944000@delrayartisans.org
SUMMARY:Nature Journaling Club
DESCRIPTION:Practiced by artists and naturalists alike\, nature journaling is a centuries-old exercise in refining our powers of observation\, appreciation for nature\, drawing skills\, and mindful presence. This group is open to all experience levels as we meet to sketch\, connect\, and learn together! \nWe meet at 10am in front of Del Ray Artisans on the final Saturday morning of the month (except not in July\, November\, and December). Mark your calendar or set a reminder in Eventbrite. \nParticipants will need to bring their own sketchbooks and supplies. We will have plenty of time for sketching in nature before gathering again at 11:30am to share our sketches and observations and discuss tips and tools for nature journaling in the wild. We hope you will join us as we strengthen our art and inquiry practice together! \nSuggested supplies: sketchbook\, pens\, pencils\, colored pencils\, watercolor pencils\, or other portable media\, and a water bottle since we will be outdoors. You may also want to bring something to sit on (folding chair or blanket). \nNOTE: This program is held outdoors and will be canceled if raining. \nThis program is FREE! Donations appreciated. For more information\, contact the coordinators: Stephanie Darlene Greenwald (stephanie@stephaniedarlene.com) and Meredith D’Amore (meredith.w.damore@gmail.com). \nView Upcoming Dates \n\nArtwork credit: Drawing by Meredith D’Amore
URL:https://delrayartisans.org/event/nature-journaling-2024/2024-10-26/
LOCATION:Del Ray Artisans Gallery\, 2704 Mount Vernon Avenue\, Alexandria\, VA\, 22301\, United States
CATEGORIES:Nature Journaling Club,Program
ATTACH;FMTTYPE=image/jpeg:https://delrayartisans.org/wp-content/uploads/2023/10/Nature-Journaling-Club-square.jpg
ORGANIZER;CN="Meredith D%E2%80%99Amore":MAILTO:meredith.w.damore@gmail.com
END:VEVENT
BEGIN:VEVENT
DTSTART;TZID=America/New_York:20241026T183000
DTEND;TZID=America/New_York:20241026T203000
DTSTAMP:20260424T205232
CREATED:20240913T215217Z
LAST-MODIFIED:20240914T221216Z
UID:10001510-1729967400-1729974600@delrayartisans.org
SUMMARY:Pastel with Mixed Media Workshop (Register by 10/23)
DESCRIPTION:Instructor: Karina Mosser\nDate/Time: Saturday\, October 26\, 6:30-8:30pm\nCost: $35 Del Ray Artisans member / $45 Non-member; plus a $10 Supply Fee\nClass size: 4-15 participants\n(Register by midnight on October 23) \nLearn to take advantage of all paint types\, including how to enhance pastel painting with elements of acrylic\, ink\, paint markers\, and other mediums to achieve the exact effects you desire. This workshop is a great introduction to the basics of color blending\, layering\, texture\, harmony\, and balance. \nRegister Now \n\nView other upcoming workshops\, information about the facility\, and policies on the Upcoming Workshops page.
URL:https://delrayartisans.org/event/pastel-with-mixed-media/
LOCATION:Del Ray Artisans Gallery\, 2704 Mount Vernon Avenue\, Alexandria\, VA\, 22301\, United States
CATEGORIES:Program,Workshop
ATTACH;FMTTYPE=image/jpeg:https://delrayartisans.org/wp-content/uploads/2024/09/Artwork-by-Karina-Mosser-square.jpg
ORGANIZER;CN="Erica Hughes%2C Programs Director":MAILTO:programs@delrayartisans.org
END:VEVENT
END:VCALENDAR