BEGIN:VCALENDAR
VERSION:2.0
PRODID:-//Del Ray Artisans - ECPv6.15.20//NONSGML v1.0//EN
CALSCALE:GREGORIAN
METHOD:PUBLISH
X-WR-CALNAME:Del Ray Artisans
X-ORIGINAL-URL:https://delrayartisans.org
X-WR-CALDESC:Events for Del Ray Artisans
REFRESH-INTERVAL;VALUE=DURATION:PT1H
X-Robots-Tag:noindex
X-PUBLISHED-TTL:PT1H
BEGIN:VTIMEZONE
TZID:America/New_York
BEGIN:DAYLIGHT
TZOFFSETFROM:-0500
TZOFFSETTO:-0400
TZNAME:EDT
DTSTART:20230312T070000
END:DAYLIGHT
BEGIN:STANDARD
TZOFFSETFROM:-0400
TZOFFSETTO:-0500
TZNAME:EST
DTSTART:20231105T060000
END:STANDARD
BEGIN:DAYLIGHT
TZOFFSETFROM:-0500
TZOFFSETTO:-0400
TZNAME:EDT
DTSTART:20240310T070000
END:DAYLIGHT
BEGIN:STANDARD
TZOFFSETFROM:-0400
TZOFFSETTO:-0500
TZNAME:EST
DTSTART:20241103T060000
END:STANDARD
BEGIN:DAYLIGHT
TZOFFSETFROM:-0500
TZOFFSETTO:-0400
TZNAME:EDT
DTSTART:20250309T070000
END:DAYLIGHT
BEGIN:STANDARD
TZOFFSETFROM:-0400
TZOFFSETTO:-0500
TZNAME:EST
DTSTART:20251102T060000
END:STANDARD
END:VTIMEZONE
BEGIN:VEVENT
DTSTART;VALUE=DATE:20241004
DTEND;VALUE=DATE:20241027
DTSTAMP:20260424T205241
CREATED:20231127T214329Z
LAST-MODIFIED:20240922T223201Z
UID:10001306-1728000000-1729987199@delrayartisans.org
SUMMARY:Artificial or Intelligence? at Del Ray Artisans Gallery
DESCRIPTION:Artificial or Intelligence? Art Exhibit\nOctober 4–26\, 2024\nOpening Reception: Friday\, October 4 from 7–9pm\n“Sum of its parts?” by Nicole Mahoney\n \nTalk about artificial intelligence\, or AI\, abounds. When humans work with AI\, is the outcome less than\, equal to\, or greater than the sum of its parts? Come see the Artificial or Intelligence? art exhibit at Del Ray Artisans gallery as we explore this and other questions. Join us for the opening reception on Friday\, October 4 between 7-9pm to meet curators Nicole Mahoney and Nancy Galib and the artists. Mark your calendar now or set a reminder through Eventbrite. \nPeople have very different perspectives on AI’s possibilities and perils. This exhibit explores what the future might look like with AI. Consider what we may gain and lose\, and how AI impacts artists’ creative practice and day-to-day lives. Participate in our conversation and decide for yourself whether machine learning feels artificial or intelligent at the present moment. All artwork is available for sale. \nAlso mark your calendar for the following special program held in conjunction with the exhibit: \nAI & Artists: A Discussion On What Artists Should Know\nSaturday\, October 19\, 6:30-8pm @ Torpedo Factory Art Center\, Grand Hall (105 N. Union St\, Alexandria VA 22314) \nAI (Artificial Intelligence) is changing the landscape of all industries\, including the arts. Should artists embrace\, feel comfortable with\, or reject AI?  Is AI a tool for good\, or a threat to creative ownership?  Hear from three leading experts in the field of arts and technology\, patents\, and copyright\, moderated by Phyllis Serbes of Pantheon AI\, a non-profit organization dedicated to protecting human creativity and fostering relationships with generative AI. \nThis discussion shall be immediately followed by a performance by Laptop Orchestra in Waterfront Park as part of the City’s Site See public art program. \nThis program is presented in partnership with the City of Alexandria’s Office of the Arts and Del Ray Artisans\, with collaborative support from the Institute for Creativity\, Arts and Technology at Virginia Tech (ICAT)\, the United States Patent and Trademark Office\, Pantheon AI\, and the Washington Area Lawyers for the Arts (WALA). \nThe Artificial or Intelligence? art exhibit runs from October 4–26\, 2024 at Del Ray Artisans gallery in the Colasanto Center\, 2704 Mount Vernon Avenue\, Alexandria\, Virginia 22301. Gallery hours are Thursday 12-6pm\, Friday 12-9pm\, Saturday 12-6pm\, and Sunday 12-6pm (closed October 27\, 2024). \nThe gallery is free\, open to the public\, and accessible. Del Ray Artisans\, a 501(3)(c) nonprofit organization whose mission is to promote art for the benefit of artists and the community. \nFor more information\, contact curators Nicole Mahoney at nicole.m.mahoney@gmail.com and Nancy Galib at ngalib@verizon.net or Director of Curating Amy Kitchin Hower at curating@delrayartisans.org.
URL:https://delrayartisans.org/event/artificial-or-intelligence/
LOCATION:Del Ray Artisans Gallery\, 2704 Mount Vernon Avenue\, Alexandria\, VA\, 22301\, United States
CATEGORIES:Art Exhibit,Del Ray Artisans Gallery
ATTACH;FMTTYPE=image/jpeg:https://delrayartisans.org/wp-content/uploads/2024/06/artificial-or-intelligence-square.jpg
ORGANIZER;CN="Nicole Mahoney":MAILTO:nicole.m.mahoney@gmail.com
END:VEVENT
BEGIN:VEVENT
DTSTART;TZID=America/New_York:20241008T190000
DTEND;TZID=America/New_York:20241008T210000
DTSTAMP:20260424T205241
CREATED:20231127T205902Z
LAST-MODIFIED:20231130T210930Z
UID:10001294-1728414000-1728421200@delrayartisans.org
SUMMARY:ONLINE: Board of Directors Meeting
DESCRIPTION:This Board meeting will an online meeting through Zoom. \nActive members are welcome to attend any Board meeting. If you wish to address the Board or bring something up to the Board during one of these meetings\, contact Kathryn Brown at Secretary@DelRayArtisans.org at least four days in advance of the meeting to be included on the agenda and receive the Zoom session link.
URL:https://delrayartisans.org/event/board-meeting-2024/2024-10-08/
LOCATION:Online
CATEGORIES:Board Meeting,Meeting
ORGANIZER;CN="Kathryn Brown%2C Secretary":MAILTO:secretary@delrayartisans.org
END:VEVENT
BEGIN:VEVENT
DTSTART;TZID=America/New_York:20241008T235900
DTEND;TZID=America/New_York:20241008T235900
DTSTAMP:20260424T205241
CREATED:20240923T160659Z
LAST-MODIFIED:20240923T173617Z
UID:10001512-1728431940-1728431940@delrayartisans.org
SUMMARY:“Tumbling Through the Seasons” GWW Call for Entry Deadline
DESCRIPTION:Del Ray Artisans Members Only\nGallery Without Walls Call for Entry\nTumbling Through the Seasons at VCA Old Town Animal Hospital\nOctober 28\, 2024 – May 31\, 2025\nEntry deadline: Tuesday\, October 8\, 2024 by midnight\n“Faerie Night” by Kathy Turner\nSeeking 2D artwork celebrating the seasons\, from April Showers Bring May Flowers to a Winter Wonderland and everything in between. \nNOTE: The Tumbling Through the Seasons art exhibit is at VCA Old Town (not VCA Alexandria). Due to new guidelines for a fear-free space\, we cannot accept artwork that has realistic depictions of dogs\, cats\, and/or birds. Stylized or abstract pieces with these subjects are allowed. \nMust be a Del Ray Artisans member to enter (join Del Ray Artisans now); 2-dimensional works only. No entry fee; pieces previously shown are welcome. \nEntry Details & Form
URL:https://delrayartisans.org/event/tumbling-seasons-cfe-deadline/
LOCATION:Online
CATEGORIES:Entry Deadline
ORGANIZER;CN="Liz Martinez%2C Gallery Without Walls Curator":MAILTO:GWW@DelRayArtisans.org
END:VEVENT
END:VCALENDAR