BEGIN:VCALENDAR
VERSION:2.0
PRODID:-//Del Ray Artisans - ECPv6.15.20//NONSGML v1.0//EN
CALSCALE:GREGORIAN
METHOD:PUBLISH
X-WR-CALNAME:Del Ray Artisans
X-ORIGINAL-URL:https://delrayartisans.org
X-WR-CALDESC:Events for Del Ray Artisans
REFRESH-INTERVAL;VALUE=DURATION:PT1H
X-Robots-Tag:noindex
X-PUBLISHED-TTL:PT1H
BEGIN:VTIMEZONE
TZID:America/New_York
BEGIN:DAYLIGHT
TZOFFSETFROM:-0500
TZOFFSETTO:-0400
TZNAME:EDT
DTSTART:20230312T070000
END:DAYLIGHT
BEGIN:STANDARD
TZOFFSETFROM:-0400
TZOFFSETTO:-0500
TZNAME:EST
DTSTART:20231105T060000
END:STANDARD
BEGIN:DAYLIGHT
TZOFFSETFROM:-0500
TZOFFSETTO:-0400
TZNAME:EDT
DTSTART:20240310T070000
END:DAYLIGHT
BEGIN:STANDARD
TZOFFSETFROM:-0400
TZOFFSETTO:-0500
TZNAME:EST
DTSTART:20241103T060000
END:STANDARD
BEGIN:DAYLIGHT
TZOFFSETFROM:-0500
TZOFFSETTO:-0400
TZNAME:EDT
DTSTART:20250309T070000
END:DAYLIGHT
BEGIN:STANDARD
TZOFFSETFROM:-0400
TZOFFSETTO:-0500
TZNAME:EST
DTSTART:20251102T060000
END:STANDARD
END:VTIMEZONE
BEGIN:VEVENT
DTSTART;VALUE=DATE:20240713
DTEND;VALUE=DATE:20240715
DTSTAMP:20260425T104656
CREATED:20231129T170525Z
LAST-MODIFIED:20240621T204910Z
UID:10001318-1720828800-1721001599@delrayartisans.org
SUMMARY:Summer Art Market 2024 at Del Ray Artisans Gallery
DESCRIPTION:Join us for Del Ray Artisans’ 3rd annual Summer Art Market! This two-day\, indoor market gives you the chance to purchase original handmade artwork from talented local artists. Each day is a different group of local artists with original work in a wide range of media including ceramics\, fiber\, glass\, jewelry\, mixed media\, paper\, photography\, and more. Perfect for gifts or treat yourself! \nThe 2024 Summer Art Market is on Saturday and Sunday\, July 13 and 14\, from 10am–4pm inside Del Ray Artisans gallery at 2704 Mount Vernon Avenue\, Alexandria\, VA.  The Summer Art Market is open to the public and free to browse. \nDifferent artists are featured each day\, so treat yourself and plan to visit the gallery on both days. The artists featured in the 2024 Summer Art Market are: \nSaturday\, July 13 from 10am–4pm\n\nKen Beerbohm Sculptures\nRita Cohen\nEd Colahan Pottery\nAriane D’Souza\nDel Ray Artisans’ Figure Drawing Art\nTimothy Duncan\, TDUNCANCERAMICS\nPatricia Figliola\, Aisling Arts\nLesley Hall\, Ruthless Art\nStacy Rausch\nRobin Reid\, Moxie & Magic\nEllen Rosenthal\, Beadstringer Ellen\nCynthia Schoeppel\, CLS Arts\nAnn Cameron Siegal\, The Momentary Pause\nKelly Snyder Arts\nImani W. Russell\, Indigo’s Friends Studio\nTracy Wilkerson\, Recycled Works\n\nSunday\, July 14 from 10am–4pm\n\nVictoria Barnes Photography\nDenise Bentley\, BFabricArt\nBrando\nMaxine Cholmondeley\, Max’s Mixtures Candles & Soaps\nGretchen D’Amore\, Gdamore Original Art\nFetun Getachew\, Ethiopiaዊ\nStephen Lally Pottery\nKebao Li\nDiana Manchak\, designsinclay\nLiz Martinez\nSarah McBurney\, Wish Upon a Whimsy\nMary Pike\, Recycled Bag Lady\nKellie Sansone Creates\nPratibha Srinivasan\nKathy Stoner\nTamara Wilkerson\, WiRealm by Tamara\n\n 
URL:https://delrayartisans.org/event/summer-art-market-2024/
LOCATION:Del Ray Artisans Gallery\, 2704 Mount Vernon Avenue\, Alexandria\, VA\, 22301\, United States
CATEGORIES:Art Exhibit,Market
ATTACH;FMTTYPE=image/jpeg:https://delrayartisans.org/wp-content/uploads/2024/01/Summer-Art-Market-2024.jpg
END:VEVENT
BEGIN:VEVENT
DTSTART;TZID=America/New_York:20240714T170000
DTEND;TZID=America/New_York:20240714T200000
DTSTAMP:20260425T104656
CREATED:20240515T025541Z
LAST-MODIFIED:20240715T150351Z
UID:10001408-1720976400-1720987200@delrayartisans.org
SUMMARY:Drop off donations for Rummage Sale (Indoor Yard Sale)
DESCRIPTION:The rummage sale will be inside the gallery on Saturday\, July 20\, 8am-1pm. Drop off your donations for the sale to benefit Del Ray Artisans nonprofit on these dates: \n\nSunday\, July 14\, 5-8pm\nMonday\, July 15\, 5-7pm\nTuesday\, July 16\, 1-5pm\nThursday\, July 18 12-8pm\nFriday\, July 19\, 12-8pm\n\nDonations may include household items\, clothing\, office supplies\, jewelry\, toys\, books\, sports equipment\, handheld tools\, small appliances\, and more. \nPlease do not drop off hazardous materials\, broken items\, or anything that requires two people to move (no large furniture or large electronics). \nIf you have questions about donations\, contact Margaret Slipek at fundraising@delrayartisans.org.  Thank you! \nPlease share the flyer!\n¡Por favor comparte!\nVolunteer\nHelp with the donation drop offs\, organization\, and pricing. To sign up to assist\, contact Morgan Parr at volunteers@delrayartisans.org. \nDRA members are reminded to report their volunteer hours monthly.
URL:https://delrayartisans.org/event/yard-sale-donations/2024-07-14/
LOCATION:Del Ray Artisans Gallery\, 2704 Mount Vernon Avenue\, Alexandria\, VA\, 22301\, United States
CATEGORIES:Fundraising,Volunteer
ORGANIZER;CN="Margaret Slipek%2C Fundraising Director":MAILTO:Fundraising@DelRayArtisans.org
END:VEVENT
BEGIN:VEVENT
DTSTART;TZID=America/New_York:20240714T235900
DTEND;TZID=America/New_York:20240714T235900
DTSTAMP:20260425T104656
CREATED:20240627T140438Z
LAST-MODIFIED:20240711T155023Z
UID:10001434-1721001540-1721001540@delrayartisans.org
SUMMARY:Alcove Gift Shop Call for Artists Deadline
DESCRIPTION:Call for Artists ~ Open to Del Ray Artisans Members\nAlcove Gift Shop\nAugust 2 – September 28\, 2024\nApplication deadline extended to Sunday\, July 14\, 2024 by midnight\n \nDel Ray Artisans’ Alcove is a gift shop within the gallery\, where members (who apply and are accepted) display and sell their work. Unframed 2-D works are available in bins alongside jewelry\, fiber art\, wood craft\, ceramics\, and other smaller 3-D items. \nThe work will be displayed for two months\, and as pieces are sold they can be replaced with similar work for no additional fee. This opportunity is independent of the monthly exhibits and is only open to Del Ray Artisans members. If you are not a member\, you may join Del Ray Artisans now to enter. \nApplication Details & Form
URL:https://delrayartisans.org/event/alcove-aug-sept-2024-cfa-deadline/
LOCATION:Online
CATEGORIES:Entry Deadline
ORGANIZER;CN="Stephen Lally":MAILTO:slallypottery@gmail.com
END:VEVENT
END:VCALENDAR