BEGIN:VCALENDAR
VERSION:2.0
PRODID:-//Del Ray Artisans - ECPv6.15.20//NONSGML v1.0//EN
CALSCALE:GREGORIAN
METHOD:PUBLISH
X-ORIGINAL-URL:https://delrayartisans.org
X-WR-CALDESC:Events for Del Ray Artisans
REFRESH-INTERVAL;VALUE=DURATION:PT1H
X-Robots-Tag:noindex
X-PUBLISHED-TTL:PT1H
BEGIN:VTIMEZONE
TZID:America/New_York
BEGIN:DAYLIGHT
TZOFFSETFROM:-0500
TZOFFSETTO:-0400
TZNAME:EDT
DTSTART:20230312T070000
END:DAYLIGHT
BEGIN:STANDARD
TZOFFSETFROM:-0400
TZOFFSETTO:-0500
TZNAME:EST
DTSTART:20231105T060000
END:STANDARD
BEGIN:DAYLIGHT
TZOFFSETFROM:-0500
TZOFFSETTO:-0400
TZNAME:EDT
DTSTART:20240310T070000
END:DAYLIGHT
BEGIN:STANDARD
TZOFFSETFROM:-0400
TZOFFSETTO:-0500
TZNAME:EST
DTSTART:20241103T060000
END:STANDARD
BEGIN:DAYLIGHT
TZOFFSETFROM:-0500
TZOFFSETTO:-0400
TZNAME:EDT
DTSTART:20250309T070000
END:DAYLIGHT
BEGIN:STANDARD
TZOFFSETFROM:-0400
TZOFFSETTO:-0500
TZNAME:EST
DTSTART:20251102T060000
END:STANDARD
END:VTIMEZONE
BEGIN:VEVENT
DTSTART;VALUE=DATE:20240701
DTEND;VALUE=DATE:20240713
DTSTAMP:20260425T104740
CREATED:20240723T152107Z
LAST-MODIFIED:20240723T152107Z
UID:10001474-1719792000-1720828799@delrayartisans.org
SUMMARY:Gallery Closed to the Public
DESCRIPTION:With the exception of the Summer Art Market (July 13-14) and Super Summer Rummage Sale fundraiser (July 20-21)\, the gallery is closed to the public in July for creative programs and facility repairs. \nRegular gallery hours resume on August 1\, 2024 for The Science of our Surroundings art exhibit.
URL:https://delrayartisans.org/event/gallery-closed-july-1-12-2024/
LOCATION:Del Ray Artisans Gallery\, 2704 Mount Vernon Avenue\, Alexandria\, VA\, 22301\, United States
CATEGORIES:Administrative
END:VEVENT
BEGIN:VEVENT
DTSTART;VALUE=DATE:20240708
DTEND;VALUE=DATE:20240713
DTSTAMP:20260425T104740
CREATED:20240126T124125Z
LAST-MODIFIED:20260403T202411Z
UID:10001346-1720396800-1720828799@delrayartisans.org
SUMMARY:5-day Figure Drawing Bootcamp (9am–3pm/day)
DESCRIPTION:Monday\, July 8 – Friday\, July 12\n9am–3pm each day\nRegister Now \nStruggling to kickstart your daily drawing routine? Dive into our 5-day Figure Drawing Bootcamp\, where we embrace art through dynamic poses and quick gestures ranging from 30 seconds to 20 minutes. Each day features two unique models\, ensuring an engaging experience\, with an hour break for lunch from 11:30am-12:30pm. \nImmerse yourself in a creative environment\, fostering both artistic expression and community. And that’s not all – at the end of the week\, showcase and sell your masterpieces during the first day of our Summer Art Market (Saturday\, July 13th). \nUnleash your creativity and join a vibrant community of local artists! \nWe’re offering a discounted weekly rate for DRA members! Just $200 for 5 days + the option to sell your work at the DRA Life Drawing booth during the market. Non-members will pay $250 for the 5-day pass. Anyone can drop-in on day(s) they select for $55 each. \nPurchase our $30 supply kit (optional)\, and we will provide a basic set you need to get started. The kit includes newsprint\, charcoal\, fine art paper\, and pastels. Keep any unused newsprint/charcoal at the end of the session! \nIf you’d like to bring your own supplies\, we recommend: \n\n50+ Sheets of Newsprint (preferably 14″ x 16″ or 18″ x 24″)\nCharcoal (Vine\, Compressed\, Thick\, Conte\, White\, whichever your preference)\nGrey and/or Tan Toned Strathmore Drawing Paper (for longer poses)\nRags/Blending stumps/Paper towels\nKneaded & Solid Erasers\n\nBYO easels and clip-boards welcome! We will have a few + the usual folding tables\, but they are all first come\, first serve as storage space is limited. \n*Note: No oil paint during these sessions due to fumes. Drawing media\, acrylic paints\, and watercolor allowed. \nQuestions? Contact Life Drawing Coordinator\, Brando Gould at lifedrawing@delrayartisans.org and Technology Director\, Dina Wise at technology@delrayartisans.org. \nRegister Now
URL:https://delrayartisans.org/event/figure-drawing-bootcamp-2024/
LOCATION:Del Ray Artisans Gallery\, 2704 Mount Vernon Avenue\, Alexandria\, VA\, 22301\, United States
CATEGORIES:Creative Summer Programs,Life Drawing,Program,Workshop
ATTACH;FMTTYPE=image/jpeg:https://delrayartisans.org/wp-content/uploads/2024/01/figure-drawing-bootcamp-2024.jpg
ORGANIZER;CN="Brando Gould%2C Figure Drawing Coordinator":MAILTO:lifedrawing@delrayartisans.org
END:VEVENT
BEGIN:VEVENT
DTSTART;TZID=America/New_York:20240708T190000
DTEND;TZID=America/New_York:20240708T203000
DTSTAMP:20260425T104740
CREATED:20240611T001848Z
LAST-MODIFIED:20241006T145945Z
UID:10001418-1720465200-1720470600@delrayartisans.org
SUMMARY:CANCELED: Introduction to Tunisian Crochet: Cockatiel Cowl (Three 1.5-hour classes; Register by 7/1)
DESCRIPTION:Instructor: Dawn Zurell\, dmzurell@gmail.com\nDate/Time: (Mondays) July 8\, 15\, and 22 from 7-8:30pm (Three 1.5-hour classes)\nCost: $90 Del Ray Artisans member / $100 Non-member; bring own supplies\nClass size: 2-6 participants\n(Register by midnight on July 1) \nTunisian crochet combines crochet and knitting\, then produces a finished fabric that can look woven\, knitted\, or crocheted. Seems like magic\, right? It is certainly fun. Come learn the basics and leave with a lovely cowl. No previous knitting or crocheting experience required. \nYou will learn basic Tunisian crochet skills\, including foundation chains\, forward and return passes\, and a few stitch variations. \nMaterials you must bring to class: \n\n284 yds of any bulky/chunky yarn (142 yds each of 2 colors is recommended)\n100 yds of any worsted weight practice yarn\nUS size N (10mm) Tunisian (Afghan) crochet hook (either 12”-14” or hook with any length cable)\nUS size L (8mm) Tunisian (Afghan) crochet hook (either 12”-14” or hook with any length cable)\ntapestry needle\nscissors\n\nRegister Now \n  \n\nView other upcoming workshops\, information about the facility\, and policies on the Upcoming Workshops page.
URL:https://delrayartisans.org/event/crochet-cowl-july-2024/
LOCATION:Del Ray Artisans Gallery\, 2704 Mount Vernon Avenue\, Alexandria\, VA\, 22301\, United States
CATEGORIES:Creative Summer Programs,Program,Workshop
ATTACH;FMTTYPE=image/jpeg:https://delrayartisans.org/wp-content/uploads/2024/06/Cowl-by-Dawn-Zurell.jpg
ORGANIZER;CN="Erica Hughes%2C Programs Director":MAILTO:programs@delrayartisans.org
END:VEVENT
END:VCALENDAR