BEGIN:VCALENDAR
VERSION:2.0
PRODID:-//Del Ray Artisans - ECPv6.15.20//NONSGML v1.0//EN
CALSCALE:GREGORIAN
METHOD:PUBLISH
X-WR-CALNAME:Del Ray Artisans
X-ORIGINAL-URL:https://delrayartisans.org
X-WR-CALDESC:Events for Del Ray Artisans
REFRESH-INTERVAL;VALUE=DURATION:PT1H
X-Robots-Tag:noindex
X-PUBLISHED-TTL:PT1H
BEGIN:VTIMEZONE
TZID:America/New_York
BEGIN:DAYLIGHT
TZOFFSETFROM:-0500
TZOFFSETTO:-0400
TZNAME:EDT
DTSTART:20230312T070000
END:DAYLIGHT
BEGIN:STANDARD
TZOFFSETFROM:-0400
TZOFFSETTO:-0500
TZNAME:EST
DTSTART:20231105T060000
END:STANDARD
BEGIN:DAYLIGHT
TZOFFSETFROM:-0500
TZOFFSETTO:-0400
TZNAME:EDT
DTSTART:20240310T070000
END:DAYLIGHT
BEGIN:STANDARD
TZOFFSETFROM:-0400
TZOFFSETTO:-0500
TZNAME:EST
DTSTART:20241103T060000
END:STANDARD
BEGIN:DAYLIGHT
TZOFFSETFROM:-0500
TZOFFSETTO:-0400
TZNAME:EDT
DTSTART:20250309T070000
END:DAYLIGHT
BEGIN:STANDARD
TZOFFSETFROM:-0400
TZOFFSETTO:-0500
TZNAME:EST
DTSTART:20251102T060000
END:STANDARD
END:VTIMEZONE
BEGIN:VEVENT
DTSTART;VALUE=DATE:20240607
DTEND;VALUE=DATE:20240701
DTSTAMP:20260425T104654
CREATED:20230923T190810Z
LAST-MODIFIED:20240514T140105Z
UID:10001135-1717718400-1719791999@delrayartisans.org
SUMMARY:All About Love at Del Ray Artisans Gallery
DESCRIPTION:All About Love Art Exhibit\nJune 7–30\, 2024\nOpening Reception: Friday\, June 7 from 7–9pm\n“All About Love” by TJ Feeley\nStarting on Friday\, June 7\, come celebrate visual depictions of love at the All About Love exhibit at Del Ray Artisans gallery. In this exhibit\, local artists explore the concept of love in all of its forms: romantic love\, love for one’s parents and siblings\, love of pets\, young love\, enduring couples\, strong friendships\, soulmates\, and more. \nWhile the ancient Greeks identified eight major types of love (erotic\, affectionate\, familial\, playful\, enduring\, obsessive\, unconditional\, and self-compassionate)\, humans have an infinite number of ways to love. Love is one of the most important forces in the world—having been the theme of countless works of literature\, film\, architecture\, and even war (i.e.\, Helen of Troy). As Dr. Martin Luther King\, Jr. noted “…Hate cannot drive out hate\, only love can do that.” Come see how artists portray what love means to them using a variety of media. All the artwork is available for sale. \nJoin us for the opening reception on Friday\, June 7 between 7-9pm to meet curator TJ Feeley and the artists. Mark your calendar now or set a reminder through Eventbrite. \nIn addition\, our Creative Summer Programs begin in June. Join us for: \n\nFirst Thursday family-friendly activity: Origami Art – Thursday\, June 6\, 6:30-8pm (drop-in)\nColor Explosion Workshop – Saturday\, June 8\, 9am-12pm (register by 6/4)\nDel Ray Urban Sketchers – Sunday\, June 9\, 1-3pm at St Elmo’s in Del Ray (drop-in)\nSoft Pastel Workshop – Saturday\, June 15\, 6:30-8:30pm (register by 6/12)\nPlaying with Resin Workshop – Monday\, June 17\, 6-9pm (register by 6/14)\nLife Drawing Sessions – Tuesdays\, June 18 and June 25\, 7-9pm (drop-in)\nPartners in Art Evening – Wednesday\, June 19\, 7-9pm (RSVP by 6/17)\nIntroduction to Stone Carving Workshop – Saturday\, June 22\, 9am-12pm (register by 6/16)\nMake Your Own Glass Mosaic Lamp Workshop – Saturday\, June 22\, 6-9pm (register by 6/21)\nMix and Match Upcycle Earrings Workshop – Sunday\, June 23\, 10am-12pm (register by 6/20)\nNature Journaling Club – Saturday\, June 29\, 10am-12pm (drop-in)\n\nThe All About Love exhibit runs June 7–30\, 2024 at Del Ray Artisans gallery in the Colasanto Center\, 2704 Mount Vernon Avenue\, Alexandria\, Virginia 22301. Gallery hours are First Thursday (Apr-Sept) 12-9pm\, Thursday 12-6pm\, Friday 12-9pm\, Saturday 12-6pm\, and Sunday 12-6pm. Gallery hours will differ in July. \nThe gallery is free\, open to the public\, and accessible. Del Ray Artisans\, a 501(3)(c) nonprofit organization whose mission is to promote art for the benefit of artists and the community. \nFor more information\, contact curator TJ Feeley at tjfeeley@gmail.com or Director of Curating Amy Kitchin Hower at curating@delrayartisans.org.
URL:https://delrayartisans.org/event/all-about-love/
LOCATION:Del Ray Artisans Gallery\, 2704 Mount Vernon Avenue\, Alexandria\, VA\, 22301\, United States
CATEGORIES:Art Exhibit,Del Ray Artisans Gallery
ATTACH;FMTTYPE=image/jpeg:https://delrayartisans.org/wp-content/uploads/2024/04/All-About-Love-by-TJ-Feeley-square.jpg
ORGANIZER;CN="TJ Feeley":MAILTO:tjfeeley@gmail.com
END:VEVENT
BEGIN:VEVENT
DTSTART;TZID=America/New_York:20240622T090000
DTEND;TZID=America/New_York:20240622T120000
DTSTAMP:20260425T104654
CREATED:20240423T221034Z
LAST-MODIFIED:20240509T223332Z
UID:10001401-1719046800-1719057600@delrayartisans.org
SUMMARY:Introduction to Stone Carving Workshop (Register by 6/16)
DESCRIPTION:Instructor: Jonathan Ottke\nDate/Time: Saturday\, June 22\, 9am-noon\nCost: $55 Del Ray Artisans member / $65 Non-member; plus a $25 Supply Fee\nClass size: 4-12 participants\n(Register by midnight on June 16) \nLearn basic sculpting techniques by carving in soapstone—a beautiful\, soft stone that is ideal for your first stone sculpture. You will sketch an idea in three dimensions to picture what it will look like; then sculpt\, sand and finish the artwork. You’ll use tools such as knives\, rasps and saws; and then finish and polish your work. Soapstone finishes beautifully! \nThis is a great way to start thinking in three dimensions. \nRegister Now \n\nArtwork credit: Stone Torso by Jonathan Ottke \n\nView other upcoming workshops\, information about the facility and policies on the Upcoming Workshops page.
URL:https://delrayartisans.org/event/stone-carving/
LOCATION:Del Ray Artisans Gallery\, 2704 Mount Vernon Avenue\, Alexandria\, VA\, 22301\, United States
CATEGORIES:Creative Summer Programs,Program,Workshop
ATTACH;FMTTYPE=image/jpeg:https://delrayartisans.org/wp-content/uploads/2023/04/Stone-Torso-by-Jonathan-Ottke.jpg
ORGANIZER;CN="Jonathan Ottke":MAILTO:ottkej@gmail.com
END:VEVENT
BEGIN:VEVENT
DTSTART;TZID=America/New_York:20240622T180000
DTEND;TZID=America/New_York:20240622T210000
DTSTAMP:20260425T104654
CREATED:20240421T135611Z
LAST-MODIFIED:20240617T124428Z
UID:10001399-1719079200-1719090000@delrayartisans.org
SUMMARY:Make Your Own Glass Mosaic Lamp Workshop (Register by 6/21)
DESCRIPTION:Instructor: Erica Hughes\nDate/Time: Saturday\, June 22\, 6-9pm\nCost: $25 Del Ray Artisans member / $35 Non-member; plus a $65 Supply Fee\nClass size: 4-9 participants\n(Register by midnight on June 21) \nCraft your very own stunning Turkish lamp using glass mosaic techniques! We provide all the materials you need\, including vibrant glass tiles and beads. Join us at Del Ray Artisans for a fun-filled session where you can gather with friends and transform ordinary materials into a work of art! No prior experience is required. Children under 12 are welcome to participate alongside a paying adult\, ensuring a memorable experience for the whole family! \nThe lamp is approximately 4.3 inches wide by 11 inches tall. When registering\, choose the color theme for your mosaic: rainbow\, orange\, or blue. Register early for the widest selection. UPDATE: Rainbow and blue themes are sold out. Register now for the orange theme. \nRegister Now \n\nArtwork credit: Product photos from KraftStories’ DIY Classic Turkish Mosaic Lamp Kit\, Photo of supplies by Erica Hughes. \n\nView other upcoming workshops\, information about the facility and policies on the Upcoming Workshops page.
URL:https://delrayartisans.org/event/mosaic-lamp/
LOCATION:Del Ray Artisans Gallery\, 2704 Mount Vernon Avenue\, Alexandria\, VA\, 22301\, United States
CATEGORIES:Creative Summer Programs,Program,Workshop
ATTACH;FMTTYPE=image/jpeg:https://delrayartisans.org/wp-content/uploads/2024/04/finished-lamps-square.jpg
ORGANIZER;CN="Erica Hughes":MAILTO:zarathustraspeaks@msn.com
END:VEVENT
END:VCALENDAR