BEGIN:VCALENDAR
VERSION:2.0
PRODID:-//Del Ray Artisans - ECPv6.15.20//NONSGML v1.0//EN
CALSCALE:GREGORIAN
METHOD:PUBLISH
X-WR-CALNAME:Del Ray Artisans
X-ORIGINAL-URL:https://delrayartisans.org
X-WR-CALDESC:Events for Del Ray Artisans
REFRESH-INTERVAL;VALUE=DURATION:PT1H
X-Robots-Tag:noindex
X-PUBLISHED-TTL:PT1H
BEGIN:VTIMEZONE
TZID:America/New_York
BEGIN:DAYLIGHT
TZOFFSETFROM:-0500
TZOFFSETTO:-0400
TZNAME:EDT
DTSTART:20230312T070000
END:DAYLIGHT
BEGIN:STANDARD
TZOFFSETFROM:-0400
TZOFFSETTO:-0500
TZNAME:EST
DTSTART:20231105T060000
END:STANDARD
BEGIN:DAYLIGHT
TZOFFSETFROM:-0500
TZOFFSETTO:-0400
TZNAME:EDT
DTSTART:20240310T070000
END:DAYLIGHT
BEGIN:STANDARD
TZOFFSETFROM:-0400
TZOFFSETTO:-0500
TZNAME:EST
DTSTART:20241103T060000
END:STANDARD
BEGIN:DAYLIGHT
TZOFFSETFROM:-0500
TZOFFSETTO:-0400
TZNAME:EDT
DTSTART:20250309T070000
END:DAYLIGHT
BEGIN:STANDARD
TZOFFSETFROM:-0400
TZOFFSETTO:-0500
TZNAME:EST
DTSTART:20251102T060000
END:STANDARD
END:VTIMEZONE
BEGIN:VEVENT
DTSTART;VALUE=DATE:20240607
DTEND;VALUE=DATE:20240701
DTSTAMP:20260425T104653
CREATED:20230923T190810Z
LAST-MODIFIED:20240514T140105Z
UID:10001135-1717718400-1719791999@delrayartisans.org
SUMMARY:All About Love at Del Ray Artisans Gallery
DESCRIPTION:All About Love Art Exhibit\nJune 7–30\, 2024\nOpening Reception: Friday\, June 7 from 7–9pm\n“All About Love” by TJ Feeley\nStarting on Friday\, June 7\, come celebrate visual depictions of love at the All About Love exhibit at Del Ray Artisans gallery. In this exhibit\, local artists explore the concept of love in all of its forms: romantic love\, love for one’s parents and siblings\, love of pets\, young love\, enduring couples\, strong friendships\, soulmates\, and more. \nWhile the ancient Greeks identified eight major types of love (erotic\, affectionate\, familial\, playful\, enduring\, obsessive\, unconditional\, and self-compassionate)\, humans have an infinite number of ways to love. Love is one of the most important forces in the world—having been the theme of countless works of literature\, film\, architecture\, and even war (i.e.\, Helen of Troy). As Dr. Martin Luther King\, Jr. noted “…Hate cannot drive out hate\, only love can do that.” Come see how artists portray what love means to them using a variety of media. All the artwork is available for sale. \nJoin us for the opening reception on Friday\, June 7 between 7-9pm to meet curator TJ Feeley and the artists. Mark your calendar now or set a reminder through Eventbrite. \nIn addition\, our Creative Summer Programs begin in June. Join us for: \n\nFirst Thursday family-friendly activity: Origami Art – Thursday\, June 6\, 6:30-8pm (drop-in)\nColor Explosion Workshop – Saturday\, June 8\, 9am-12pm (register by 6/4)\nDel Ray Urban Sketchers – Sunday\, June 9\, 1-3pm at St Elmo’s in Del Ray (drop-in)\nSoft Pastel Workshop – Saturday\, June 15\, 6:30-8:30pm (register by 6/12)\nPlaying with Resin Workshop – Monday\, June 17\, 6-9pm (register by 6/14)\nLife Drawing Sessions – Tuesdays\, June 18 and June 25\, 7-9pm (drop-in)\nPartners in Art Evening – Wednesday\, June 19\, 7-9pm (RSVP by 6/17)\nIntroduction to Stone Carving Workshop – Saturday\, June 22\, 9am-12pm (register by 6/16)\nMake Your Own Glass Mosaic Lamp Workshop – Saturday\, June 22\, 6-9pm (register by 6/21)\nMix and Match Upcycle Earrings Workshop – Sunday\, June 23\, 10am-12pm (register by 6/20)\nNature Journaling Club – Saturday\, June 29\, 10am-12pm (drop-in)\n\nThe All About Love exhibit runs June 7–30\, 2024 at Del Ray Artisans gallery in the Colasanto Center\, 2704 Mount Vernon Avenue\, Alexandria\, Virginia 22301. Gallery hours are First Thursday (Apr-Sept) 12-9pm\, Thursday 12-6pm\, Friday 12-9pm\, Saturday 12-6pm\, and Sunday 12-6pm. Gallery hours will differ in July. \nThe gallery is free\, open to the public\, and accessible. Del Ray Artisans\, a 501(3)(c) nonprofit organization whose mission is to promote art for the benefit of artists and the community. \nFor more information\, contact curator TJ Feeley at tjfeeley@gmail.com or Director of Curating Amy Kitchin Hower at curating@delrayartisans.org.
URL:https://delrayartisans.org/event/all-about-love/
LOCATION:Del Ray Artisans Gallery\, 2704 Mount Vernon Avenue\, Alexandria\, VA\, 22301\, United States
CATEGORIES:Art Exhibit,Del Ray Artisans Gallery
ATTACH;FMTTYPE=image/jpeg:https://delrayartisans.org/wp-content/uploads/2024/04/All-About-Love-by-TJ-Feeley-square.jpg
ORGANIZER;CN="TJ Feeley":MAILTO:tjfeeley@gmail.com
END:VEVENT
BEGIN:VEVENT
DTSTART;TZID=America/New_York:20240615T080000
DTEND;TZID=America/New_York:20240615T100000
DTSTAMP:20260425T104653
CREATED:20240406T130557Z
LAST-MODIFIED:20240827T152933Z
UID:10001390-1718438400-1718445600@delrayartisans.org
SUMMARY:Volunteer in the Gardens
DESCRIPTION:Give some TLC to Del Ray Artisans’ gardens! Join the Gardens Committee to spruce up the landscaping around the gallery. \nBring gloves\, knee pads (if desired)\, and laughter. Even if you don’t know what a weed is\, we can teach you. Volunteer for 1 hour or the whole 2.5 hours. If you have any questions\, please email Kurt at Gardens@DelRayArtisans.org. \nMEMBERS: This task counts towards your annual membership volunteer hours (record your hours). \nNON-MEMBERS: You are welcome to come help and learn too. \nSave the dates: During the season (March-October)\, the committee will meet the third Saturday of every month from 9am-11am. In June and August\, we’ll meet an hour earlier (8am-10am) to avoid the heat. The July 20th session has been cancelled. The September session has been rescheduled to Sunday\, September 22nd to avoid conflict with the HalloWEIRD art market. Thank you for your volunteer time! \n\nNOTE: All plantings and transplantings must be approved by the Garden Committee. The Garden Committee approval is important to make sure the plants that get chosen are great for nature\, located properly for the right amount of sun or shade\, don’t conflict with other plants or facility needs\, and fit into the overall garden plan with maintenance in mind.
URL:https://delrayartisans.org/event/garden-volunteers-2024/2024-06-15/
LOCATION:Del Ray Artisans Gallery\, 2704 Mount Vernon Avenue\, Alexandria\, VA\, 22301\, United States
CATEGORIES:Volunteer
ORGANIZER;CN="Gardens Committee":MAILTO:gardens@delrayartisans.org
END:VEVENT
BEGIN:VEVENT
DTSTART;TZID=America/New_York:20240615T183000
DTEND;TZID=America/New_York:20240615T203000
DTSTAMP:20260425T104653
CREATED:20240507T203239Z
LAST-MODIFIED:20240509T223303Z
UID:10001406-1718476200-1718483400@delrayartisans.org
SUMMARY:Soft Pastel Workshop (Register by 6/12)
DESCRIPTION:Instructor: Karina Mosser\, mosserkarina@gmail.com\nDate/Time: Saturday\, June 15\, 6:30-8:30pm\nCost: $30 Del Ray Artisans member / $40 Non-member; plus a $10 Supply Fee\nClass size: 4-12 participants\n(Register by midnight on June 12) \nLearn the basics of creating dreamy landscapes using soft pastels\, an often overlooked medium. This workshop is a great introduction to the basics of color blending\, layering\, texture\, harmony\, and balance. As a bonus\, the instructor will allow participants to experiment with Pan Pastel\, a new form of soft pastel\, with no extra supply fee.  \nRegister Now \n\nArtwork credit: “Before The Storm” by Karina Mosser \n\nView other upcoming workshops\, information about the facility and policies on the Upcoming Workshops page.
URL:https://delrayartisans.org/event/soft-pastel/
LOCATION:Del Ray Artisans Gallery\, 2704 Mount Vernon Avenue\, Alexandria\, VA\, 22301\, United States
CATEGORIES:Creative Summer Programs,Program,Workshop
ATTACH;FMTTYPE=image/jpeg:https://delrayartisans.org/wp-content/uploads/2024/05/BeforeTheStorm-by-KarinaMosser.jpg
ORGANIZER;CN="Erica Hughes%2C Programs Director":MAILTO:programs@delrayartisans.org
END:VEVENT
BEGIN:VEVENT
DTSTART;TZID=America/New_York:20240615T235900
DTEND;TZID=America/New_York:20240615T235900
DTSTAMP:20260425T104653
CREATED:20240515T185153Z
LAST-MODIFIED:20240515T185332Z
UID:10001413-1718495940-1718495940@delrayartisans.org
SUMMARY:Summer Art Market Applications Due
DESCRIPTION:Call for Artists\nDel Ray Artisans’ Summer Art Market\nApplication deadline: Saturday\, June 15\, 2024 by midnight\nApply now for our 3rd annual indoor Summer Art Market! Different artists will be selected for each market day (Saturday\, July 13 and Sunday\, July 14 from 10am-4pm). Seeking a range of media including ceramics\, fiber\, jewelry\, mixed media\, painting\, photography\, and more. \nDetails and Application
URL:https://delrayartisans.org/event/summer-art-market-2024-deadline/
LOCATION:Online
CATEGORIES:Entry Deadline
ORGANIZER;CN="Lesley Hall%2C Vice President":MAILTO:vp@delrayartisans.org
END:VEVENT
END:VCALENDAR