BEGIN:VCALENDAR
VERSION:2.0
PRODID:-//Del Ray Artisans - ECPv6.15.20//NONSGML v1.0//EN
CALSCALE:GREGORIAN
METHOD:PUBLISH
X-WR-CALNAME:Del Ray Artisans
X-ORIGINAL-URL:https://delrayartisans.org
X-WR-CALDESC:Events for Del Ray Artisans
REFRESH-INTERVAL;VALUE=DURATION:PT1H
X-Robots-Tag:noindex
X-PUBLISHED-TTL:PT1H
BEGIN:VTIMEZONE
TZID:America/New_York
BEGIN:DAYLIGHT
TZOFFSETFROM:-0500
TZOFFSETTO:-0400
TZNAME:EDT
DTSTART:20230312T070000
END:DAYLIGHT
BEGIN:STANDARD
TZOFFSETFROM:-0400
TZOFFSETTO:-0500
TZNAME:EST
DTSTART:20231105T060000
END:STANDARD
BEGIN:DAYLIGHT
TZOFFSETFROM:-0500
TZOFFSETTO:-0400
TZNAME:EDT
DTSTART:20240310T070000
END:DAYLIGHT
BEGIN:STANDARD
TZOFFSETFROM:-0400
TZOFFSETTO:-0500
TZNAME:EST
DTSTART:20241103T060000
END:STANDARD
BEGIN:DAYLIGHT
TZOFFSETFROM:-0500
TZOFFSETTO:-0400
TZNAME:EDT
DTSTART:20250309T070000
END:DAYLIGHT
BEGIN:STANDARD
TZOFFSETFROM:-0400
TZOFFSETTO:-0500
TZNAME:EST
DTSTART:20251102T060000
END:STANDARD
END:VTIMEZONE
BEGIN:VEVENT
DTSTART;TZID=America/New_York:20240606T183000
DTEND;TZID=America/New_York:20240606T200000
DTSTAMP:20260425T104659
CREATED:20240507T181708Z
LAST-MODIFIED:20240521T212352Z
UID:10001358-1717698600-1717704000@delrayartisans.org
SUMMARY:First Thursday Activity: Origami Art 6:30-8pm (Gallery Open 12-9pm)
DESCRIPTION:On First Thursday\, June 6th\, enjoy a sneak preview of the All About Love art exhibit and jump into a summer of love at Del Ray Artisans. \nVisit the gallery between 6:30-8pm to make some groovy origami art with tie-dyed paper. All are welcome. This artful activity is family-friendly and free! Be sure to check out the one-of-a-kind Del Ray Artisans’ 30th anniversary t-shirts hand-dyed by artist Lesley Hall for sale too. \nDel Ray Artisans gallery is open 12-9pm on First Thursdays from April through September (except not in July). \n\nEvery year from April through September Del Ray Business Association celebrates First Thursday\, a Del Ray community event along Mount Vernon Avenue from 6pm until dusk on the first Thursday of the month. \nJoin the Del Ray community for live music and themed activities. The selected nonprofit for each date will be announced in advance and donations will be collected at the Pat Miller Neighborhood Square at the intersection of Mount Vernon and Oxford Avenues. Join us for the neighborhood themes: \n\nApril 11\, 2024 (Postponed\, then cancelled due to the weather) – Del Ray in Bloom\nMay 2\, 2024 – Dog Days in Del Ray\nJune 6\, 2024 – Jump into Summer\nJuly 11\, 2024 – Red\, White and Blue (Gallery is closed to host Figure Drawing Bootcamp)\nAugust 1\, 2024 – Del Ray Olympics\nSeptember 5\, 2024 – Saddle Up\n\nDel Ray Artisans is a member of Del Ray Business Association.
URL:https://delrayartisans.org/event/first-thursday-june-2024/
LOCATION:Del Ray Artisans Gallery\, 2704 Mount Vernon Avenue\, Alexandria\, VA\, 22301\, United States
CATEGORIES:Community Event,Creative Summer Programs,Program,Youth
ATTACH;FMTTYPE=image/jpeg:https://delrayartisans.org/wp-content/uploads/2023/05/DRBA-FirstThursday-2024.jpg
ORGANIZER;CN="Kelly MacConomy%2C Outreach Director":MAILTO:outreach@delrayartisans.org
END:VEVENT
END:VCALENDAR