BEGIN:VCALENDAR
VERSION:2.0
PRODID:-//Del Ray Artisans - ECPv6.15.20//NONSGML v1.0//EN
CALSCALE:GREGORIAN
METHOD:PUBLISH
X-WR-CALNAME:Del Ray Artisans
X-ORIGINAL-URL:https://delrayartisans.org
X-WR-CALDESC:Events for Del Ray Artisans
REFRESH-INTERVAL;VALUE=DURATION:PT1H
X-Robots-Tag:noindex
X-PUBLISHED-TTL:PT1H
BEGIN:VTIMEZONE
TZID:America/New_York
BEGIN:DAYLIGHT
TZOFFSETFROM:-0500
TZOFFSETTO:-0400
TZNAME:EDT
DTSTART:20230312T070000
END:DAYLIGHT
BEGIN:STANDARD
TZOFFSETFROM:-0400
TZOFFSETTO:-0500
TZNAME:EST
DTSTART:20231105T060000
END:STANDARD
BEGIN:DAYLIGHT
TZOFFSETFROM:-0500
TZOFFSETTO:-0400
TZNAME:EDT
DTSTART:20240310T070000
END:DAYLIGHT
BEGIN:STANDARD
TZOFFSETFROM:-0400
TZOFFSETTO:-0500
TZNAME:EST
DTSTART:20241103T060000
END:STANDARD
BEGIN:DAYLIGHT
TZOFFSETFROM:-0500
TZOFFSETTO:-0400
TZNAME:EDT
DTSTART:20250309T070000
END:DAYLIGHT
BEGIN:STANDARD
TZOFFSETFROM:-0400
TZOFFSETTO:-0500
TZNAME:EST
DTSTART:20251102T060000
END:STANDARD
END:VTIMEZONE
BEGIN:VEVENT
DTSTART;VALUE=DATE:20240503
DTEND;VALUE=DATE:20240603
DTSTAMP:20260425T104701
CREATED:20230923T190500Z
LAST-MODIFIED:20240528T153122Z
UID:10001134-1714694400-1717372799@delrayartisans.org
SUMMARY:The Art of Tea at Del Ray Artisans Gallery
DESCRIPTION:The Art of Tea Art Exhibit\nMay 3 – June 2\, 2024\nOpening Reception: Friday\, May 3 from 7–9pm\n“Floral Infusion” by Suzan Ok Shumate and Sue Shumate\nPhoto Album \nStep into a world where art intersects with tea. Through The Art of Tea exhibit at Del Ray Artisans gallery\, artists explore the culture of tea\, a drink that dates back thousands of years to China’s Shang Dynasty. Channeling their inner Zhou Fang\, Matisse\, Cassatt\, and van Rijsselberghe\, artists depict themes and stories surrounding this aromatic beverage. From tea cups and tea pots to the Mad Hatter or Boston Tea Party\, this exhibit intrigues and delights\, like an herbal infusion on a sunny morning. \nJoin us for the opening reception on Friday\, May 3 between 7-9pm to meet curators Suzan Ok Shumate and Sue Shumate and the artists. Mark your calendar now or set a reminder through Eventbrite. \nGet your tickets now for Morning Tea on Saturday\, May 25 from 10am-noon ($35 per Del Ray Artisans member\, $45 per non-member). Wear your favorite hats and gloves\, or dress casually; this is a time to relax and enjoy a few hours of conversation with friends or family over a delicious cup of tea with petite savories and sweets. \nThe Art of Tea exhibit runs May 3 – June 2\, 2024 at Del Ray Artisans gallery in the Colasanto Center\, 2704 Mount Vernon Avenue\, Alexandria\, Virginia 22301. Gallery hours are First Thursday (Apr-Sept) 12-9pm\, Thursday 12-6pm\, Friday 12-9pm\, Saturday 12-6pm\, and Sunday 12-6pm. On the last day of the exhibit (Sunday\, June 2) the gallery is open 12-4pm. \nThe gallery is free\, open to the public\, and accessible. Del Ray Artisans\, a 501(3)(c) nonprofit organization whose mission is to promote art for the benefit of artists and the community. \nFor more information\, contact curators Suzan Ok Shumate at suzan.ok@gmail.com and Sue Shumate at susan.shumate1@gmail.com or Director of Curating Amy Kitchin Hower at curating@delrayartisans.org.
URL:https://delrayartisans.org/event/the-art-of-tea/
LOCATION:Del Ray Artisans Gallery\, 2704 Mount Vernon Avenue\, Alexandria\, VA\, 22301\, United States
CATEGORIES:Art Exhibit,Del Ray Artisans Gallery
ATTACH;FMTTYPE=image/jpeg:https://delrayartisans.org/wp-content/uploads/2023/09/Floral-Infusion-by-Suzan-Ok-Shumate-and-Sue-Shumate-square.jpg
ORGANIZER;CN="Suzan Ok Shumate":MAILTO:suzan.ok@gmail.com
END:VEVENT
BEGIN:VEVENT
DTSTART;TZID=America/New_York:20240602T113000
DTEND;TZID=America/New_York:20240602T130000
DTSTAMP:20260425T104701
CREATED:20240127T135912Z
LAST-MODIFIED:20240521T223030Z
UID:10001347-1717327800-1717333200@delrayartisans.org
SUMMARY:Taste of Del Ray VIP Reception
DESCRIPTION:Taste of Del Ray is one of Virginia Living Magazine‘s top food festivals in the state. Visit the Del Ray Business Association website for details on the 15th annual Taste of Del Ray. \nThe event will take place on Sunday\, June 2 from 1-3pm at the Mount Vernon Recreation Center fields next to the gallery. Purchase tickets in advance on eventbrite. Only 500 general admission and 100 VIP tickets will be sold. \nVIP benefits include a wine tasting at Del Ray Artisans gallery from 11:30am-1pm. Note: The wine tasting is only for individuals 21 and older (IDs will be checked) who have Taste of Del Ray VIP tickets.\n \n\nDel Ray Artisans is a member of the Del Ray Business Association. The gallery is open to the public until 4pm on Sunday\, June 2nd.
URL:https://delrayartisans.org/event/taste-of-del-ray-2024/
LOCATION:Del Ray Artisans Gallery\, 2704 Mount Vernon Avenue\, Alexandria\, VA\, 22301\, United States
CATEGORIES:Community Event
ATTACH;FMTTYPE=image/jpeg:https://delrayartisans.org/wp-content/uploads/2024/01/taste-of-del-ray-2024.jpg
ORGANIZER;CN="Sean Crumley%2C Community Liaison Director":MAILTO:Community@DelRayArtisans.org
END:VEVENT
BEGIN:VEVENT
DTSTART;TZID=America/New_York:20240602T160000
DTEND;TZID=America/New_York:20240602T200000
DTSTAMP:20260425T104701
CREATED:20231109T205406Z
LAST-MODIFIED:20240316T144255Z
UID:10001242-1717344000-1717358400@delrayartisans.org
SUMMARY:Closed to the Public at 4pm: Artist Appointments Only
DESCRIPTION:The gallery is closed to the public starting at 4pm while the exhibit is taken down. This time is reserved for artists to pick up and drop off artwork. Contact the outgoing or incoming curators with any questions (contact info in the call for entry). \nUnsold Artwork Pick Up\nTime for artists to pick up their unsold artwork from the closing exhibit\, The Art of Tea.\n \nAccepted Artwork Drop Off\nTime for artists to drop off their accepted artwork entries for the upcoming exhibit\, All About Love. Artwork must be ready to hang (with screw eyes and wire) or ready for display (with mounting and/or a display stand if necessary). Review the standard artwork presentation guidelines and the call for entry for show specific information. \nVolunteer\nAll artists participating in the exhibit are required to volunteer a minimum of 3 hours towards managing the show. Those hours can be filled by gallery hosting during the month of exhibit\, assisting with show hanging or take down\, and volunteering to help with other show-specific activities as needed by the curators. Any hours in excess of 3 hours will count towards the membership requirement. DRA members are reminded to report their volunteer hours monthly.
URL:https://delrayartisans.org/event/may-jun-2024-artist-appointments/
LOCATION:Del Ray Artisans Gallery\, 2704 Mount Vernon Avenue\, Alexandria\, VA\, 22301\, United States
CATEGORIES:Administrative,Volunteer
END:VEVENT
END:VCALENDAR