BEGIN:VCALENDAR
VERSION:2.0
PRODID:-//Del Ray Artisans - ECPv6.15.20//NONSGML v1.0//EN
CALSCALE:GREGORIAN
METHOD:PUBLISH
X-ORIGINAL-URL:https://delrayartisans.org
X-WR-CALDESC:Events for Del Ray Artisans
REFRESH-INTERVAL;VALUE=DURATION:PT1H
X-Robots-Tag:noindex
X-PUBLISHED-TTL:PT1H
BEGIN:VTIMEZONE
TZID:America/New_York
BEGIN:DAYLIGHT
TZOFFSETFROM:-0500
TZOFFSETTO:-0400
TZNAME:EDT
DTSTART:20230312T070000
END:DAYLIGHT
BEGIN:STANDARD
TZOFFSETFROM:-0400
TZOFFSETTO:-0500
TZNAME:EST
DTSTART:20231105T060000
END:STANDARD
BEGIN:DAYLIGHT
TZOFFSETFROM:-0500
TZOFFSETTO:-0400
TZNAME:EDT
DTSTART:20240310T070000
END:DAYLIGHT
BEGIN:STANDARD
TZOFFSETFROM:-0400
TZOFFSETTO:-0500
TZNAME:EST
DTSTART:20241103T060000
END:STANDARD
BEGIN:DAYLIGHT
TZOFFSETFROM:-0500
TZOFFSETTO:-0400
TZNAME:EDT
DTSTART:20250309T070000
END:DAYLIGHT
BEGIN:STANDARD
TZOFFSETFROM:-0400
TZOFFSETTO:-0500
TZNAME:EST
DTSTART:20251102T060000
END:STANDARD
END:VTIMEZONE
BEGIN:VEVENT
DTSTART;VALUE=DATE:20240405
DTEND;VALUE=DATE:20240428
DTSTAMP:20260425T133025
CREATED:20230923T190208Z
LAST-MODIFIED:20240412T141610Z
UID:10001133-1712275200-1714262399@delrayartisans.org
SUMMARY:Same But Different at Del Ray Artisans Gallery
DESCRIPTION:Same But Different Art Exhibit\nApril 5–27\, 2024\nOpening Reception: Friday\, April 5 from 7–9pm\n“Springtime in Maryland” by Archa Malhotra\nPhoto Album \nIn the spirit of Celebrate Diversity Month\, this art exhibit highlights the beauty and richness of diversity through artists’ interpretations of the concept Same But Different. This Del Ray Artisans members showcase explores notions of identity\, distinctions and similarities in our natural and manmade world. Through a variety of mediums\, styles\, and perspectives\, the Same But Different exhibit invites the viewers to look at the interconnectedness of humanity by examining the uniqueness of things that may appear to be the same. \nJoin us for the opening reception on Friday\, April 5 between 7-9pm to meet curators Pinar Artuk-Boegel and Barbara Cooper and the artists. Mark your calendar now or set a reminder through Eventbrite. \nAlso join us for these creative programs held in April: \n\nMix and Match Upcycle Earrings Workshop on Saturday\, April 6\, 10am-12pm (Register by April 3)\nMeditative Art Mandalas Workshop on Thursday\, April 11\, 6-9pm (Register by April 3)\nGel Printing Workshop: Same But Different Edition on Saturday\, April 13\, 10am-12pm (Register by April 9)\nDel Ray Urban Sketchers on Sunday\, April 14\, 1-3pm at St Elmo’s Coffee Pub in Del Ray\nLife Drawing Sessions on Tuesdays\, April 16 and April 23\, 7-9pm\nPartners in Art Evening on Wednesday\, April 17\, 7-9pm (RSVP in advance)\nPlaying with Resin Workshop on Monday\, April 22\, 6-9pm (Register by April 19)\nNature Journaling Club on Saturday\, April 27\, 10am-12pm\n\nThe Same But Different exhibit runs April 5–27\, 2024 at Del Ray Artisans gallery in the Colasanto Center\, 2704 Mount Vernon Avenue\, Alexandria\, Virginia 22301. Gallery hours are Thursday 12-6pm\, Friday 12-9pm\, Saturday 12-6pm\, and Sunday 12-6pm (closed on April 28). \nThe gallery is free\, open to the public\, and accessible. Del Ray Artisans\, a 501(3)(c) nonprofit organization whose mission is to promote art for the benefit of artists and the community. \nFor more information\, contact curators Pinar Artuk-Boegel at pinarartuk@gmail.com and Barbara Cooper at barbaracooper8888@gmail.com or Director of Curating Amy Kitchin Hower at curating@delrayartisans.org.
URL:https://delrayartisans.org/event/same-but-different/
LOCATION:Del Ray Artisans Gallery\, 2704 Mount Vernon Avenue\, Alexandria\, VA\, 22301\, United States
CATEGORIES:Art Exhibit,Del Ray Artisans Gallery
ATTACH;FMTTYPE=image/jpeg:https://delrayartisans.org/wp-content/uploads/2023/09/Springtime-in-Maryland-by-Archa-Malhotra-square.jpg
ORGANIZER;CN="Pinar Artuk-Boegel":MAILTO:pinarartuk@gmail.com
END:VEVENT
BEGIN:VEVENT
DTSTART;VALUE=DATE:20240427
DTEND;VALUE=DATE:20240428
DTSTAMP:20260425T133025
CREATED:20240102T144726Z
LAST-MODIFIED:20240102T150404Z
UID:10001332-1714176000-1714262399@delrayartisans.org
SUMMARY:Alcove Gift Shop at Del Ray Artisans (3/1 - 4/27/2024)
DESCRIPTION:Photo Album \nThe Alcove Gift Shop is open for 10 months of the year (closed in July and December for special events). New items will appear in the gift shop each week\, and all the artwork is fully refreshed every two months. The current display runs March 1 – April 27\, 2024. \nAll work featured in the gift shop is by Del Ray Artisans members. Unframed 2-D work is available in bins alongside jewelry\, fiber art\, wood craft\, ceramics\, and other smaller 3-D items. The gift shop is located in the alcove inside Del Ray Artisans gallery in the Colasanto Center\, 2704 Mount Vernon Avenue\, Alexandria\, Virginia 22301. \nThe gallery is free\, open to the public\, and accessible. Face masks are recommended inside the gallery. \nGallery hours are Thursdays 12-6pm\, Fridays 12-9pm\, Saturdays 12-6pm\, and Sundays 12-6pm (typically closed the last Sunday of the month). The gallery is open three hours longer (from 12-9pm) on First Thursday\, April 4. Hours differ in July and December. \nFor more information\, contact the curators Stephen Lally (slallypottery@gmail.com) and Rita Schooley (rlschooley@gmail.com).
URL:https://delrayartisans.org/event/alcove-mar-apr-2024/
LOCATION:Del Ray Artisans Gallery\, 2704 Mount Vernon Avenue\, Alexandria\, VA\, 22301\, United States
CATEGORIES:Art Exhibit,Del Ray Artisans Gallery
ATTACH;FMTTYPE=image/jpeg:https://delrayartisans.org/wp-content/uploads/2023/03/alcove-march-2023.jpg
ORGANIZER;CN="Stephen Lally":MAILTO:slallypottery@gmail.com
END:VEVENT
BEGIN:VEVENT
DTSTART;TZID=America/New_York:20240427T100000
DTEND;TZID=America/New_York:20240427T120000
DTSTAMP:20260425T133025
CREATED:20231017T220108Z
LAST-MODIFIED:20231017T220108Z
UID:10001150-1714212000-1714219200@delrayartisans.org
SUMMARY:Nature Journaling Club
DESCRIPTION:Practiced by artists and naturalists alike\, nature journaling is a centuries-old exercise in refining our powers of observation\, appreciation for nature\, drawing skills\, and mindful presence. This group is open to all experience levels as we meet to sketch\, connect\, and learn together! \nWe meet at 10am in front of Del Ray Artisans on the final Saturday morning of the month (except not in July\, November\, and December). Mark your calendar or set a reminder in Eventbrite. \nParticipants will need to bring their own sketchbooks and supplies. We will have plenty of time for sketching in nature before gathering again at 11:30am to share our sketches and observations and discuss tips and tools for nature journaling in the wild. We hope you will join us as we strengthen our art and inquiry practice together! \nSuggested supplies: sketchbook\, pens\, pencils\, colored pencils\, watercolor pencils\, or other portable media\, and a water bottle since we will be outdoors. You may also want to bring something to sit on (folding chair or blanket). \nNOTE: This program is held outdoors and will be canceled if raining. \nThis program is FREE! Donations appreciated. For more information\, contact the coordinators: Stephanie Darlene Greenwald (stephanie@stephaniedarlene.com) and Meredith D’Amore (meredith.w.damore@gmail.com). \nView Upcoming Dates \n\nArtwork credit: Drawing by Meredith D’Amore
URL:https://delrayartisans.org/event/nature-journaling-2024/2024-04-27/
LOCATION:Del Ray Artisans Gallery\, 2704 Mount Vernon Avenue\, Alexandria\, VA\, 22301\, United States
CATEGORIES:Nature Journaling Club,Program
ATTACH;FMTTYPE=image/jpeg:https://delrayartisans.org/wp-content/uploads/2023/10/Nature-Journaling-Club-square.jpg
ORGANIZER;CN="Meredith D%E2%80%99Amore":MAILTO:meredith.w.damore@gmail.com
END:VEVENT
BEGIN:VEVENT
DTSTART;TZID=America/New_York:20240427T110000
DTEND;TZID=America/New_York:20240427T190000
DTSTAMP:20260425T133025
CREATED:20240428T134813Z
LAST-MODIFIED:20240428T134813Z
UID:10001404-1714215600-1714244400@delrayartisans.org
SUMMARY:Party for the Arts at Canal Center
DESCRIPTION:The City of Alexandria is celebrating its 275th anniversary this year. The Alexandria Arts Alliance commemorates the occasion during the 2nd annual Party for the Arts—a celebration showcasing all artists in Alexandria on Saturday\, April 27\, 11am-7pm at Canal Center\, Alexandria’s waterfront venue in the Old Town North Arts District. The party will feature an art market\, games for children\, local music groups\, singers\, dancers\, poetry readings\, food\, and other live performances. \nDel Ray Artisans is pleased to have its members featured in Alexandria Arts Alliance’s 2024 Party for the Arts exhibit as a part of our Gallery Without Walls program. This juried visual arts exhibition at the Canal Center Gallery features all local visual artists—and their love for Alexandria expressed through art! The exhibit opens during the Party for the Arts and runs through June 30\, 2024. Gallery hours are: \n\nSaturday\, April 27\, 11am-7pm during Party for the Arts\nSaturday\, May 18 (hours TBD)\nSaturday\, June 8 (hours TBD)\nSaturday\, June 15 (hours TBD)\n\nThe Alexandria Arts Alliance is a coalition of arts organizations\, artists and arts advocates that works to advance the arts in Alexandria through advocacy\, collaboration\, education\, and marketing. Del Ray Artisans is a member of Alexandria Arts Alliance.
URL:https://delrayartisans.org/event/party-for-the-arts-april-27-2024/
LOCATION:Canal Center Gallery\, 11 Canal Center Plaza\, Alexandria\, VA\, 22314\, United States
CATEGORIES:Community Event
ATTACH;FMTTYPE=image/jpeg:https://delrayartisans.org/wp-content/uploads/2024/03/AAA-2024-Party-for-the-Arts.jpg
ORGANIZER;CN="Kelly MacConomy%2C Outreach Director":MAILTO:outreach@delrayartisans.org
END:VEVENT
END:VCALENDAR