BEGIN:VCALENDAR
VERSION:2.0
PRODID:-//Del Ray Artisans - ECPv6.15.20//NONSGML v1.0//EN
CALSCALE:GREGORIAN
METHOD:PUBLISH
X-ORIGINAL-URL:https://delrayartisans.org
X-WR-CALDESC:Events for Del Ray Artisans
REFRESH-INTERVAL;VALUE=DURATION:PT1H
X-Robots-Tag:noindex
X-PUBLISHED-TTL:PT1H
BEGIN:VTIMEZONE
TZID:America/New_York
BEGIN:DAYLIGHT
TZOFFSETFROM:-0500
TZOFFSETTO:-0400
TZNAME:EDT
DTSTART:20230312T070000
END:DAYLIGHT
BEGIN:STANDARD
TZOFFSETFROM:-0400
TZOFFSETTO:-0500
TZNAME:EST
DTSTART:20231105T060000
END:STANDARD
BEGIN:DAYLIGHT
TZOFFSETFROM:-0500
TZOFFSETTO:-0400
TZNAME:EDT
DTSTART:20240310T070000
END:DAYLIGHT
BEGIN:STANDARD
TZOFFSETFROM:-0400
TZOFFSETTO:-0500
TZNAME:EST
DTSTART:20241103T060000
END:STANDARD
BEGIN:DAYLIGHT
TZOFFSETFROM:-0500
TZOFFSETTO:-0400
TZNAME:EDT
DTSTART:20250309T070000
END:DAYLIGHT
BEGIN:STANDARD
TZOFFSETFROM:-0400
TZOFFSETTO:-0500
TZNAME:EST
DTSTART:20251102T060000
END:STANDARD
END:VTIMEZONE
BEGIN:VEVENT
DTSTART;VALUE=DATE:20240301
DTEND;VALUE=DATE:20240331
DTSTAMP:20260425T162540
CREATED:20230923T185933Z
LAST-MODIFIED:20240214T221738Z
UID:10001132-1709251200-1711843199@delrayartisans.org
SUMMARY:The Power of Two at Del Ray Artisans Gallery
DESCRIPTION:The Power of Two Art Exhibit\nMarch 1–30\, 2024\nOpening Reception: Friday\, March 1 from 7–9pm\nCome see The Power of Two art exhibit at Del Ray Artisans gallery opening on March 1\, 2024. This exhibit features any two related items in one piece of art\, such as two of a kind\, two complementary items\, duos\, twins\, parents and children\, and lovers. Through the exhibit you’ll recall some famous twos: “Double your pleasure\, double your fun” (Wrigley’s Doublemint Gum); “Two great tastes that taste great together” (Reese’s peanut butter cups); “Double Vision” (Foreigner); and the pairs on Noah’s Ark. \nJoin us for the opening reception on Friday\, March 1 between 7-9pm to meet curators Karen and TJ Feeley and the artists. Mark your calendar or set a reminder through Eventbrite. Also join us for these creative programs held in March: \n\nLife Drawing Sessions on Tuesdays\, March 5 and March 19\, 7-9pm\nCreative Flower Photography Workshop on Saturday\, March 9\, 9:30am–noon (Register by March 6)\nDel Ray Urban Sketchers on Sunday\, March 10\, 1-3pm (meets at St Elmo’s Coffee Pub in Del Ray)\nIntroduction to Rubber Stamp Carving on Monday\, March 11\, 6-9pm (Register by February 28)\nPlaying with Resin Workshop on Sunday\, March 17\, 6-9pm (Register by March 15)\nPartners in Art Evening on Wednesday\, March 20\, 7-9pm (RSVP in advance)\nCollage City Spires and Skylines Workshop on Saturday\, March 23\, 10am-12pm (Register by March 19)\nNature Journaling Club on Saturday\, March 30\, 10am-12pm\n\nThe Power of Two exhibit runs March 1–30\, 2024 at Del Ray Artisans gallery in the Colasanto Center\, 2704 Mount Vernon Avenue\, Alexandria\, Virginia 22301. Gallery hours are Thursday 12-6pm\, Friday 12-9pm\, Saturday 12-6pm\, and Sunday 12-6pm (closed on March 31\, 2024). \nThe gallery is free\, open to the public\, and accessible. Del Ray Artisans\, a 501(3)(c) nonprofit organization whose mission is to promote art for the benefit of artists and the community. \nFor more information\, contact curators Karen Feeley at karen@adler.net and TJ Feeley at tjfeeley@gmail.com or Director of Curating Amy Kitchin Hower at curating@delrayartisans.org. \n\nArtwork credit: Detail of “The Power of Two” by Karen Feeley and TJ Feeley
URL:https://delrayartisans.org/event/power-of-two/
LOCATION:Del Ray Artisans Gallery\, 2704 Mount Vernon Avenue\, Alexandria\, VA\, 22301\, United States
CATEGORIES:Art Exhibit,Del Ray Artisans Gallery
ATTACH;FMTTYPE=image/jpeg:https://delrayartisans.org/wp-content/uploads/2023/11/the-power-of-two-by-karen-and-tj-feeley-square.jpg
ORGANIZER;CN="Karen Feeley":MAILTO:karen@adler.net
END:VEVENT
BEGIN:VEVENT
DTSTART;VALUE=DATE:20240330
DTEND;VALUE=DATE:20240331
DTSTAMP:20260425T162540
CREATED:20230803T141213Z
LAST-MODIFIED:20240327T175303Z
UID:10001105-1711756800-1711843199@delrayartisans.org
SUMMARY:12 Elements of Nature at VCA Alexandria (9/18/2023 - 3/30/2024)
DESCRIPTION:12 Elements of Nature Art Exhibit at VCA Alexandria Animal Hospital\nSeptember 18\, 2023 – March 30\, 2024\nPhoto Album | Online Store \nMost of us are aware of the four classics elements of nature: Earth\, Water\, Wind\, and Fire. Did you know there are eight other elements used to simplify the complexity of nature? The 12 Elements of Nature exhibit features 2D artwork by Del Ray Artisans members exploring all 12 elements of nature: Earth\, Water\, Wind\, Fire\, as well as Thunder\, Ice\, Force\, Time\, Flower\, Shadow\, Light\, and Moon. \nCome see the exhibit September 18\, 2023 through March 30\, 2024 (extended from January 27) at VCA Alexandria Animal Hospital (2660 Duke Street\, Alexandria\, VA 22314). The animal hospital is open Monday-Friday 10am-6pm\, Saturday 12-6pm. Due to client needs\, some areas may not be available for immediate viewing. Visitors must let the front desk know they are there to view the art exhibit. \nThe exhibit is a Del Ray Artisans’ Gallery Without Walls exhibit in partnership with VCA Alexandria. Del Ray Artisans\, a 501(3)(c) nonprofit organization whose mission is to promote art for the benefit of artists and the community. \nFor more information\, please contact the curators Liz Martinez (GWW@DelRayArtisans.org) and Stephanie Frederick (sfrederick97@gmail.com). \nPhoto Album | Online Store \n\nArtwork credit: Detail of “Water Hues” by Eileen M. O’Brien
URL:https://delrayartisans.org/event/12-elements/
LOCATION:VCA Alexandria Animal Hospital\, 2660 Duke St\, Alexandria\, VA\, 22314\, United States
CATEGORIES:Art Exhibit,Gallery Without Walls
ATTACH;FMTTYPE=image/jpeg:https://delrayartisans.org/wp-content/uploads/2023/08/Water-Hues-by-Eileen-M-OBrien-square.jpg
ORGANIZER;CN="Liz Martinez%2C Gallery Without Walls Curator":MAILTO:GWW@DelRayArtisans.org
END:VEVENT
BEGIN:VEVENT
DTSTART;TZID=America/New_York:20240330T100000
DTEND;TZID=America/New_York:20240330T120000
DTSTAMP:20260425T162540
CREATED:20231017T220108Z
LAST-MODIFIED:20231017T220108Z
UID:10001149-1711792800-1711800000@delrayartisans.org
SUMMARY:Nature Journaling Club
DESCRIPTION:Practiced by artists and naturalists alike\, nature journaling is a centuries-old exercise in refining our powers of observation\, appreciation for nature\, drawing skills\, and mindful presence. This group is open to all experience levels as we meet to sketch\, connect\, and learn together! \nWe meet at 10am in front of Del Ray Artisans on the final Saturday morning of the month (except not in July\, November\, and December). Mark your calendar or set a reminder in Eventbrite. \nParticipants will need to bring their own sketchbooks and supplies. We will have plenty of time for sketching in nature before gathering again at 11:30am to share our sketches and observations and discuss tips and tools for nature journaling in the wild. We hope you will join us as we strengthen our art and inquiry practice together! \nSuggested supplies: sketchbook\, pens\, pencils\, colored pencils\, watercolor pencils\, or other portable media\, and a water bottle since we will be outdoors. You may also want to bring something to sit on (folding chair or blanket). \nNOTE: This program is held outdoors and will be canceled if raining. \nThis program is FREE! Donations appreciated. For more information\, contact the coordinators: Stephanie Darlene Greenwald (stephanie@stephaniedarlene.com) and Meredith D’Amore (meredith.w.damore@gmail.com). \nView Upcoming Dates \n\nArtwork credit: Drawing by Meredith D’Amore
URL:https://delrayartisans.org/event/nature-journaling-2024/2024-03-30/
LOCATION:Del Ray Artisans Gallery\, 2704 Mount Vernon Avenue\, Alexandria\, VA\, 22301\, United States
CATEGORIES:Nature Journaling Club,Program
ATTACH;FMTTYPE=image/jpeg:https://delrayartisans.org/wp-content/uploads/2023/10/Nature-Journaling-Club-square.jpg
ORGANIZER;CN="Meredith D%E2%80%99Amore":MAILTO:meredith.w.damore@gmail.com
END:VEVENT
END:VCALENDAR