BEGIN:VCALENDAR
VERSION:2.0
PRODID:-//Del Ray Artisans - ECPv6.15.20//NONSGML v1.0//EN
CALSCALE:GREGORIAN
METHOD:PUBLISH
X-WR-CALNAME:Del Ray Artisans
X-ORIGINAL-URL:https://delrayartisans.org
X-WR-CALDESC:Events for Del Ray Artisans
REFRESH-INTERVAL;VALUE=DURATION:PT1H
X-Robots-Tag:noindex
X-PUBLISHED-TTL:PT1H
BEGIN:VTIMEZONE
TZID:America/New_York
BEGIN:DAYLIGHT
TZOFFSETFROM:-0500
TZOFFSETTO:-0400
TZNAME:EDT
DTSTART:20230312T070000
END:DAYLIGHT
BEGIN:STANDARD
TZOFFSETFROM:-0400
TZOFFSETTO:-0500
TZNAME:EST
DTSTART:20231105T060000
END:STANDARD
BEGIN:DAYLIGHT
TZOFFSETFROM:-0500
TZOFFSETTO:-0400
TZNAME:EDT
DTSTART:20240310T070000
END:DAYLIGHT
BEGIN:STANDARD
TZOFFSETFROM:-0400
TZOFFSETTO:-0500
TZNAME:EST
DTSTART:20241103T060000
END:STANDARD
BEGIN:DAYLIGHT
TZOFFSETFROM:-0500
TZOFFSETTO:-0400
TZNAME:EDT
DTSTART:20250309T070000
END:DAYLIGHT
BEGIN:STANDARD
TZOFFSETFROM:-0400
TZOFFSETTO:-0500
TZNAME:EST
DTSTART:20251102T060000
END:STANDARD
END:VTIMEZONE
BEGIN:VEVENT
DTSTART;VALUE=DATE:20240301
DTEND;VALUE=DATE:20240331
DTSTAMP:20260425T162552
CREATED:20230923T185933Z
LAST-MODIFIED:20240214T221738Z
UID:10001132-1709251200-1711843199@delrayartisans.org
SUMMARY:The Power of Two at Del Ray Artisans Gallery
DESCRIPTION:The Power of Two Art Exhibit\nMarch 1–30\, 2024\nOpening Reception: Friday\, March 1 from 7–9pm\nCome see The Power of Two art exhibit at Del Ray Artisans gallery opening on March 1\, 2024. This exhibit features any two related items in one piece of art\, such as two of a kind\, two complementary items\, duos\, twins\, parents and children\, and lovers. Through the exhibit you’ll recall some famous twos: “Double your pleasure\, double your fun” (Wrigley’s Doublemint Gum); “Two great tastes that taste great together” (Reese’s peanut butter cups); “Double Vision” (Foreigner); and the pairs on Noah’s Ark. \nJoin us for the opening reception on Friday\, March 1 between 7-9pm to meet curators Karen and TJ Feeley and the artists. Mark your calendar or set a reminder through Eventbrite. Also join us for these creative programs held in March: \n\nLife Drawing Sessions on Tuesdays\, March 5 and March 19\, 7-9pm\nCreative Flower Photography Workshop on Saturday\, March 9\, 9:30am–noon (Register by March 6)\nDel Ray Urban Sketchers on Sunday\, March 10\, 1-3pm (meets at St Elmo’s Coffee Pub in Del Ray)\nIntroduction to Rubber Stamp Carving on Monday\, March 11\, 6-9pm (Register by February 28)\nPlaying with Resin Workshop on Sunday\, March 17\, 6-9pm (Register by March 15)\nPartners in Art Evening on Wednesday\, March 20\, 7-9pm (RSVP in advance)\nCollage City Spires and Skylines Workshop on Saturday\, March 23\, 10am-12pm (Register by March 19)\nNature Journaling Club on Saturday\, March 30\, 10am-12pm\n\nThe Power of Two exhibit runs March 1–30\, 2024 at Del Ray Artisans gallery in the Colasanto Center\, 2704 Mount Vernon Avenue\, Alexandria\, Virginia 22301. Gallery hours are Thursday 12-6pm\, Friday 12-9pm\, Saturday 12-6pm\, and Sunday 12-6pm (closed on March 31\, 2024). \nThe gallery is free\, open to the public\, and accessible. Del Ray Artisans\, a 501(3)(c) nonprofit organization whose mission is to promote art for the benefit of artists and the community. \nFor more information\, contact curators Karen Feeley at karen@adler.net and TJ Feeley at tjfeeley@gmail.com or Director of Curating Amy Kitchin Hower at curating@delrayartisans.org. \n\nArtwork credit: Detail of “The Power of Two” by Karen Feeley and TJ Feeley
URL:https://delrayartisans.org/event/power-of-two/
LOCATION:Del Ray Artisans Gallery\, 2704 Mount Vernon Avenue\, Alexandria\, VA\, 22301\, United States
CATEGORIES:Art Exhibit,Del Ray Artisans Gallery
ATTACH;FMTTYPE=image/jpeg:https://delrayartisans.org/wp-content/uploads/2023/11/the-power-of-two-by-karen-and-tj-feeley-square.jpg
ORGANIZER;CN="Karen Feeley":MAILTO:karen@adler.net
END:VEVENT
BEGIN:VEVENT
DTSTART;TZID=America/New_York:20240316T090000
DTEND;TZID=America/New_York:20240316T110000
DTSTAMP:20260425T162552
CREATED:20240303T155647Z
LAST-MODIFIED:20240303T162519Z
UID:10001368-1710579600-1710586800@delrayartisans.org
SUMMARY:Volunteer in the Gardens
DESCRIPTION:Del Ray Artisans’ gardens need some TLC to prepare for spring. Join the Gardens Committee on Saturday\, March 16 from 9-11am to help prep the gardens. \n\nBring gloves\, knee pads (if desired)\, and laughter. Even if you don’t know what a weed is\, we can teach you. Volunteer for 1 hour or the whole 2.5 hours. If you have any questions\, please email Kurt and Jenny at Gardens@DelRayArtisans.org. \nMEMBERS: This task counts towards your annual membership volunteer hours. \nNON-MEMBERS: You are welcome to come help and learn too. \nThank you for your volunteer time! \n\nNOTE: All plantings and transplantings must be approved by the Garden Committee. The Garden Committee approval is important to make sure the plants that get chosen are great for nature\, located properly for the right amount of sun or shade\, don’t conflict with other plants or facility needs\, and fit into the overall garden plan with maintenance in mind.
URL:https://delrayartisans.org/event/garden-volunteers-march-2024/
LOCATION:Del Ray Artisans Gallery\, 2704 Mount Vernon Avenue\, Alexandria\, VA\, 22301\, United States
CATEGORIES:Volunteer
ATTACH;FMTTYPE=image/jpeg:https://delrayartisans.org/wp-content/uploads/2022/08/garden-volunteers.jpg
ORGANIZER;CN="Gardens Committee":MAILTO:gardens@delrayartisans.org
END:VEVENT
BEGIN:VEVENT
DTSTART;TZID=America/New_York:20240316T235900
DTEND;TZID=America/New_York:20240316T235900
DTSTAMP:20260425T162552
CREATED:20230923T183429Z
LAST-MODIFIED:20240307T165418Z
UID:10001127-1710633540-1710633540@delrayartisans.org
SUMMARY:“Same But Different” Call for Entry Deadline
DESCRIPTION:Call for Entry ~ Open to Del Ray Artisans Members\nSame But Different\nExhibit Dates: April 5–27\, 2024\nDigital entry deadline extended to Saturday\, March 16\, 2024 by midnight\n“Springtime in Maryland” by Archa Malhotra\nExplore notions of identity\, distinctions and similarities in our natural and manmade world. Look at the interconnectedness of humanity by examining the uniqueness of things that may appear to be the same.  This subject is broad and open to interpretation to show diversity. \nAll media are welcome. The exhibit is open only to Del Ray Artisans members. If you are not a member\, you may join Del Ray Artisans and then enter. \nEntry Details & Form
URL:https://delrayartisans.org/event/same-but-different-deadline/
LOCATION:VA
CATEGORIES:Entry Deadline
ORGANIZER;CN="Pinar Artuk-Boegel":MAILTO:pinarartuk@gmail.com
END:VEVENT
END:VCALENDAR