BEGIN:VCALENDAR
VERSION:2.0
PRODID:-//Del Ray Artisans - ECPv6.15.20//NONSGML v1.0//EN
CALSCALE:GREGORIAN
METHOD:PUBLISH
X-WR-CALNAME:Del Ray Artisans
X-ORIGINAL-URL:https://delrayartisans.org
X-WR-CALDESC:Events for Del Ray Artisans
REFRESH-INTERVAL;VALUE=DURATION:PT1H
X-Robots-Tag:noindex
X-PUBLISHED-TTL:PT1H
BEGIN:VTIMEZONE
TZID:America/New_York
BEGIN:DAYLIGHT
TZOFFSETFROM:-0500
TZOFFSETTO:-0400
TZNAME:EDT
DTSTART:20230312T070000
END:DAYLIGHT
BEGIN:STANDARD
TZOFFSETFROM:-0400
TZOFFSETTO:-0500
TZNAME:EST
DTSTART:20231105T060000
END:STANDARD
BEGIN:DAYLIGHT
TZOFFSETFROM:-0500
TZOFFSETTO:-0400
TZNAME:EDT
DTSTART:20240310T070000
END:DAYLIGHT
BEGIN:STANDARD
TZOFFSETFROM:-0400
TZOFFSETTO:-0500
TZNAME:EST
DTSTART:20241103T060000
END:STANDARD
BEGIN:DAYLIGHT
TZOFFSETFROM:-0500
TZOFFSETTO:-0400
TZNAME:EDT
DTSTART:20250309T070000
END:DAYLIGHT
BEGIN:STANDARD
TZOFFSETFROM:-0400
TZOFFSETTO:-0500
TZNAME:EST
DTSTART:20251102T060000
END:STANDARD
END:VTIMEZONE
BEGIN:VEVENT
DTSTART;VALUE=DATE:20240202
DTEND;VALUE=DATE:20240225
DTSTAMP:20260425T190430
CREATED:20230923T185648Z
LAST-MODIFIED:20240201T152958Z
UID:10001131-1706832000-1708819199@delrayartisans.org
SUMMARY:Visible Touch: A Look at Texture at Del Ray Artisans Gallery
DESCRIPTION:Visible Touch: A Look at Texture Art Exhibit\nFebruary 2–24\, 2024\nOpening Reception: Friday\, February 2 from 7–9pm\nVideo Tour \nCome see the Visible Touch: A Look at Texture exhibit featuring works by local artists that explore texture through physical form and visual illusion. Join us for the opening reception on Friday\, February 2 between 7-9pm at Del Ray Artisans gallery to meet the curators and the artists and hear live guitar music by Bob Graboyes. Mark your calendar now or set a reminder through Eventbrite. \nTexture is one of the fundamental elements of art. In anticipation of how texture can prompt a desire to touch\, visitors are allowed to touch some of the art. (Pieces that allow touching are marked.) Artists have also shared statements on how they created the various textures. Enjoy the visual and the tactile experience of this exhibit! \nIn the mood to create? Drop-in to the free\, fun\, “I Likey” Card Making Party on Saturday\, February 3 between 4-8pm to make cards to benefit our nonprofit art organization. Donations appreciated for any cards you make that you are taking home. Come solo\, with friends or your Valentine. The event is open to all ages and skill levels. \nInterested in more hands-on activities? Register in advance for these creative workshops: \n\nNew Year\, New Flow: A Creative Reset Workshop on Thursday\, February 8\, 6-8pm\nPlaying with Resin Workshop on Monday\, February 12\, 6-9pm\nFlowers Everywhere Workshop on Saturday\, February 17\, 6-7:30pm\nCeramic Turtle Workshop on Saturday\, February 24\, 5-8pm\n\n“Floral Bust” by Lesley Hall\nDel Ray Artisans also offers many drop-in drawing programs (Life Drawing\, Del Ray Urban Sketchers\, and Nature Journaling Club). You may also RSVP to our Partners in Art artist support group or Creative Book Club. Details on all Del Ray Artisans programs can be found at DelRayArtisans.org/programs. \nThe Visible Touch: A Look at Texture exhibit runs February 2–24\, 2024 at Del Ray Artisans gallery in the Colasanto Center\, 2704 Mount Vernon Avenue\, Alexandria\, Virginia 22301. Gallery hours are Thursday 12-6pm\, Friday 12-9pm\, Saturday 12-6pm\, and Sunday 12-6pm (closed on February 25\, 2024). \nThe gallery is free\, open to the public\, and accessible. Del Ray Artisans\, a 501(3)(c) nonprofit organization whose mission is to promote art for the benefit of artists and the community. \nFor more information\, contact curators Dawn Wyse Hurto at dawnhurto@gmail.com and Lesley Hall at lesley.ruthless@gmail.com or Director of Curating Amy Kitchin Hower at curating@delrayartisans.org.
URL:https://delrayartisans.org/event/visible-touch/
LOCATION:Del Ray Artisans Gallery\, 2704 Mount Vernon Avenue\, Alexandria\, VA\, 22301\, United States
CATEGORIES:Art Exhibit,Del Ray Artisans Gallery
ATTACH;FMTTYPE=image/jpeg:https://delrayartisans.org/wp-content/uploads/2024/01/Floral-Bust-by-Lesley-Hall-square.jpg
ORGANIZER;CN="Dawn Wyse Hurto":MAILTO:dawnhurto@gmail.com
END:VEVENT
BEGIN:VEVENT
DTSTART;TZID=America/New_York:20240211T130000
DTEND;TZID=America/New_York:20240211T150000
DTSTAMP:20260425T190430
CREATED:20231110T185555Z
LAST-MODIFIED:20231110T185736Z
UID:10001257-1707656400-1707663600@delrayartisans.org
SUMMARY:Del Ray Urban Sketchers
DESCRIPTION:Del Ray Urban Sketchers operates on a drop-in basis and meets the second Sunday of most months at St. Elmo’s Coffee Pub in Del Ray. (Del Ray Urban Sketchers does not meet in July\, August\, and December.) Mark your calendar or set a reminder in Eventbrite. \nUrban sketchbooking emphasizes storytelling that conveys a sense of place or a moment in time through drawings completed from direct observations. \nBring your supplies and join us outside at the cafe to produce still life\, figure\, or architecture subjects in your sketchbook. Participants will spend some time putting their skills into practice and then reconvene for a review of finished works. \nThis program is FREE! Donations appreciated. Meet outside at St. Elmo’s Coffee Pub (2300 Mount Vernon Avenue\, Alexandria\, VA 22301). Contact the organizer\, Joan Bickelhaupt (joanbickelhaupt@gmail.com)\, with any questions. \nRSVP via Eventbrite | View Upcoming Dates \n\nArtwork credit: “Working Out (St. Elmo’s)” by Cathy Messina
URL:https://delrayartisans.org/event/urban-sketchers-2024/2024-02-11/
LOCATION:St. Elmo’s Coffee Pub\, 2300 Mount Vernon Avenue\, Alexandria\, VA\, 22301\, United States
CATEGORIES:Program,Urban Sketchers
ATTACH;FMTTYPE=image/jpeg:https://delrayartisans.org/wp-content/uploads/2020/07/Working-Out-St-Elmos-by-Cathy-Messina.jpg
ORGANIZER;CN="Joan Bickelhaupt":MAILTO:joanbickelhaupt@gmail.com
END:VEVENT
BEGIN:VEVENT
DTSTART;TZID=America/New_York:20240211T235900
DTEND;TZID=America/New_York:20240211T235900
DTSTAMP:20260425T190430
CREATED:20240117T002242Z
LAST-MODIFIED:20240117T002242Z
UID:10001341-1707695940-1707695940@delrayartisans.org
SUMMARY:Alcove Gift Shop Call for Artists Deadline
DESCRIPTION:Call for Artists ~ Open to Del Ray Artisans Members\nAlcove Gift Shop\nMarch 1 – April 27\, 2024\nApplication deadline: Sunday\, February 11\, 2024 by midnight\n \nDel Ray Artisans’ Alcove is a gift shop within the gallery\, where members (who apply and are accepted) display and sell their work. Unframed 2-D works are available in bins alongside jewelry\, fiber art\, wood craft\, ceramics\, and other smaller 3-D items. \nThe work will be displayed for two months\, and as pieces are sold they can be replaced with similar work for no additional fee. This opportunity is independent of the monthly exhibits and is only open to Del Ray Artisans members. If you are not a member\, you may join Del Ray Artisans now to enter. \nApplication Details & Form
URL:https://delrayartisans.org/event/alcove-mar-apr-2024-cfa-deadline/
LOCATION:Online
CATEGORIES:Entry Deadline
ATTACH;FMTTYPE=image/jpeg:https://delrayartisans.org/wp-content/uploads/2021/11/alcove-giftshop-square.jpg
ORGANIZER;CN="Stephen Lally":MAILTO:slallypottery@gmail.com
END:VEVENT
END:VCALENDAR